From mboxrd@z Thu Jan 1 00:00:00 1970 Return-Path: Received: from mails.dpdk.org (mails.dpdk.org [217.70.189.124]) by inbox.dpdk.org (Postfix) with ESMTP id 4986A466F6 for ; Thu, 8 May 2025 15:26:57 +0200 (CEST) Received: from mails.dpdk.org (localhost [127.0.0.1]) by mails.dpdk.org (Postfix) with ESMTP id 2F6934026C; Thu, 8 May 2025 15:26:57 +0200 (CEST) Received: from mail-ua1-f97.google.com (mail-ua1-f97.google.com [209.85.222.97]) by mails.dpdk.org (Postfix) with ESMTP id 29EA44026B for ; Thu, 8 May 2025 15:26:56 +0200 (CEST) Received: by mail-ua1-f97.google.com with SMTP id a1e0cc1a2514c-86feb84877aso269785241.3 for ; Thu, 08 May 2025 06:26:56 -0700 (PDT) DKIM-Signature: v=1; a=rsa-sha256; c=relaxed/relaxed; d=iol.unh.edu; s=unh-iol; t=1746710815; x=1747315615; darn=dpdk.org; h=references:in-reply-to:cc:to:from:subject:message-id:date:from:to :cc:subject:date:message-id:reply-to; bh=1YmqoQD36/bk7/1riPr/PIucSqe4dCS8UyWUxWwXKdY=; b=Pw7iBmZ+5ZRpdPb1wiF4ivzTF9G+2Pha36YjXPJi5QHfttetzEbgyyPNdDk23NDAnH D0Qk1OKEd3Kt+wcCyxKYLfMsPCiT16TpzgQUnC0yLdPEfNzmuyANUmE/rl18shCHKxpE /WwtozbyKAUQyzWrfcj7bQWlc/AKes3RTzOic= X-Google-DKIM-Signature: v=1; a=rsa-sha256; c=relaxed/relaxed; d=1e100.net; s=20230601; t=1746710815; x=1747315615; h=references:in-reply-to:cc:to:from:subject:message-id:date :x-gm-message-state:from:to:cc:subject:date:message-id:reply-to; bh=1YmqoQD36/bk7/1riPr/PIucSqe4dCS8UyWUxWwXKdY=; b=TwCeVx2By/vMM1yNJsWEFp19LIqAOkXQ7r741vPqEzva74rY+EIDYiFKUZJ1q0/6PT F15dFMpTWYncqBxWAYcRFs/fa50ywaIxM/Rz5+vVOMrzD0b8i3Tpb6N0jvWmitRrrISv qOTdsYLnI4LS6aep/bOGsagSJfZPA24uv8CvKEKWjiILTGw6b6Mj/g6FPaFjHush/g5R CauCfOuXpOJkDQMAtxSAROI3+g+3hiKWllrujNh7aeNQIAji9bjyXirwBlmkrXXmH2FE HptCWN3klNMdf3SC/RUzr1pZ8LIfFPhS91cWa/7VNzkTmAYh9wen2wPvh0VF5o7tKHEL 6ISw== X-Gm-Message-State: AOJu0Yw+CVEKz9HjUb+1LPtT3xp/mgYGbmleFLg8Il3EdOUB56hKxGLt HFPiiFnfBdi72nyuQGMFl4YPog0zwMZCzNmvlzyEjQJaxgsDuqir/yDsGuUHOc5dTtvR/Bg1sAE 6USMtiLIXT8tD/6sUpGTPudZO0Ql3p1bnrk8P5N3lwWsaMEzPidmYCSNu X-Gm-Gg: ASbGnctEkFo/HmkNbFNwXp7xXeoKf1bsytj463q3UVLW60FbDjmnWgNHO2+5gKjX+87 rPx97OmYRLUwrvkyQCGWg+LSvmbF1GlhfGdgkzasizstm6eCwBAWTYlmupLOdEELvguWvrS0t2B mK5qKwyL4agJCl3UHdLJPKAK9bh2aBM9P4Jcl39mw6D22Wuc/7UfCOeILKkF7q1J8+sLrUz+SNt +t/hZtFy2ThMBFHjymNfO8m9DjzVCeR3pg4405sasQ9YEMqLWusRQJ2aEv1H2ujh6tg3QWTWepf R/OOjEvSIc3W6bpoCoDRoLQ2LzPbVLKDjE07 X-Google-Smtp-Source: AGHT+IGtwaHvhu1fTmkluLNwH1WpAMKuk6oz93qPrRtcrZYkS9o3wrUf1D5Fd2yLOvxOveUa7QDOH9BTxPYJ X-Received: by 2002:a05:6102:5090:b0:4dd:ad20:a333 with SMTP id ada2fe7eead31-4ddad20abc1mr1940652137.10.1746710815422; Thu, 08 May 2025 06:26:55 -0700 (PDT) Received: from postal.iol.unh.edu (postal.iol.unh.edu. [2606:4100:3880:1234::84]) by smtp-relay.gmail.com with ESMTPS id 6a1803df08f44-6f5426200e5sm2392446d6.8.2025.05.08.06.26.55 (version=TLS1_2 cipher=ECDHE-ECDSA-AES128-GCM-SHA256 bits=128/128); Thu, 08 May 2025 06:26:55 -0700 (PDT) X-Relaying-Domain: iol.unh.edu Date: Thu, 08 May 2025 06:26:55 -0700 (PDT) Message-ID: <681cb11f.050a0220.433d3.d5f7SMTPIN_ADDED_MISSING@mx.google.com> Received: from [172.21.0.11] (unknown [172.18.0.240]) by postal.iol.unh.edu (Postfix) with ESMTP id D51B26052471; Thu, 8 May 2025 09:26:54 -0400 (EDT) Subject: |SUCCESS| pw153349 [PATCH] eal: warn if no lcore is available From: dpdklab@iol.unh.edu To: Test Report Cc: dpdk-test-reports@iol.unh.edu In-Reply-To: <20250508051915.226465-2-david.marchand@redhat.com> References: <20250508051915.226465-2-david.marchand@redhat.com> Content-Type: text/plain X-BeenThere: test-report@dpdk.org X-Mailman-Version: 2.1.29 Precedence: list List-Id: automatic DPDK test reports List-Unsubscribe: , List-Archive: List-Post: List-Help: List-Subscribe: , Errors-To: test-report-bounces@dpdk.org Test-Label: iol-compile-amd64-testing Test-Status: SUCCESS http://dpdk.org/patch/153349 _Testing PASS_ Submitter: David Marchand Date: Thursday, May 08 2025 05:19:15 DPDK git baseline: Repo:dpdk Branch: master CommitID:75f179ebe347b6098cf3af26d3d3b7168fe3fe24 153349 --> testing pass Upstream job id: Generic-VM-DPDK-Compile-Meson#35270 Test environment and result as below: +---------------------+--------------------+-------------------+ | Environment | dpdk_meson_compile | dpdk_msvc_compile | +=====================+====================+===================+ | Ubuntu 20.04 | PASS | SKIPPED | +---------------------+--------------------+-------------------+ | FreeBSD 13.5 | PASS | SKIPPED | +---------------------+--------------------+-------------------+ | FreeBSD 14.2 | PASS | SKIPPED | +---------------------+--------------------+-------------------+ | Windows Server 2022 | SKIPPED | PASS | +---------------------+--------------------+-------------------+ Ubuntu 20.04 Kernel: 4.19.325-0419325-generic Compiler: gcc (Ubuntu 9.4.0-1ubuntu1~20.04.2) 9.4.0 FreeBSD 13.5 Kernel: 13.5-RELEASE Compiler: clang 19.1.7 FreeBSD 14.2 Kernel: 14.2-RELEASE Compiler: clang 18.1.6 Windows Server 2022 Kernel: 10.0.20348.2031 Compiler: clang 15.0.7, gcc 14.1.0 (MinGW), and MSVC VS 19.39.33521 To view detailed results, visit: https://lab.dpdk.org/results/dashboard/patchsets/33138/ UNH-IOL DPDK Community Lab To manage your email subscriptions, visit: https://lab.dpdk.org/results/dashboard/preferences/subscriptions/