From mboxrd@z Thu Jan 1 00:00:00 1970 Return-Path: Received: from mails.dpdk.org (mails.dpdk.org [217.70.189.124]) by inbox.dpdk.org (Postfix) with ESMTP id B1BC0466F6 for ; Thu, 8 May 2025 15:31:20 +0200 (CEST) Received: from mails.dpdk.org (localhost [127.0.0.1]) by mails.dpdk.org (Postfix) with ESMTP id 9C6924026C; Thu, 8 May 2025 15:31:20 +0200 (CEST) Received: from mail-il1-f226.google.com (mail-il1-f226.google.com [209.85.166.226]) by mails.dpdk.org (Postfix) with ESMTP id 253DF4026B for ; Thu, 8 May 2025 15:31:20 +0200 (CEST) Received: by mail-il1-f226.google.com with SMTP id e9e14a558f8ab-3d80bbf3aefso3490755ab.1 for ; Thu, 08 May 2025 06:31:20 -0700 (PDT) DKIM-Signature: v=1; a=rsa-sha256; c=relaxed/relaxed; d=iol.unh.edu; s=unh-iol; t=1746711079; x=1747315879; darn=dpdk.org; h=references:in-reply-to:cc:to:from:subject:message-id:date:from:to :cc:subject:date:message-id:reply-to; bh=bxRMUK9HedS46WUtpNLVwnOw2XH30QNDfbT51GKpvHE=; b=GDgqhbghsBO/TWl9IfRupN1EJvqhedkuxnGGBEb3P4Arrv2fas8f4nTXyQhK0r9xMy VTn16si2A5jXaY0YtimvoGKGjmHlYzfpC8GYO5M9J7ybzPX87vbalbdjtKALb8/eDT3L G3/IFSXfk/UFdQJqd4Fqpd5Yuke5gqaDUfpMw= X-Google-DKIM-Signature: v=1; a=rsa-sha256; c=relaxed/relaxed; d=1e100.net; s=20230601; t=1746711079; x=1747315879; h=references:in-reply-to:cc:to:from:subject:message-id:date :x-gm-message-state:from:to:cc:subject:date:message-id:reply-to; bh=bxRMUK9HedS46WUtpNLVwnOw2XH30QNDfbT51GKpvHE=; b=kbmVwcG1d823fcPWPrOP34lt9UnHakwhHgsM+wi2tRdOqOfKAHgXN2EFgBGmxh4bTM G2x3Y5NA164Geg7kfxQAEeauGa20eXtAsdYFdgNNCF/XqG84cXvJY6x1r+zVjLT4cMt+ uBPp3aGZJevXHlfqo+/qwk2qzie56NPUjq8n2VH5fv4PjjnXXtvd7vHchOe7E9WwBgdq TJxR/bFhlkcC0VD+rTul1D541iuc4HssRfRSmEoqs2a99YVcYeHbn150NZd+HMfkRe1e kjG1+kXc4bwvVVRuwG2s6i8dQ3HLQgJjO0jgUQF/1aX93vSeigt/hyw5SqAbjJ1xrZyi DhJA== X-Gm-Message-State: AOJu0Ywq0P5MxCkjTIIAm5uYAfUzbHNilvlWKGS45FYab9KVwUR0KOm0 pkBapeGpv1vnbPGnmNKslZ/3eTCuh8QtldiLWHoGpXJ8g0hD37fIJ90fZ30Q3A+YCmZME66Y0oM SyOwV5GO5cYbBqadnXVD1Gq0gYAZmAOK4bGmYkV0I X-Gm-Gg: ASbGncuYmCWXUu3ic5x2f16Fnzdkc76l6voDQu0Azd8ZTKikT0YQYWbd/Cd7E7GrNgO qLadilE0nSibZc6LulOBiqwpf54QuzTV5Vwqs10z5UjT5MAo37HeMhNInzo4ciWKnHnz1bm/M/t bw/oSmC0u9tDgWtqKp8t3CbchpDA2Ui3015j0jzqjztH+eZr2feyCOsoW7arQZKcY8Wb+AbArFb mZ8R/YIOogeD60Fxa2KdYf3cUvrmcxZE5Gvi5XW0cJLKcdKuV0yNchZWUVECN02DDjvNAsIZx4o 3nfAgEWskoMq5RXt8/UsULhIuh3qfxhai47W6hsBu6YxF3iplnRCtT9U0xo= X-Google-Smtp-Source: AGHT+IHAn/K5yWTOBvwOgC6MF4gTjtzf8vL+y2NrbuOc8w37i14oOpmeRPlPcH/CYvzxpbJbqopeG0zDBxHn X-Received: by 2002:a05:6e02:2191:b0:3d4:2a4e:1272 with SMTP id e9e14a558f8ab-3da785a4f02mr43112365ab.19.1746711079093; Thu, 08 May 2025 06:31:19 -0700 (PDT) Received: from postal.iol.unh.edu (postal.iol.unh.edu. [132.177.123.84]) by smtp-relay.gmail.com with ESMTPS id e9e14a558f8ab-3d975f6cdf0sm24531845ab.47.2025.05.08.06.31.19 (version=TLS1_2 cipher=ECDHE-ECDSA-AES128-GCM-SHA256 bits=128/128); Thu, 08 May 2025 06:31:19 -0700 (PDT) X-Relaying-Domain: iol.unh.edu Date: Thu, 08 May 2025 06:31:19 -0700 (PDT) Message-ID: <681cb227.050a0220.2f8a15.8c82SMTPIN_ADDED_MISSING@mx.google.com> Received: from [172.21.0.6] (unknown [172.18.0.240]) by postal.iol.unh.edu (Postfix) with ESMTP id 594766052471; Thu, 8 May 2025 09:31:18 -0400 (EDT) Subject: |SUCCESS| pw153356-153358 [PATCH] [v7,3/3] app/testpmd: add sleep co From: dpdklab@iol.unh.edu To: Test Report Cc: dpdk-test-reports@iol.unh.edu In-Reply-To: <6334aba24959371cc7c6f4290869698f0ad57bc1.1746698489.git.anatoly.burakov@intel.com> References: <6334aba24959371cc7c6f4290869698f0ad57bc1.1746698489.git.anatoly.burakov@intel.com> Content-Type: text/plain X-BeenThere: test-report@dpdk.org X-Mailman-Version: 2.1.29 Precedence: list List-Id: automatic DPDK test reports List-Unsubscribe: , List-Archive: List-Post: List-Help: List-Subscribe: , Errors-To: test-report-bounces@dpdk.org Test-Label: iol-compile-amd64-testing Test-Status: SUCCESS http://dpdk.org/patch/153358 _Testing PASS_ Submitter: Anatoly Burakov Date: Thursday, May 08 2025 10:01:38 DPDK git baseline: Repo:dpdk Branch: master CommitID:75f179ebe347b6098cf3af26d3d3b7168fe3fe24 153356-153358 --> testing pass Upstream job id: Generic-VM-DPDK-Compile-Meson#35273 Test environment and result as below: +--------------+--------------------+ | Environment | dpdk_meson_compile | +==============+====================+ | Ubuntu 20.04 | PASS | +--------------+--------------------+ | FreeBSD 13.5 | PASS | +--------------+--------------------+ | FreeBSD 14.2 | PASS | +--------------+--------------------+ Ubuntu 20.04 Kernel: 4.19.325-0419325-generic Compiler: gcc (Ubuntu 9.4.0-1ubuntu1~20.04.2) 9.4.0 FreeBSD 13.5 Kernel: 13.5-RELEASE Compiler: clang 19.1.7 FreeBSD 14.2 Kernel: 14.2-RELEASE Compiler: clang 18.1.6 To view detailed results, visit: https://lab.dpdk.org/results/dashboard/patchsets/33142/ UNH-IOL DPDK Community Lab To manage your email subscriptions, visit: https://lab.dpdk.org/results/dashboard/preferences/subscriptions/