From mboxrd@z Thu Jan 1 00:00:00 1970 Return-Path: Received: from mails.dpdk.org (mails.dpdk.org [217.70.189.124]) by inbox.dpdk.org (Postfix) with ESMTP id 41B11466F6 for ; Thu, 8 May 2025 15:34:23 +0200 (CEST) Received: from mails.dpdk.org (localhost [127.0.0.1]) by mails.dpdk.org (Postfix) with ESMTP id F074C4026C; Thu, 8 May 2025 15:34:22 +0200 (CEST) Received: from mail-qv1-f99.google.com (mail-qv1-f99.google.com [209.85.219.99]) by mails.dpdk.org (Postfix) with ESMTP id 404FD4026B for ; Thu, 8 May 2025 15:34:22 +0200 (CEST) Received: by mail-qv1-f99.google.com with SMTP id 6a1803df08f44-6ecf99dd567so13667606d6.0 for ; Thu, 08 May 2025 06:34:22 -0700 (PDT) DKIM-Signature: v=1; a=rsa-sha256; c=relaxed/relaxed; d=iol.unh.edu; s=unh-iol; t=1746711261; x=1747316061; darn=dpdk.org; h=references:in-reply-to:cc:to:from:subject:message-id:date:from:to :cc:subject:date:message-id:reply-to; bh=S56A9fy9EMXR5RdTBNUACpHbR8ZnGyDYyCockwyjhHg=; b=ApLX7HeRlBOd1MWKETwjzi4ap0I3hMQHr+R2sHsOQyfeyeyckcdFCWjg+cuibkmL8Y OnTPGc9CQ3RBV+1G+cMLKuhNUAC/sNOxrm9yY2Z9WfpLgsQCaTNFBPSz7vszk7M1jokd /qsOQ7UIA05BsOQZJfBYlUnhGPlWdpnjXV23U= X-Google-DKIM-Signature: v=1; a=rsa-sha256; c=relaxed/relaxed; d=1e100.net; s=20230601; t=1746711261; x=1747316061; h=references:in-reply-to:cc:to:from:subject:message-id:date :x-gm-message-state:from:to:cc:subject:date:message-id:reply-to; bh=S56A9fy9EMXR5RdTBNUACpHbR8ZnGyDYyCockwyjhHg=; b=ug5jh8qrPfC+DxL5H6FoUQefR0hLF933qbDFITxrFKkIPxzvfc9OfRMZd85EMfFEDs EC1WJzIebrG1QGKMAIq2dNl3XNYHNJ3CVe4mxFCVKG+gma9npWuQ49jd4MJ3JfYpJTPV cxRyu6O7Xf/spZUPKO6QTZERO0YfuSLumZSgrpBCAGKavnw4IiPzOIDMmjZTbwORlcOs BPgmz2VNGHJKoSikGqOuWx6JHgybrhzaSgKKKet4qrpxZRHFnS6LZ0osIMZVdC4XlH9H tC1VYT/JapFJkAWreRQ32DdGiB9Go7I5tR0oLSyzgHoOCKhmlN2fSBev+r6KQRRarEkf b/oA== X-Gm-Message-State: AOJu0YyZSJ3UdVmXYIZgkS+8UtB5NXwTTZDw4UPvPmDkDvS0DIgGQ1dL FwG5OJUH5xR50PMk+zZGFoR3NMr4MgLGt6Fb2UyP7BHuOF68IFh3yL1vhRLkCgoVfSoD7WIGJ0T GnKTNbsYYVhQssS2tN7hNQYSMmDVluZqYW2XL8YUUHEgYaR/QLFX6Rj41 X-Gm-Gg: ASbGncu8mfK4aadARBRRqwyLHIVtwS2q4rSCve0U+pkPsPzRY/ZMb6XFWrEzlF8tyNB QLkh4cVNeSKOl4nNe9IHhImGoO/ddmTTIj2r68AGscjzKWO0g7UyLfo78qdD2FFPDA2bNAyC67Z qtl1cftFKHe1mB0vyqQ7zI9rGKKqbwlnv0HVV/qpfXwEtlxSa+jvKGBaXg6LU22CIX6sqJhi3wO INgu0iupXZwhYNLunH48NVCTpnficcSnaSHzuq1S885cGNnOs0bd/J4nyrztYkJH+Vc1v2TTcIg 3ciNEP70+J55PSs2n2eDMlcqiosqy4OBRphr X-Google-Smtp-Source: AGHT+IFjXFyOEtlHRtvm9O+9akrMTnoJe7D2hTdguwJ9/1chlZK4Szu9SDy75iJzPBUeqqRv46dI2jqwE3Yh X-Received: by 2002:a05:6214:27e5:b0:6ea:d629:f47d with SMTP id 6a1803df08f44-6f54c4ac1famr44167686d6.44.1746711261512; Thu, 08 May 2025 06:34:21 -0700 (PDT) Received: from postal.iol.unh.edu (postal.iol.unh.edu. [2606:4100:3880:1234::84]) by smtp-relay.gmail.com with ESMTPS id 6a1803df08f44-6f5429fef5dsm2471436d6.45.2025.05.08.06.34.21 (version=TLS1_2 cipher=ECDHE-ECDSA-AES128-GCM-SHA256 bits=128/128); Thu, 08 May 2025 06:34:21 -0700 (PDT) X-Relaying-Domain: iol.unh.edu Date: Thu, 08 May 2025 06:34:21 -0700 (PDT) Message-ID: <681cb2dd.050a0220.729a5.d33dSMTPIN_ADDED_MISSING@mx.google.com> Received: from [172.21.0.5] (unknown [172.18.0.240]) by postal.iol.unh.edu (Postfix) with ESMTP id E0BE46052471; Thu, 8 May 2025 09:34:20 -0400 (EDT) Subject: |SUCCESS| pw153351-153352 [PATCH] [2/2] crypto/uadk: use async mode From: dpdklab@iol.unh.edu To: Test Report Cc: dpdk-test-reports@iol.unh.edu In-Reply-To: <20250508074119.356011-3-zhangfei.gao@linaro.org> References: <20250508074119.356011-3-zhangfei.gao@linaro.org> Content-Type: text/plain X-BeenThere: test-report@dpdk.org X-Mailman-Version: 2.1.29 Precedence: list List-Id: automatic DPDK test reports List-Unsubscribe: , List-Archive: List-Post: List-Help: List-Subscribe: , Errors-To: test-report-bounces@dpdk.org Test-Label: iol-unit-arm64-testing Test-Status: SUCCESS http://dpdk.org/patch/153352 _Testing PASS_ Submitter: Zhangfei Gao Date: Thursday, May 08 2025 07:41:19 DPDK git baseline: Repo:dpdk Branch: master CommitID:ca1690ebd224f148268285b15b97441ccdbdd07e 153351-153352 --> testing pass Upstream job id: Generic-Unit-Test-DPDK#336508 Test environment and result as below: +-----------------------------+--------------+---------------------------+------------------------------+----------------+ | Environment | lpm_autotest | cryptodev_sw_zuc_autotest | cryptodev_sw_snow3g_autotest | dpdk_unit_test | +=============================+==============+===========================+==============================+================+ | Ubuntu 20.04 ARM SVE | PASS | SKIPPED | SKIPPED | SKIPPED | +-----------------------------+--------------+---------------------------+------------------------------+----------------+ | Debian 12 (arm) | SKIPPED | PASS | PASS | PASS | +-----------------------------+--------------+---------------------------+------------------------------+----------------+ | CentOS Stream 9 (ARM) | SKIPPED | SKIPPED | SKIPPED | PASS | +-----------------------------+--------------+---------------------------+------------------------------+----------------+ | Fedora 40 (ARM) | SKIPPED | SKIPPED | SKIPPED | PASS | +-----------------------------+--------------+---------------------------+------------------------------+----------------+ | Fedora 41 (ARM) | SKIPPED | SKIPPED | SKIPPED | PASS | +-----------------------------+--------------+---------------------------+------------------------------+----------------+ | CentOS Stream 10 (ARM) | SKIPPED | SKIPPED | SKIPPED | PASS | +-----------------------------+--------------+---------------------------+------------------------------+----------------+ | Fedora 40 (ARM Clang) | SKIPPED | SKIPPED | SKIPPED | PASS | +-----------------------------+--------------+---------------------------+------------------------------+----------------+ | Fedora 41 (ARM Clang) | SKIPPED | SKIPPED | SKIPPED | PASS | +-----------------------------+--------------+---------------------------+------------------------------+----------------+ | RHEL9 (ARM) | SKIPPED | SKIPPED | SKIPPED | PASS | +-----------------------------+--------------+---------------------------+------------------------------+----------------+ | Ubuntu 24.04 (ARM) | SKIPPED | SKIPPED | SKIPPED | PASS | +-----------------------------+--------------+---------------------------+------------------------------+----------------+ | Ubuntu 20.04 (ARM) | SKIPPED | SKIPPED | SKIPPED | PASS | +-----------------------------+--------------+---------------------------+------------------------------+----------------+ | Ubuntu 22.04 (ARM) | SKIPPED | SKIPPED | SKIPPED | PASS | +-----------------------------+--------------+---------------------------+------------------------------+----------------+ | 32-bit Ubuntu 22.04.4 (ARM) | SKIPPED | SKIPPED | SKIPPED | PASS | +-----------------------------+--------------+---------------------------+------------------------------+----------------+ Ubuntu 20.04 ARM SVE Kernel: Depends on container host Compiler: gcc (Ubuntu 10.5.0-1ubuntu1~20.04) 10.5.0 Debian 12 (arm) Kernel: Depends on container host Compiler: gcc (Debian 12.2.0-14) 12.2.0 CentOS Stream 9 (ARM) Kernel: Depends on container host Compiler: gcc 11.5.0 20240719 (Red Hat 11.5.0-2) Fedora 40 (ARM) Kernel: Depends on container host Compiler: gcc 14.2.1 20240912 (Red Hat 14.2.1-3) Fedora 41 (ARM) Kernel: Depends on container host Compiler: gcc 14.2.1 20240912 (Red Hat 14.2.1-3) CentOS Stream 10 (ARM) Kernel: Depends on container host Compiler: gcc 14.2.1 20241104 (Red Hat 14.2.1-6) Fedora 40 (ARM Clang) Kernel: Depends on container host Compiler: clang 18.1.8 (Fedora 18.1.8-1.fc40) Fedora 41 (ARM Clang) Kernel: Depends on container host Compiler: clang 19.1.5 (Fedora 19.1.5-1.fc41) RHEL9 (ARM) Kernel: Depends on container host Compiler: gcc 11.5.0 20240719 (Red Hat 11.5.0-2) Ubuntu 24.04 (ARM) Kernel: Depends on container host Compiler: gcc (Ubuntu 13.3.0-6ubuntu2~24.04) 13.3.0 Ubuntu 20.04 (ARM) Kernel: Depends on container host Compiler: gcc (Ubuntu 9.4.0-1ubuntu1~20.04.2) 9.4.0 Ubuntu 22.04 (ARM) Kernel: Depends on container host Compiler: gcc (Ubuntu 11.4.0-1ubuntu1~22.04) 11.4.0 32-bit Ubuntu 22.04.4 (ARM) Kernel: 5.15.83+ aarch64 Compiler: gcc (Ubuntu 11.4.0-1ubuntu1~22.04) 11.4.0 To view detailed results, visit: https://lab.dpdk.org/results/dashboard/patchsets/33140/ UNH-IOL DPDK Community Lab To manage your email subscriptions, visit: https://lab.dpdk.org/results/dashboard/preferences/subscriptions/