From mboxrd@z Thu Jan 1 00:00:00 1970 Return-Path: Received: from mails.dpdk.org (mails.dpdk.org [217.70.189.124]) by inbox.dpdk.org (Postfix) with ESMTP id A2428466F6 for ; Thu, 8 May 2025 15:40:50 +0200 (CEST) Received: from mails.dpdk.org (localhost [127.0.0.1]) by mails.dpdk.org (Postfix) with ESMTP id 7FDE04026C; Thu, 8 May 2025 15:40:50 +0200 (CEST) Received: from mail-pl1-f227.google.com (mail-pl1-f227.google.com [209.85.214.227]) by mails.dpdk.org (Postfix) with ESMTP id A25DC4026B for ; Thu, 8 May 2025 15:40:49 +0200 (CEST) Received: by mail-pl1-f227.google.com with SMTP id d9443c01a7336-22e09f57ed4so22818485ad.0 for ; Thu, 08 May 2025 06:40:49 -0700 (PDT) DKIM-Signature: v=1; a=rsa-sha256; c=relaxed/relaxed; d=iol.unh.edu; s=unh-iol; t=1746711648; x=1747316448; darn=dpdk.org; h=references:in-reply-to:cc:to:from:subject:message-id:date:from:to :cc:subject:date:message-id:reply-to; bh=arGo3CJvBTTKGQ0lVxk/DzRvKAgKdF8ZrHB67JB1cFs=; b=imReEaKTjmNKgK0UQv8oebVENnYkFnVP4TYNK/GQZl1rhMFSitz2xxLe4U8e9fNyMC 6AvjIHyu9Uzjkqr3QhWur2VhozwGJP/E0rGG/2mXju16/Bcme3mogofF9c1HZReuMEY1 QFNCbPmQbv9evoMAZ7q/RNcpLg3L+KFM7Iciw= X-Google-DKIM-Signature: v=1; a=rsa-sha256; c=relaxed/relaxed; d=1e100.net; s=20230601; t=1746711648; x=1747316448; h=references:in-reply-to:cc:to:from:subject:message-id:date :x-gm-message-state:from:to:cc:subject:date:message-id:reply-to; bh=arGo3CJvBTTKGQ0lVxk/DzRvKAgKdF8ZrHB67JB1cFs=; b=lu4xN/pb4mMaseofp+xo3ftcV7AmBBrqdUZbkc1323czEM5/+QBVzV6AiJGLRozkB8 BRX5WWgB5YKpbnaelFgDUMGHMjJ2zo2fhXSLQrbNo63Oe1ljg8M3lDNzvY/1HdUDZb3y Qd2doVlWatcmw9zS8a2wpG4yhWDCNWKVdjtE3KBpyW4/qryL4ue9IRNlr6wCGn5p0iXh itsADx0YGB8IMyIyijBnUzqk6+ldnqMMPsoG5C3VEOfRQ/y3ZKPFyXM66/P/3ipwnkBW MPo24V07Zik9RvSXPaLuXA1i+fidmQVZS+iRbA6GOGiIL3l/ciF/XRzMKaYrKd+0qmUk UUJA== X-Gm-Message-State: AOJu0YwMFDkmFnJPvLi5k7W0h6uRlgaeleImkb7D4pNCV7DYv+9KsUsH FYAtQQFCWJuuFVVTD1HXEWeZmjK3djP1ioXJTFkehTP2nAp7OFaIof/GqyxGzQa0lbblSegEoGh ujfXfUCimT97iu3Ofv+2p7ofojF2lO6OxeHqTKkHh X-Gm-Gg: ASbGncu1/tsGOrSnpPet/cGmoBiFIp3SILHwX4MfCkO5+FF1qqW6B4YTt/g4ODto1nc vEoXzxAcFzaV1U+hEZiaiI+UrXlYKOVnq3Mb3f6cUnPX0S95MxHM7e/r+ga/E4QbqxO6Gr/Wdi7 cWkv7p7AqduWyYE+S7uRXSvsCKBKYw0+d2As6A9TjkFM0OOHBpvTF7GG3aHTomD31+ArUqfTakA qeLZHfSpzqC+Adll9zoJthUM2SdiBFFTSsY0pKhgpoB924A5brrHQsBQCwwpL9fcKZCG8WABTDB 7IqaRlNl0M4qZObXRcskozxHgMmCjYi8hzpo9daO1LSqh4ec2ZgUCYU8JeI= X-Google-Smtp-Source: AGHT+IEaly0CbTzJw6am31o5Mk72axXk/Uk2OIEK06Uk8wteDti+CK48ir/fjvK3RyHDy67r1xZ4bT6qliA/ X-Received: by 2002:a17:903:1c8:b0:225:abd2:5e5a with SMTP id d9443c01a7336-22e846e04d9mr49552925ad.4.1746711648394; Thu, 08 May 2025 06:40:48 -0700 (PDT) Received: from postal.iol.unh.edu (postal.iol.unh.edu. [132.177.123.84]) by smtp-relay.gmail.com with ESMTPS id d9443c01a7336-22e1523b831sm19155495ad.125.2025.05.08.06.40.48 (version=TLS1_2 cipher=ECDHE-ECDSA-AES128-GCM-SHA256 bits=128/128); Thu, 08 May 2025 06:40:48 -0700 (PDT) X-Relaying-Domain: iol.unh.edu Date: Thu, 08 May 2025 06:40:48 -0700 (PDT) Message-ID: <681cb460.170a0220.bf51f.fa05SMTPIN_ADDED_MISSING@mx.google.com> Received: from [172.21.0.5] (unknown [172.18.0.240]) by postal.iol.unh.edu (Postfix) with ESMTP id 4C1BA6052471; Thu, 8 May 2025 09:40:47 -0400 (EDT) Subject: |SUCCESS| pw153351-153352 [PATCH] [2/2] crypto/uadk: use async mode From: dpdklab@iol.unh.edu To: Test Report Cc: dpdk-test-reports@iol.unh.edu In-Reply-To: <20250508074119.356011-3-zhangfei.gao@linaro.org> References: <20250508074119.356011-3-zhangfei.gao@linaro.org> Content-Type: text/plain X-BeenThere: test-report@dpdk.org X-Mailman-Version: 2.1.29 Precedence: list List-Id: automatic DPDK test reports List-Unsubscribe: , List-Archive: List-Post: List-Help: List-Subscribe: , Errors-To: test-report-bounces@dpdk.org Test-Label: iol-unit-amd64-testing Test-Status: SUCCESS http://dpdk.org/patch/153352 _Testing PASS_ Submitter: Zhangfei Gao Date: Thursday, May 08 2025 07:41:19 DPDK git baseline: Repo:dpdk Branch: master CommitID:ca1690ebd224f148268285b15b97441ccdbdd07e 153351-153352 --> testing pass Upstream job id: Generic-VM-Unit-Test-DPDK#28413 Test environment and result as below: +---------------------+----------------+ | Environment | dpdk_unit_test | +=====================+================+ | CentOS Stream 10 | PASS | +---------------------+----------------+ | Debian 12 | PASS | +---------------------+----------------+ | CentOS Stream 9 | PASS | +---------------------+----------------+ | Fedora 41 | PASS | +---------------------+----------------+ | Fedora 41 (Clang) | PASS | +---------------------+----------------+ | Fedora 40 | PASS | +---------------------+----------------+ | Fedora 40 (Clang) | PASS | +---------------------+----------------+ | RHEL9 | PASS | +---------------------+----------------+ | RHEL8 | PASS | +---------------------+----------------+ | Ubuntu 20.04 | PASS | +---------------------+----------------+ | Ubuntu 24.04 | PASS | +---------------------+----------------+ | Ubuntu 22.04 | PASS | +---------------------+----------------+ | Windows Server 2022 | PASS | +---------------------+----------------+ CentOS Stream 10 Kernel: Depends on container host Compiler: gcc 14.2.1 20241104 (Red Hat 14.2.1-6) Debian 12 Kernel: Depends on container host Compiler: gcc (Debian 12.2.0-14) 12.2.0 CentOS Stream 9 Kernel: Depends on container host Compiler: gcc 11.5.0 20240719 (Red Hat 11.5.0-2) Fedora 41 Kernel: Depends on container host Compiler: gcc 14.2.1 20240912 (Red Hat 14.2.1-3) Fedora 41 (Clang) Kernel: Depends on container host Compiler: clang 19.1.5 (Fedora 19.1.5-1.fc41) Fedora 40 Kernel: Depends on container host Compiler: gcc 14.2.1 20240912 (Red Hat 14.2.1-3) Fedora 40 (Clang) Kernel: Depends on container host Compiler: clang 18.1.8 (Fedora 18.1.8-1.fc40) RHEL9 Kernel: Depends on container host Compiler: gcc 11.5.0 20240719 (Red Hat 11.5.0-2) RHEL8 Kernel: Depends on container host Compiler: gcc 8.5.0 20210514 (Red Hat 8.5.0-22) Ubuntu 20.04 Kernel: Depends on container host Compiler: gcc (Ubuntu 9.4.0-1ubuntu1~20.04.2) 9.4.0 Ubuntu 24.04 Kernel: Depends on container host Compiler: gcc (Ubuntu 13.3.0-6ubuntu2~24.04) 13.3.0 Ubuntu 22.04 Kernel: Depends on container host Compiler: gcc (Ubuntu 11.4.0-1ubuntu1~22.04) 11.4.0 Windows Server 2022 Kernel: 10.0.20348.2031 Compiler: clang 15.0.7, gcc 14.1.0 (MinGW), and MSVC VS 19.39.33521 To view detailed results, visit: https://lab.dpdk.org/results/dashboard/patchsets/33140/ UNH-IOL DPDK Community Lab To manage your email subscriptions, visit: https://lab.dpdk.org/results/dashboard/preferences/subscriptions/