From mboxrd@z Thu Jan 1 00:00:00 1970 Return-Path: Received: from mails.dpdk.org (mails.dpdk.org [217.70.189.124]) by inbox.dpdk.org (Postfix) with ESMTP id CA219466F6 for ; Thu, 8 May 2025 15:53:04 +0200 (CEST) Received: from mails.dpdk.org (localhost [127.0.0.1]) by mails.dpdk.org (Postfix) with ESMTP id B01614026C; Thu, 8 May 2025 15:53:04 +0200 (CEST) Received: from mail-qk1-f227.google.com (mail-qk1-f227.google.com [209.85.222.227]) by mails.dpdk.org (Postfix) with ESMTP id 9BCC64026B for ; Thu, 8 May 2025 15:53:03 +0200 (CEST) Received: by mail-qk1-f227.google.com with SMTP id af79cd13be357-7c5b2472969so104212785a.1 for ; Thu, 08 May 2025 06:53:03 -0700 (PDT) DKIM-Signature: v=1; a=rsa-sha256; c=relaxed/relaxed; d=iol.unh.edu; s=unh-iol; t=1746712383; x=1747317183; darn=dpdk.org; h=references:in-reply-to:cc:to:from:subject:message-id:date:from:to :cc:subject:date:message-id:reply-to; bh=e6FBVnn93osfvojd1M78RrisThZvQ/IlVB4Se4xoEak=; b=RW6227YnVCzT7ZgnDyf8ZnZzcwMgoBqjnhUBkjfNrMtdHLkI/9lCtd5H82IXVbzhpL UaPTmxosvLocz43nbCp6yQCfyAYf3choLOBowK5QjjFLvvzhC/Q/2WW88KayD5vx+0PV hugzW01jbKmMHefs4Mb/jN1bFmyqc5fEZB8L0= X-Google-DKIM-Signature: v=1; a=rsa-sha256; c=relaxed/relaxed; d=1e100.net; s=20230601; t=1746712383; x=1747317183; h=references:in-reply-to:cc:to:from:subject:message-id:date :x-gm-message-state:from:to:cc:subject:date:message-id:reply-to; bh=e6FBVnn93osfvojd1M78RrisThZvQ/IlVB4Se4xoEak=; b=ovd4eQTA/pckjTHmKCTo6Rr/PZ1sZBZwIk6faL8CptejuNUlDxbL3DQLwmhqGAeSD2 VyfA/hYDuvNqV0ZxIoCDS7/eWtiDIesGxMl0BC0u59gcQzEmDlTISzKv3xn0hhiBDNX6 8F660eDCHZRNhGj4Hin6bgZMPuuyxi4cBzU3/Q2+KUUoa5kzu8N+TghuqhOq+1s8F9tg /Tnyv4AcI3gsDqYM/kEBbse8diyg3q7WEY0xQTe6SXRuT0O/sTP5JuHDPcVMHGIfVmnK BmYMpnPaZqtroEF8bsfUDjet8P6vbFLxkHKqFWcFW6cTz514UHtYHO3No2ToNAVnu8Dc JNBA== X-Gm-Message-State: AOJu0Yybo5Rqvmhd2/w/RRuSkMOKeVafXGDKQDftFXQOpMc/s0dLjqct aWkyF4preSTWxkM4mQQKZrWO4ZJpEGnJes5ElNZ0AcbsReNlTVQFRdh4OLOTD5LqVtvPzaQSn0G r4T8TcbbFJZUB6Q+dUKuDEvrDtiWurQ7zJmpfsnQQ X-Gm-Gg: ASbGnct7+0B4pVnjI1ZxkD+pIM+x6Dxpm2EaDmSv5hJS8Lu7q7WmbkVeT+YjbFB7dcR MwdGAPd1uoKjWkrU16+N8FtFKqnQs+IhUWvq2ZmvBtOKAI4soeM4rzBIDZeo45KwZ0LtdUa5AHh qu1OR0WZGade+5+WmTgV+2eb1Zp4+rjV3EsLAZuVWHqIVpj+7bsZh5RF4EmkWFPZmsvs3srT5Vc 4QZ30sarzc04mZxaTDiMQx6iOR3F7YYzzOoB6pZRP7aYHo8RPUf9uOmrGc/nKYg70qkgXv26Tsu nAgNDXM4arq0gQTnvDRgS2/715AMM4rIjRI5+DetWsAzzvRZYYC2ysSfvXU= X-Google-Smtp-Source: AGHT+IGA8/2xfjhBJ83gFGKyNS1d4XBKxGddTUmAwDTEAFQjdn5P0VnCPGruHJoWJskJALQdf4ZDUwBh7XkF X-Received: by 2002:a05:6e02:1529:b0:3d8:2085:a188 with SMTP id e9e14a558f8ab-3da738ee4eemr87217905ab.1.1746712372694; Thu, 08 May 2025 06:52:52 -0700 (PDT) Received: from postal.iol.unh.edu (postal.iol.unh.edu. [132.177.123.84]) by smtp-relay.gmail.com with ESMTPS id 8926c6da1cb9f-4f88a9140eesm2249798173.26.2025.05.08.06.52.52 (version=TLS1_2 cipher=ECDHE-ECDSA-AES128-GCM-SHA256 bits=128/128); Thu, 08 May 2025 06:52:52 -0700 (PDT) X-Relaying-Domain: iol.unh.edu Date: Thu, 08 May 2025 06:52:52 -0700 (PDT) Message-ID: <681cb734.050a0220.3cc551.0150SMTPIN_ADDED_MISSING@mx.google.com> Received: from [172.21.0.5] (unknown [172.18.0.240]) by postal.iol.unh.edu (Postfix) with ESMTP id 06D666052471; Thu, 8 May 2025 09:52:52 -0400 (EDT) Subject: |SUCCESS| pw153348 [PATCH] build: fix disabling developer mode From: dpdklab@iol.unh.edu To: Test Report Cc: dpdk-test-reports@iol.unh.edu In-Reply-To: <20250508044230.133966-1-david.marchand@redhat.com> References: <20250508044230.133966-1-david.marchand@redhat.com> Content-Type: text/plain X-BeenThere: test-report@dpdk.org X-Mailman-Version: 2.1.29 Precedence: list List-Id: automatic DPDK test reports List-Unsubscribe: , List-Archive: List-Post: List-Help: List-Subscribe: , Errors-To: test-report-bounces@dpdk.org Test-Label: iol-compile-amd64-testing Test-Status: SUCCESS http://dpdk.org/patch/153348 _Testing PASS_ Submitter: David Marchand Date: Thursday, May 08 2025 04:42:29 DPDK git baseline: Repo:dpdk Branch: master CommitID:4029c5e3f2c6e950e8579be2401dab12e4209d53 153348 --> testing pass Upstream job id: Generic-DPDK-Compile-Meson#386435 Test environment and result as below: +-----------------------------------+--------------------+-------------------+-------------------+------------------+-------------------------+----------------------+ | Environment | dpdk_meson_compile | dpdk_msvc_compile | dpdk_compile_spdk | dpdk_compile_ovs | dpdk_llvm_clang_compile | dpdk_mingw64_compile | +===================================+====================+===================+===================+==================+=========================+======================+ | Ubuntu 20.04 | PASS | SKIPPED | SKIPPED | SKIPPED | SKIPPED | SKIPPED | +-----------------------------------+--------------------+-------------------+-------------------+------------------+-------------------------+----------------------+ | FreeBSD 13.5 | PASS | SKIPPED | SKIPPED | SKIPPED | SKIPPED | SKIPPED | +-----------------------------------+--------------------+-------------------+-------------------+------------------+-------------------------+----------------------+ | FreeBSD 14.2 | PASS | SKIPPED | SKIPPED | SKIPPED | SKIPPED | SKIPPED | +-----------------------------------+--------------------+-------------------+-------------------+------------------+-------------------------+----------------------+ | CentOS Stream 9 | PASS | SKIPPED | PASS | SKIPPED | SKIPPED | SKIPPED | +-----------------------------------+--------------------+-------------------+-------------------+------------------+-------------------------+----------------------+ | CentOS Stream 10 | PASS | SKIPPED | SKIPPED | SKIPPED | SKIPPED | SKIPPED | +-----------------------------------+--------------------+-------------------+-------------------+------------------+-------------------------+----------------------+ | Debian 12 | PASS | SKIPPED | PASS | SKIPPED | SKIPPED | SKIPPED | +-----------------------------------+--------------------+-------------------+-------------------+------------------+-------------------------+----------------------+ | Fedora 40 (Clang) | PASS | SKIPPED | PASS | SKIPPED | SKIPPED | SKIPPED | +-----------------------------------+--------------------+-------------------+-------------------+------------------+-------------------------+----------------------+ | Fedora 40 | PASS | SKIPPED | PASS | SKIPPED | SKIPPED | SKIPPED | +-----------------------------------+--------------------+-------------------+-------------------+------------------+-------------------------+----------------------+ | Fedora 41 (Clang) | PASS | SKIPPED | PASS | PASS | SKIPPED | SKIPPED | +-----------------------------------+--------------------+-------------------+-------------------+------------------+-------------------------+----------------------+ | Fedora 41 | PASS | SKIPPED | PASS | PASS | SKIPPED | SKIPPED | +-----------------------------------+--------------------+-------------------+-------------------+------------------+-------------------------+----------------------+ | openSUSE Leap 15 | PASS | SKIPPED | SKIPPED | SKIPPED | SKIPPED | SKIPPED | +-----------------------------------+--------------------+-------------------+-------------------+------------------+-------------------------+----------------------+ | RHEL8 | PASS | SKIPPED | SKIPPED | SKIPPED | SKIPPED | SKIPPED | +-----------------------------------+--------------------+-------------------+-------------------+------------------+-------------------------+----------------------+ | RHEL9 | PASS | SKIPPED | SKIPPED | SKIPPED | SKIPPED | SKIPPED | +-----------------------------------+--------------------+-------------------+-------------------+------------------+-------------------------+----------------------+ | Ubuntu 22.04 | PASS | SKIPPED | PASS | SKIPPED | SKIPPED | SKIPPED | +-----------------------------------+--------------------+-------------------+-------------------+------------------+-------------------------+----------------------+ | Ubuntu 24.04 | PASS | SKIPPED | PASS | PASS | SKIPPED | SKIPPED | +-----------------------------------+--------------------+-------------------+-------------------+------------------+-------------------------+----------------------+ | Alpine | PASS | SKIPPED | SKIPPED | SKIPPED | SKIPPED | SKIPPED | +-----------------------------------+--------------------+-------------------+-------------------+------------------+-------------------------+----------------------+ | Ubuntu 24.04 32 Bit Cross Compile | PASS | SKIPPED | SKIPPED | SKIPPED | SKIPPED | SKIPPED | +-----------------------------------+--------------------+-------------------+-------------------+------------------+-------------------------+----------------------+ | Windows Server 2022 | SKIPPED | PASS | SKIPPED | SKIPPED | PASS | PASS | +-----------------------------------+--------------------+-------------------+-------------------+------------------+-------------------------+----------------------+ Ubuntu 20.04 Kernel: 4.19.325-0419325-generic Compiler: gcc (Ubuntu 9.4.0-1ubuntu1~20.04.2) 9.4.0 FreeBSD 13.5 Kernel: 13.5-RELEASE Compiler: clang 19.1.7 FreeBSD 14.2 Kernel: 14.2-RELEASE Compiler: clang 18.1.6 CentOS Stream 9 Kernel: Depends on container host Compiler: gcc 11.5.0 20240719 (Red Hat 11.5.0-2) CentOS Stream 10 Kernel: Depends on container host Compiler: gcc 14.2.1 20241104 (Red Hat 14.2.1-6) Debian 12 Kernel: Depends on container host Compiler: gcc (Debian 12.2.0-14) 12.2.0 Fedora 40 (Clang) Kernel: Depends on container host Compiler: clang 18.1.8 (Fedora 18.1.8-1.fc40) Fedora 40 Kernel: Depends on container host Compiler: gcc 14.2.1 20240912 (Red Hat 14.2.1-3) Fedora 41 (Clang) Kernel: Depends on container host Compiler: clang 19.1.5 (Fedora 19.1.5-1.fc41) Fedora 41 Kernel: Depends on container host Compiler: gcc 14.2.1 20240912 (Red Hat 14.2.1-3) openSUSE Leap 15 Kernel: Depends on container host Compiler: gcc (SUSE Linux) 7.5.0 RHEL8 Kernel: Depends on container host Compiler: gcc 8.5.0 20210514 (Red Hat 8.5.0-22) RHEL9 Kernel: Depends on container host Compiler: gcc 11.5.0 20240719 (Red Hat 11.5.0-2) Ubuntu 22.04 Kernel: Depends on container host Compiler: gcc (Ubuntu 11.4.0-1ubuntu1~22.04) 11.4.0 Ubuntu 24.04 Kernel: Depends on container host Compiler: gcc (Ubuntu 13.3.0-6ubuntu2~24.04) 13.3.0 Alpine Kernel: Depends on container host Compiler: gcc (Alpine 14.2.0) 14.2.0 Ubuntu 24.04 32 Bit Cross Compile Kernel: Depends on container host Compiler: gcc (Ubuntu 13.3.0-6ubuntu2~24.04) 13.3.0 Windows Server 2022 Kernel: 10.0.20348.2031 Compiler: clang 15.0.7, gcc 14.1.0 (MinGW), and MSVC VS 19.39.33521 To view detailed results, visit: https://lab.dpdk.org/results/dashboard/patchsets/33137/ UNH-IOL DPDK Community Lab To manage your email subscriptions, visit: https://lab.dpdk.org/results/dashboard/preferences/subscriptions/