From mboxrd@z Thu Jan 1 00:00:00 1970 Return-Path: Received: from mails.dpdk.org (mails.dpdk.org [217.70.189.124]) by inbox.dpdk.org (Postfix) with ESMTP id 39BEC466F7 for ; Thu, 8 May 2025 16:03:24 +0200 (CEST) Received: from mails.dpdk.org (localhost [127.0.0.1]) by mails.dpdk.org (Postfix) with ESMTP id 365304026C; Thu, 8 May 2025 16:03:24 +0200 (CEST) Received: from mail-pg1-f226.google.com (mail-pg1-f226.google.com [209.85.215.226]) by mails.dpdk.org (Postfix) with ESMTP id 7A5E44026B for ; Thu, 8 May 2025 16:03:23 +0200 (CEST) Received: by mail-pg1-f226.google.com with SMTP id 41be03b00d2f7-7fd581c2bf4so799023a12.3 for ; Thu, 08 May 2025 07:03:23 -0700 (PDT) DKIM-Signature: v=1; a=rsa-sha256; c=relaxed/relaxed; d=iol.unh.edu; s=unh-iol; t=1746713003; x=1747317803; darn=dpdk.org; h=references:in-reply-to:cc:to:from:subject:message-id:date:from:to :cc:subject:date:message-id:reply-to; bh=Wps56XyFDHqKp0uluzfP8j6RYUUWXPtpPFo10ZRLWDI=; b=AJsgL/BLjLHzdrsElStGa3ad4OCUTFogBg+uWNcMZW8G65yH1coSnVs/UNCfd2/IBA puP7PRY9hxYkVpRjE9eHycAFotHbemlgpGSDH54etsTPXe8Qb3DV7CqSXvvdB2QJnUtt ZvHFazSI6TYlcDQ1m81Rb+cyRNJz3HuMWJ9R4= X-Google-DKIM-Signature: v=1; a=rsa-sha256; c=relaxed/relaxed; d=1e100.net; s=20230601; t=1746713003; x=1747317803; h=references:in-reply-to:cc:to:from:subject:message-id:date :x-gm-message-state:from:to:cc:subject:date:message-id:reply-to; bh=Wps56XyFDHqKp0uluzfP8j6RYUUWXPtpPFo10ZRLWDI=; b=SI3WjZDvr1uEybBUHTl7JR5BZ9MPPLeL82z83QCyD5VRDp1CZIMzhFIsuodMm93UGX sxWu/84ZtdmVcfGyDLgs0Y1ukLYMmUzzAeQ4Hxb233VmMONXe+HHZd7FjHxG+Wj6S6TG sTPg3jw5VXogJm/McBPP+8rmmJpSQjI/GifgE3rkzDHEouf5a5Bwbrq0dHXhSET1opbd 3bCnLokjT6XDpv619oxeiq0q9bS0gFMWWcUksdar61lPzvyRcBAGhYExdjwXfMyx/MHo LX8MsobKwmu/wVatMUbJhCJFttyBpnpXqq/qHqNuGso/Ub14aeYPP5/+zqwECIw8jW8Y r3BQ== X-Gm-Message-State: AOJu0YzenAHhOy0+d6IYRPC0BIdmfazwPQnXX3K1um5YF++gWljgOZY+ 88C7r2gHkT12TW2Ewk5UOCdD37sBhKa+0c3GHF3qytMKv377WkPIbZedv9TNad/me0OuH44TtFW DwPCkgOZKj8FjDgaeA5wTf+wxLoI4081O8zCHrwvr X-Gm-Gg: ASbGncsGd+ih+pJVH9S7dqyVAuPwTMUHmCOj2R2thoLfLlIgJbCSpcaLgHxzkblXnIE RqN7KoS6u/m9OMHa9Mrq5yZwkfxX0Guww69jgW6Xqn1vnxxq+1B3QObjX46U9FuG3u1cXoILHU+ dn5amWxAyDstf1TchW6p6uJ2AFri8QGgndZlm4XJPqeWeHCxeaIIdUUcKSGz98fO6xHpy/53D62 sVP93Ti0UMuG8gw2310/wT0pO2Pvj6Wmpe9SnZirVR+ysap7EwGx9BlX+AC469uKe1vCh2mkb1k hpzW0+5JgZiPkmB9K3aRXLsGVsh4trPWIWwDdbPnfrG1wkGvoyv/SfCRL4Q= X-Google-Smtp-Source: AGHT+IFph8cVHFh+P313lKBIX6bp0raS8gjWo2mI6o9kdiqiviSAfPxIJ4k/R4eiTA3a4OxnmTRLoktA/djR X-Received: by 2002:a17:90b:48d1:b0:2ff:71ad:e84e with SMTP id 98e67ed59e1d1-30b331056c8mr5470751a91.10.1746712984116; Thu, 08 May 2025 07:03:04 -0700 (PDT) Received: from postal.iol.unh.edu (postal.iol.unh.edu. [132.177.123.84]) by smtp-relay.gmail.com with ESMTPS id d9443c01a7336-22e151f278fsm19494585ad.64.2025.05.08.07.03.01 (version=TLS1_2 cipher=ECDHE-ECDSA-AES128-GCM-SHA256 bits=128/128); Thu, 08 May 2025 07:03:01 -0700 (PDT) X-Relaying-Domain: iol.unh.edu Date: Thu, 08 May 2025 07:03:01 -0700 (PDT) Message-ID: <681cb995.170a0220.310755.08e5SMTPIN_ADDED_MISSING@mx.google.com> Received: from [172.21.0.5] (unknown [172.18.0.240]) by postal.iol.unh.edu (Postfix) with ESMTP id 733136052471; Thu, 8 May 2025 10:03:00 -0400 (EDT) Subject: |SUCCESS| pw153351-153352 [PATCH] [2/2] crypto/uadk: use async mode From: dpdklab@iol.unh.edu To: Test Report Cc: dpdk-test-reports@iol.unh.edu In-Reply-To: <20250508074119.356011-3-zhangfei.gao@linaro.org> References: <20250508074119.356011-3-zhangfei.gao@linaro.org> Content-Type: text/plain X-BeenThere: test-report@dpdk.org X-Mailman-Version: 2.1.29 Precedence: list List-Id: automatic DPDK test reports List-Unsubscribe: , List-Archive: List-Post: List-Help: List-Subscribe: , Errors-To: test-report-bounces@dpdk.org Test-Label: iol-unit-amd64-testing Test-Status: SUCCESS http://dpdk.org/patch/153352 _Testing PASS_ Submitter: Zhangfei Gao Date: Thursday, May 08 2025 07:41:19 DPDK git baseline: Repo:dpdk Branch: master CommitID:ca1690ebd224f148268285b15b97441ccdbdd07e 153351-153352 --> testing pass Upstream job id: Generic-Unit-Test-DPDK#336525 Test environment and result as below: +-------------------+----------------+ | Environment | dpdk_unit_test | +===================+================+ | Debian 12 | PASS | +-------------------+----------------+ | CentOS Stream 9 | PASS | +-------------------+----------------+ | CentOS Stream 10 | PASS | +-------------------+----------------+ | Fedora 40 | PASS | +-------------------+----------------+ | Fedora 41 | PASS | +-------------------+----------------+ | Fedora 40 (Clang) | PASS | +-------------------+----------------+ | Fedora 41 (Clang) | PASS | +-------------------+----------------+ | RHEL9 | PASS | +-------------------+----------------+ | RHEL8 | PASS | +-------------------+----------------+ | Ubuntu 20.04 | PASS | +-------------------+----------------+ | Ubuntu 22.04 | PASS | +-------------------+----------------+ | Ubuntu 24.04 | PASS | +-------------------+----------------+ Debian 12 Kernel: Depends on container host Compiler: gcc (Debian 12.2.0-14) 12.2.0 CentOS Stream 9 Kernel: Depends on container host Compiler: gcc 11.5.0 20240719 (Red Hat 11.5.0-2) CentOS Stream 10 Kernel: Depends on container host Compiler: gcc 14.2.1 20241104 (Red Hat 14.2.1-6) Fedora 40 Kernel: Depends on container host Compiler: gcc 14.2.1 20240912 (Red Hat 14.2.1-3) Fedora 41 Kernel: Depends on container host Compiler: gcc 14.2.1 20240912 (Red Hat 14.2.1-3) Fedora 40 (Clang) Kernel: Depends on container host Compiler: clang 18.1.8 (Fedora 18.1.8-1.fc40) Fedora 41 (Clang) Kernel: Depends on container host Compiler: clang 19.1.5 (Fedora 19.1.5-1.fc41) RHEL9 Kernel: Depends on container host Compiler: gcc 11.5.0 20240719 (Red Hat 11.5.0-2) RHEL8 Kernel: Depends on container host Compiler: gcc 8.5.0 20210514 (Red Hat 8.5.0-22) Ubuntu 20.04 Kernel: Depends on container host Compiler: gcc (Ubuntu 9.4.0-1ubuntu1~20.04.2) 9.4.0 Ubuntu 22.04 Kernel: Depends on container host Compiler: gcc (Ubuntu 11.4.0-1ubuntu1~22.04) 11.4.0 Ubuntu 24.04 Kernel: Depends on container host Compiler: gcc (Ubuntu 13.3.0-6ubuntu2~24.04) 13.3.0 To view detailed results, visit: https://lab.dpdk.org/results/dashboard/patchsets/33140/ UNH-IOL DPDK Community Lab To manage your email subscriptions, visit: https://lab.dpdk.org/results/dashboard/preferences/subscriptions/