From mboxrd@z Thu Jan 1 00:00:00 1970 Return-Path: Received: from mails.dpdk.org (mails.dpdk.org [217.70.189.124]) by inbox.dpdk.org (Postfix) with ESMTP id 0CA7C466F7 for ; Thu, 8 May 2025 16:11:23 +0200 (CEST) Received: from mails.dpdk.org (localhost [127.0.0.1]) by mails.dpdk.org (Postfix) with ESMTP id DAD624026C; Thu, 8 May 2025 16:11:22 +0200 (CEST) Received: from mail-pl1-f225.google.com (mail-pl1-f225.google.com [209.85.214.225]) by mails.dpdk.org (Postfix) with ESMTP id 5920A4026B for ; Thu, 8 May 2025 16:11:22 +0200 (CEST) Received: by mail-pl1-f225.google.com with SMTP id d9443c01a7336-22fa414c478so4494445ad.0 for ; Thu, 08 May 2025 07:11:22 -0700 (PDT) DKIM-Signature: v=1; a=rsa-sha256; c=relaxed/relaxed; d=iol.unh.edu; s=unh-iol; t=1746713481; x=1747318281; darn=dpdk.org; h=references:in-reply-to:cc:to:from:subject:message-id:date:from:to :cc:subject:date:message-id:reply-to; bh=U4wkyPIOG3F14Vro0ej/n+16Hhk4ersFAqXTBC0n4xM=; b=FaHlZGPw39r3WtwqsL1u3i7xyDAo5/CT/bQhfbeR/cXu7ddWEVpE0O/fAWPBZpZisN Fd2UWfCk5qE26JE7DIcKru2EB8Z7+rp+O4figU22TqKsDARa+j/R8AO0gnIKB6xLm8kS eiNBaYqenC+QNhGhfe7YaxBvQaPLEXOtq/4pE= X-Google-DKIM-Signature: v=1; a=rsa-sha256; c=relaxed/relaxed; d=1e100.net; s=20230601; t=1746713481; x=1747318281; h=references:in-reply-to:cc:to:from:subject:message-id:date :x-gm-message-state:from:to:cc:subject:date:message-id:reply-to; bh=U4wkyPIOG3F14Vro0ej/n+16Hhk4ersFAqXTBC0n4xM=; b=aKaY4C1iHLi//+DrTow3MHK/c8IEBfOp1PSrI44rbRnh5bqkM9Ilg5wkWi1daJwsAB 6YLmdDfL32MRvKkJCYBIg285rgbhko+5Ek+p6d+01HZ93582zAAliD0JNKw8hnFVQulM gKvreAc6WeayZj8b01vqvO7fY+P5LSXsZrovcwgW1vyZKtpmjZfframnZxbNSQYhp7CH 9kX1faS4B6LI7HysUVPp9tX/CFJbxq97UL12cAgjx4wm32btBxGpciimjhvNw/nwpxTI NtvmH/KJlVyDtjiWxHnTy+cobe/FC4pqBct8ds6bwonBxAuHGMyF8RzjEKxPo36AHZHX DlNQ== X-Gm-Message-State: AOJu0YypxqTMSfjzndXs5+qMfiYhsqUzyiHzXjKlmCn5gvpzSpeYo/oL 6qnemndzSQZmXf8hB+NMfvVUi4nklgXkasC7ATl0H0HzzIsuBx0Md8pAFYygaRTe1DIJOwul+ma Fr7eKpibkwpTyv6blByuBCtO1th3bDX9L3xtdwT/I X-Gm-Gg: ASbGncsXIunBF9Qs9HMKRudEBRobbb1kiRa9WrNuWVqlWWrAKN9EFv07mhb80Q3fyUO LXxsvBQSYre/b5HNqBWCZ+F3X6cGOidjeIw7JibTyqdD5RgUX3aeC3V0I7gJTr0OYlqI1Kxp4eW 7mZcrsij0rCT6S+SrgTyqBkpMYaymuzS5yyB2omNaDtRga6YMukiZyeTn70O0s6Npywp+5VT4DG gY1J9BONRy+BXCyju8QFw/4vDCllS8Iyv9FePy+8tegBIaBa//5BLO2MHQRZFGF8XeVdD+9rdZC mMFkiP7wsp8npkxH/PurTUcMLsZi3EXPGtxZZrgj0OQiVYSMvHMbez0aH3Y= X-Google-Smtp-Source: AGHT+IHZ5hpeUjqagQElfJb5c7kbZpN8h5VAyjdW9MZH5o0ru/Sb2pdx+xrRf/OLQkfIuSXlKFeTmLbEpLTT X-Received: by 2002:a17:902:f606:b0:224:1af1:87f4 with SMTP id d9443c01a7336-22e5ea91381mr127553545ad.22.1746713481325; Thu, 08 May 2025 07:11:21 -0700 (PDT) Received: from postal.iol.unh.edu (postal.iol.unh.edu. [132.177.123.84]) by smtp-relay.gmail.com with ESMTPS id d9443c01a7336-22e6637d60asm1408865ad.89.2025.05.08.07.11.21 (version=TLS1_2 cipher=ECDHE-ECDSA-AES128-GCM-SHA256 bits=128/128); Thu, 08 May 2025 07:11:21 -0700 (PDT) X-Relaying-Domain: iol.unh.edu Date: Thu, 08 May 2025 07:11:21 -0700 (PDT) Message-ID: <681cbb89.170a0220.241960.7cadSMTPIN_ADDED_MISSING@mx.google.com> Received: from [172.21.0.5] (unknown [172.18.0.240]) by postal.iol.unh.edu (Postfix) with ESMTP id 61D586052471; Thu, 8 May 2025 10:10:50 -0400 (EDT) Subject: |SUCCESS| pw153348 [PATCH] build: fix disabling developer mode From: dpdklab@iol.unh.edu To: Test Report Cc: dpdk-test-reports@iol.unh.edu In-Reply-To: <20250508044230.133966-1-david.marchand@redhat.com> References: <20250508044230.133966-1-david.marchand@redhat.com> Content-Type: text/plain X-BeenThere: test-report@dpdk.org X-Mailman-Version: 2.1.29 Precedence: list List-Id: automatic DPDK test reports List-Unsubscribe: , List-Archive: List-Post: List-Help: List-Subscribe: , Errors-To: test-report-bounces@dpdk.org Test-Label: iol-compile-arm64-testing Test-Status: SUCCESS http://dpdk.org/patch/153348 _Testing PASS_ Submitter: David Marchand Date: Thursday, May 08 2025 04:42:29 DPDK git baseline: Repo:dpdk Branch: master CommitID:4029c5e3f2c6e950e8579be2401dab12e4209d53 153348 --> testing pass Upstream job id: Generic-DPDK-Compile-Meson#386407 Test environment and result as below: +----------------------------------------+--------------------+ | Environment | dpdk_meson_compile | +========================================+====================+ | RHEL9 (ARM) | PASS | +----------------------------------------+--------------------+ | Ubuntu 20.04 ARM GCC Cross Compile | PASS | +----------------------------------------+--------------------+ | Ubuntu 20.04 ARM SVE | PASS | +----------------------------------------+--------------------+ | Debian 12 with MUSDK | PASS | +----------------------------------------+--------------------+ | Fedora 40 (ARM) | PASS | +----------------------------------------+--------------------+ | Fedora 40 (ARM Clang) | PASS | +----------------------------------------+--------------------+ | Fedora 41 (ARM) | PASS | +----------------------------------------+--------------------+ | Fedora 41 (ARM Clang) | PASS | +----------------------------------------+--------------------+ | Ubuntu 20.04 (ARM) | PASS | +----------------------------------------+--------------------+ | Ubuntu 22.04 (ARM) | PASS | +----------------------------------------+--------------------+ | CentOS Stream 9 (ARM) | PASS | +----------------------------------------+--------------------+ | CentOS Stream 10 (ARM) | PASS | +----------------------------------------+--------------------+ | Debian 12 (arm) | PASS | +----------------------------------------+--------------------+ | Ubuntu 20.04 ARM Clang Cross Compile | PASS | +----------------------------------------+--------------------+ | Ubuntu 20.04 aarch32 GCC Cross Compile | PASS | +----------------------------------------+--------------------+ | Ubuntu 24.04 (ARM) | PASS | +----------------------------------------+--------------------+ RHEL9 (ARM) Kernel: Depends on container host Compiler: gcc 11.5.0 20240719 (Red Hat 11.5.0-2) Ubuntu 20.04 ARM GCC Cross Compile Kernel: Depends on container host Compiler: aarch64-linux-gnu-gcc (Ubuntu 9.4.0-1ubuntu1~20.04.2) 9.4.0 Ubuntu 20.04 ARM SVE Kernel: Depends on container host Compiler: gcc (Ubuntu 10.5.0-1ubuntu1~20.04) 10.5.0 Debian 12 with MUSDK Kernel: Depends on container host Compiler: gcc (Debian 12.2.0-14) 12.2.0 Fedora 40 (ARM) Kernel: Depends on container host Compiler: gcc 14.2.1 20240912 (Red Hat 14.2.1-3) Fedora 40 (ARM Clang) Kernel: Depends on container host Compiler: clang 18.1.8 (Fedora 18.1.8-1.fc40) Fedora 41 (ARM) Kernel: Depends on container host Compiler: gcc 14.2.1 20240912 (Red Hat 14.2.1-3) Fedora 41 (ARM Clang) Kernel: Depends on container host Compiler: clang 19.1.5 (Fedora 19.1.5-1.fc41) Ubuntu 20.04 (ARM) Kernel: Depends on container host Compiler: gcc (Ubuntu 9.4.0-1ubuntu1~20.04.2) 9.4.0 Ubuntu 22.04 (ARM) Kernel: Depends on container host Compiler: gcc (Ubuntu 11.4.0-1ubuntu1~22.04) 11.4.0 CentOS Stream 9 (ARM) Kernel: Depends on container host Compiler: gcc 11.5.0 20240719 (Red Hat 11.5.0-2) CentOS Stream 10 (ARM) Kernel: Depends on container host Compiler: gcc 14.2.1 20241104 (Red Hat 14.2.1-6) Debian 12 (arm) Kernel: Depends on container host Compiler: gcc (Debian 12.2.0-14) 12.2.0 Ubuntu 20.04 ARM Clang Cross Compile Kernel: Depends on container host Compiler: clang 10.0.0-4ubuntu1 Ubuntu 20.04 aarch32 GCC Cross Compile Kernel: Depends on container host Compiler: gcc 9.4.0 Ubuntu 24.04 (ARM) Kernel: Depends on container host Compiler: gcc (Ubuntu 13.3.0-6ubuntu2~24.04) 13.3.0 To view detailed results, visit: https://lab.dpdk.org/results/dashboard/patchsets/33137/ UNH-IOL DPDK Community Lab To manage your email subscriptions, visit: https://lab.dpdk.org/results/dashboard/preferences/subscriptions/