From mboxrd@z Thu Jan 1 00:00:00 1970 Return-Path: Received: from mails.dpdk.org (mails.dpdk.org [217.70.189.124]) by inbox.dpdk.org (Postfix) with ESMTP id 73999466F7 for ; Thu, 8 May 2025 16:29:03 +0200 (CEST) Received: from mails.dpdk.org (localhost [127.0.0.1]) by mails.dpdk.org (Postfix) with ESMTP id 70B5C4026C; Thu, 8 May 2025 16:29:03 +0200 (CEST) Received: from mail-yw1-f225.google.com (mail-yw1-f225.google.com [209.85.128.225]) by mails.dpdk.org (Postfix) with ESMTP id 0B9EE4026B for ; Thu, 8 May 2025 16:29:02 +0200 (CEST) Received: by mail-yw1-f225.google.com with SMTP id 00721157ae682-70a2a42eb3eso11163137b3.0 for ; Thu, 08 May 2025 07:29:01 -0700 (PDT) DKIM-Signature: v=1; a=rsa-sha256; c=relaxed/relaxed; d=iol.unh.edu; s=unh-iol; t=1746714541; x=1747319341; darn=dpdk.org; h=cc:to:from:subject:message-id:date:from:to:cc:subject:date :message-id:reply-to; bh=Jazffl9y+7z7layuaH8AriL39d/6c2tZK++tbwFjXQk=; b=HwR2FiIQa72yGXVcHvSLfVrj0Tz+D0iuznR7G62a0lBFFLZ//D+2+ctJSBqwysZ3Q5 dyb745mcQyTOIjIfLptlVThVTQNP6fjuSYDq88lwfw6x1JEN6aj2Mq9VW/EhtDykINwu 0SPhH+5sRFWwwURVMbZom2cYN75BVFlFfQUNU= X-Google-DKIM-Signature: v=1; a=rsa-sha256; c=relaxed/relaxed; d=1e100.net; s=20230601; t=1746714541; x=1747319341; h=cc:to:from:subject:message-id:date:x-gm-message-state:from:to:cc :subject:date:message-id:reply-to; bh=Jazffl9y+7z7layuaH8AriL39d/6c2tZK++tbwFjXQk=; b=eiJxu3SvrMKYnuAHdtmiZiI+wo2zEga73WxV9+aw/uBFjGtlE4Brz7YnCXII/bKocd u691vQiqC3mZqwhmlxPYpn74ByYBo6izAHkYGRRPRIQ4dzyFW53HAvFPQIU4fPBYiQws EU4BI0H4aV+7u6WSpySBfKj5geog+t9FVfflfPoHlgo+Y6KzKogLcLfXJkvl6Nppva0Q ZR+3u1GkDY5i2OTRpBfSUzHWbv6iTckQ7TO70Ttt2bWRMJI2tvqiPPtd1lvlq7zY0ms+ 1mdQg+J7REw2Qi6mVc394RJHLx/yKI4ICDXBdIppKn69MUiJLitQsXPts7TjiL6FJ05N 1PNQ== X-Gm-Message-State: AOJu0YyRdlEBS5XBvdksnnRhZn6UhMfE7CgFIrPKjEe/IV5jcMCXI84T sgjAhTl2kLedCMIkp1ByY7SrIed2En+7RvX9YGUd139txBzcvHvbJZH0ux8xwxUaNfSCsCynmUO WKNFZWGl6EmbgrsGbGWL4hncVuY2pGrUw X-Gm-Gg: ASbGncvUcTTS7vgjehB+ghDBLPBe5ST7989IiOUJb5fEK+vVIdoGNGRzScpDt1DgVOh V966g8D1Gs3FnkZ1ekdDXqEP7qGfvac6MhmHiESJrsfTAqnWigbhNhNsozev4KP3VdYDFyHWoKo GisrJq0Ta0/ozEqN9vKFOQrn58fGs0o37QLPg4ZBGYN0YOol1HCtyN9aDBx9S4MbGFYb/896fCm sKxOeuHyQx9ahHwJ2zbyKzUY8YAKLdsXtELRxuUFnL7dDSJHRziK6JLenF7HvdlQg5vJy9/zLun BNDQugRz/FyhKHyI1EmND2ilmDn52Ul6uywdbU6wawXP2pTsuYpg3ggnL30= X-Google-Smtp-Source: AGHT+IGA5rs8/WoSmtze5mH1HqzfZFUrqmwa9nyB79MhNgqRoAAOciRFcX5BVayeuFNydkm9msz10Pke8z2b X-Received: by 2002:a05:690c:308a:b0:6fb:1f78:d9ee with SMTP id 00721157ae682-70a1da1093cmr117720857b3.15.1746714541384; Thu, 08 May 2025 07:29:01 -0700 (PDT) Received: from postal.iol.unh.edu (postal.iol.unh.edu. [132.177.123.84]) by smtp-relay.gmail.com with ESMTPS id 00721157ae682-70a3d756d31sm34827b3.24.2025.05.08.07.29.01 (version=TLS1_2 cipher=ECDHE-ECDSA-AES128-GCM-SHA256 bits=128/128); Thu, 08 May 2025 07:29:01 -0700 (PDT) X-Relaying-Domain: iol.unh.edu Date: Thu, 08 May 2025 07:29:01 -0700 (PDT) Message-ID: <681cbfad.050a0220.b3cc5.0612SMTPIN_ADDED_MISSING@mx.google.com> Received: from [172.21.0.5] (unknown [172.18.0.240]) by postal.iol.unh.edu (Postfix) with ESMTP id F3F186052477; Thu, 8 May 2025 10:28:30 -0400 (EDT) Subject: |WARNING| [GIT MASTER] 4c5634de9f933555bab9c64a533d3dca999071cd From: dpdklab@iol.unh.edu To: Test Report Cc: dpdk-test-reports@iol.unh.edu, Xueming Li , Christian Ehrhardt , Kevin Traynor , Luca Boccassi Content-Type: text/plain X-BeenThere: test-report@dpdk.org X-Mailman-Version: 2.1.29 Precedence: list List-Id: automatic DPDK test reports List-Unsubscribe: , List-Archive: List-Post: List-Help: List-Subscribe: , Errors-To: test-report-bounces@dpdk.org _Testing issues_ Branch: tags/v24.11 4c5634de9f933555bab9c64a533d3dca999071cd --> testing issues Upstream job id: ACVP-FIPS-testing#9753 Test environment and result as below: +--------------------+----------------------+----------------------+ | Environment | compressdev_zlib_pmd | dpdk_fips_validation | +====================+======================+======================+ | Ubuntu 22.04 (ARM) | PASS | SKIPPED | +--------------------+----------------------+----------------------+ | Ubuntu 22.04 | PASS | SKIPPED | +--------------------+----------------------+----------------------+ | Ubuntu 20.04 | SKIPPED | WARN | +--------------------+----------------------+----------------------+ ==== 20 line log output for Ubuntu 20.04 (dpdk_fips_validation): ==== INFO:root:Downloading verdict for vector set 3116721 INFO:root:Vector set verdict not ready, waiting 30 seconds... INFO:root:Vector set verdict not ready, waiting 30 seconds... INFO:root:Vector set verdict not ready, waiting 30 seconds... INFO:root:Done INFO:root:Using response file... INFO:root:Uploading response file... INFO:root:Fetching verdict... INFO:root:Downloading verdict for vector set 3116722 INFO:root:Vector set verdict not ready, waiting 30 seconds... INFO:root:Vector set verdict not ready, waiting 30 seconds... INFO:root:Done INFO:root:Using response file... INFO:root:Uploading response file... INFO:root:Fetching verdict... INFO:root:Downloading verdict for vector set 3116723 INFO:root:Vector set verdict not ready, waiting 30 seconds... INFO:root:Vector set verdict not ready, waiting 30 seconds... INFO:root:Vector set verdict not ready, waiting 30 seconds... INFO:root:Done ==== End log output ==== Ubuntu 22.04 (ARM) Kernel: 5.15.0-97-generic Compiler: gcc gcc (Ubuntu 11.4.0-1ubuntu1~22.04) 11.4.0 Ubuntu 22.04 Kernel: 5.15.0-100-generic Compiler: gcc gcc (Ubuntu 11.4.0-1ubuntu1~22.04) 11.4.0 Ubuntu 20.04 Kernel: Depends on container host Compiler: gcc (Ubuntu 9.4.0-1ubuntu1~20.04.2) 9.4.0 To view detailed results, visit: https://lab.dpdk.org/results/dashboard/tarballs/33473/ UNH-IOL DPDK Community Lab To manage your email subscriptions, visit: https://lab.dpdk.org/results/dashboard/preferences/subscriptions/