From mboxrd@z Thu Jan 1 00:00:00 1970 Return-Path: Received: from mails.dpdk.org (mails.dpdk.org [217.70.189.124]) by inbox.dpdk.org (Postfix) with ESMTP id 39F9B466F7 for ; Thu, 8 May 2025 16:37:37 +0200 (CEST) Received: from mails.dpdk.org (localhost [127.0.0.1]) by mails.dpdk.org (Postfix) with ESMTP id 283064026C; Thu, 8 May 2025 16:37:37 +0200 (CEST) Received: from mail-io1-f98.google.com (mail-io1-f98.google.com [209.85.166.98]) by mails.dpdk.org (Postfix) with ESMTP id A15634026B for ; Thu, 8 May 2025 16:37:35 +0200 (CEST) Received: by mail-io1-f98.google.com with SMTP id ca18e2360f4ac-86142446f3fso30311239f.2 for ; Thu, 08 May 2025 07:37:35 -0700 (PDT) DKIM-Signature: v=1; a=rsa-sha256; c=relaxed/relaxed; d=iol.unh.edu; s=unh-iol; t=1746715055; x=1747319855; darn=dpdk.org; h=references:in-reply-to:cc:to:from:subject:message-id:date:from:to :cc:subject:date:message-id:reply-to; bh=eZk579XaG9Ho+WHNaAuWsaw8yR+VfHRCzUMFK7n+G1g=; b=LYlMefUdlBemZBVBXzHYEopADFo8m6CwN6noxlmOyXD5kO4s12HJ4LHNjH2eLUzkVS YEp0QJpfio/RV0SvIQfqvA9KW2XMf+1NnjGJwFg5K3ccwuideScY9GINKGjBHmI3nxFm bLf4APVVtwkLD3n9QX9uZ/MiGtSeLh+OTGl4E= X-Google-DKIM-Signature: v=1; a=rsa-sha256; c=relaxed/relaxed; d=1e100.net; s=20230601; t=1746715055; x=1747319855; h=references:in-reply-to:cc:to:from:subject:message-id:date :x-gm-message-state:from:to:cc:subject:date:message-id:reply-to; bh=eZk579XaG9Ho+WHNaAuWsaw8yR+VfHRCzUMFK7n+G1g=; b=OaGdvnCqutLwPNkiFkUkYUfJccbthkG+54lbAV6MrKNHw0uESIdz5k6BihkbbbQaf0 OCrfaRZ6KkAEJIRTyZjMsnFE1TdF0A9i9G2C/Uz/JiY0mZ32lTQdCbpvMxPdegyFQiIb oXcfLAknvATngFHz5Xh+QcBAEmjpj00/huOnXSiuwapTKj+i0HSY5XEeMyJgL3q65Op5 kdUAqIQ02qy6BEhKHf00HxiWvQT+9gRBEhfEfLJyMSX6uwoPxJrJsM8WMn6Chv5IXhEk 8ZrlR58DMG+Jto4o4+O8KaJV7e15kLqCsJ5rfFo+ZUS+STbuz97vKdWvma9DmI5U5klt osww== X-Gm-Message-State: AOJu0YxOMZHgTbL8pYvqPHEaz/rsFl6EIDYzb9ejJGAM3DNTqsHlEq7i Wy7l5BkBPnG3VAY7AyVzjBooPfZxMjYSH7rmwDx62u4tjReQX2HyIlkQY9fEGGyY28bh7K2PTP7 k2rZbem5M41j6tNqh/nwDWaVZawpJRFXHvM+JlO24 X-Gm-Gg: ASbGncuXBrxKte+fhYoatlQzp3BvFezMfwl31Vj2f6yonQ8qaq8RiBpLatAHv/wT8WJ cTcU1xyQABrTfuHdLBnk+Dj+AxaqkGfkWIZDTSoLT0RPuF30dpVXfhBahk4/5oKnkGkbe72ncIl h1B+4qLICcOPFDkRjUY/uOBLa3f00kQFMw7O1pkW+QhNyPeQ/tZLnjeDKY+KWGLExMVW1nqRIi8 SFGpETod8lGcOsxmSVXUC8KiHPC8XGciHxF9IU/bntom/lEelKEClxfwMdY3NYeTSG+s0i+t4go wL8GYYIan9Lq2m7g+wE2CEX3OqHfspV5J3ivezm1mZ4oqQeDUj83O4JqfsI= X-Google-Smtp-Source: AGHT+IFhA9wQgjtOABO+4DcLdMRf8g3lUhY3R95K/198mC4YD5qrXNxv9bP0W1J77/QB/Z4RTZFoAh20w4hb X-Received: by 2002:a05:6602:3422:b0:85b:41cc:f709 with SMTP id ca18e2360f4ac-86755121700mr427434039f.14.1746715054870; Thu, 08 May 2025 07:37:34 -0700 (PDT) Received: from postal.iol.unh.edu (postal.iol.unh.edu. [132.177.123.84]) by smtp-relay.gmail.com with ESMTPS id 8926c6da1cb9f-4f88aa645c5sm2224312173.52.2025.05.08.07.37.34 (version=TLS1_2 cipher=ECDHE-ECDSA-AES128-GCM-SHA256 bits=128/128); Thu, 08 May 2025 07:37:34 -0700 (PDT) X-Relaying-Domain: iol.unh.edu Date: Thu, 08 May 2025 07:37:34 -0700 (PDT) Message-ID: <681cc1ae.050a0220.24aa2f.15edSMTPIN_ADDED_MISSING@mx.google.com> Received: from [172.21.0.5] (unknown [172.18.0.240]) by postal.iol.unh.edu (Postfix) with ESMTP id 69A266052471; Thu, 8 May 2025 10:37:34 -0400 (EDT) Subject: |SUCCESS| pw153351-153352 [PATCH] [2/2] crypto/uadk: use async mode From: dpdklab@iol.unh.edu To: Test Report Cc: dpdk-test-reports@iol.unh.edu In-Reply-To: <20250508074119.356011-3-zhangfei.gao@linaro.org> References: <20250508074119.356011-3-zhangfei.gao@linaro.org> Content-Type: text/plain X-BeenThere: test-report@dpdk.org X-Mailman-Version: 2.1.29 Precedence: list List-Id: automatic DPDK test reports List-Unsubscribe: , List-Archive: List-Post: List-Help: List-Subscribe: , Errors-To: test-report-bounces@dpdk.org Test-Label: iol-unit-amd64-testing Test-Status: SUCCESS http://dpdk.org/patch/153352 _Testing PASS_ Submitter: Zhangfei Gao Date: Thursday, May 08 2025 07:41:19 DPDK git baseline: Repo:dpdk Branch: master CommitID:ca1690ebd224f148268285b15b97441ccdbdd07e 153351-153352 --> testing pass Upstream job id: Generic-VM-Unit-Test-DPDK#28414 Test environment and result as below: +---------------------+----------------+ | Environment | dpdk_unit_test | +=====================+================+ | CentOS Stream 10 | PASS | +---------------------+----------------+ | Debian 12 | PASS | +---------------------+----------------+ | CentOS Stream 9 | PASS | +---------------------+----------------+ | Fedora 41 | PASS | +---------------------+----------------+ | Fedora 41 (Clang) | PASS | +---------------------+----------------+ | Fedora 40 | PASS | +---------------------+----------------+ | Fedora 40 (Clang) | PASS | +---------------------+----------------+ | RHEL9 | PASS | +---------------------+----------------+ | RHEL8 | PASS | +---------------------+----------------+ | Ubuntu 20.04 | PASS | +---------------------+----------------+ | Ubuntu 24.04 | PASS | +---------------------+----------------+ | Ubuntu 22.04 | PASS | +---------------------+----------------+ | Windows Server 2022 | PASS | +---------------------+----------------+ CentOS Stream 10 Kernel: Depends on container host Compiler: gcc 14.2.1 20241104 (Red Hat 14.2.1-6) Debian 12 Kernel: Depends on container host Compiler: gcc (Debian 12.2.0-14) 12.2.0 CentOS Stream 9 Kernel: Depends on container host Compiler: gcc 11.5.0 20240719 (Red Hat 11.5.0-2) Fedora 41 Kernel: Depends on container host Compiler: gcc 14.2.1 20240912 (Red Hat 14.2.1-3) Fedora 41 (Clang) Kernel: Depends on container host Compiler: clang 19.1.5 (Fedora 19.1.5-1.fc41) Fedora 40 Kernel: Depends on container host Compiler: gcc 14.2.1 20240912 (Red Hat 14.2.1-3) Fedora 40 (Clang) Kernel: Depends on container host Compiler: clang 18.1.8 (Fedora 18.1.8-1.fc40) RHEL9 Kernel: Depends on container host Compiler: gcc 11.5.0 20240719 (Red Hat 11.5.0-2) RHEL8 Kernel: Depends on container host Compiler: gcc 8.5.0 20210514 (Red Hat 8.5.0-22) Ubuntu 20.04 Kernel: Depends on container host Compiler: gcc (Ubuntu 9.4.0-1ubuntu1~20.04.2) 9.4.0 Ubuntu 24.04 Kernel: Depends on container host Compiler: gcc (Ubuntu 13.3.0-6ubuntu2~24.04) 13.3.0 Ubuntu 22.04 Kernel: Depends on container host Compiler: gcc (Ubuntu 11.4.0-1ubuntu1~22.04) 11.4.0 Windows Server 2022 Kernel: 10.0.20348.2031 Compiler: clang 15.0.7, gcc 14.1.0 (MinGW), and MSVC VS 19.39.33521 To view detailed results, visit: https://lab.dpdk.org/results/dashboard/patchsets/33140/ UNH-IOL DPDK Community Lab To manage your email subscriptions, visit: https://lab.dpdk.org/results/dashboard/preferences/subscriptions/