From: dpdklab@iol.unh.edu
To: Test Report <test-report@dpdk.org>
Cc: dpdk-test-reports@iol.unh.edu
Subject: |SUCCESS| pw153351-153352 [PATCH] [2/2] crypto/uadk: use async mode
Date: Thu, 08 May 2025 07:47:13 -0700 (PDT) [thread overview]
Message-ID: <681cc3f1.050a0220.1bc670.0406SMTPIN_ADDED_MISSING@mx.google.com> (raw)
In-Reply-To: <20250508074119.356011-3-zhangfei.gao@linaro.org>
Test-Label: iol-compile-arm64-testing
Test-Status: SUCCESS
http://dpdk.org/patch/153352
_Testing PASS_
Submitter: Zhangfei Gao <zhangfei.gao@linaro.org>
Date: Thursday, May 08 2025 07:41:19
DPDK git baseline: Repo:dpdk
Branch: master
CommitID:ca1690ebd224f148268285b15b97441ccdbdd07e
153351-153352 --> testing pass
Upstream job id: Generic-DPDK-Compile-Meson#386453
Test environment and result as below:
+----------------------------------------+--------------------+
| Environment | dpdk_meson_compile |
+========================================+====================+
| RHEL9 (ARM) | PASS |
+----------------------------------------+--------------------+
| Ubuntu 20.04 ARM GCC Cross Compile | PASS |
+----------------------------------------+--------------------+
| Debian 12 with MUSDK | PASS |
+----------------------------------------+--------------------+
| Fedora 41 (ARM) | PASS |
+----------------------------------------+--------------------+
| Ubuntu 20.04 ARM SVE | PASS |
+----------------------------------------+--------------------+
| Fedora 41 (ARM Clang) | PASS |
+----------------------------------------+--------------------+
| Fedora 40 (ARM Clang) | PASS |
+----------------------------------------+--------------------+
| Fedora 40 (ARM) | PASS |
+----------------------------------------+--------------------+
| Ubuntu 20.04 (ARM) | PASS |
+----------------------------------------+--------------------+
| Ubuntu 22.04 (ARM) | PASS |
+----------------------------------------+--------------------+
| Ubuntu 24.04 (ARM) | PASS |
+----------------------------------------+--------------------+
| CentOS Stream 9 (ARM) | PASS |
+----------------------------------------+--------------------+
| CentOS Stream 10 (ARM) | PASS |
+----------------------------------------+--------------------+
| Ubuntu 20.04 ARM Clang Cross Compile | PASS |
+----------------------------------------+--------------------+
| Debian 12 (arm) | PASS |
+----------------------------------------+--------------------+
| Ubuntu 20.04 aarch32 GCC Cross Compile | PASS |
+----------------------------------------+--------------------+
RHEL9 (ARM)
Kernel: Depends on container host
Compiler: gcc 11.5.0 20240719 (Red Hat 11.5.0-2)
Ubuntu 20.04 ARM GCC Cross Compile
Kernel: Depends on container host
Compiler: aarch64-linux-gnu-gcc (Ubuntu 9.4.0-1ubuntu1~20.04.2) 9.4.0
Debian 12 with MUSDK
Kernel: Depends on container host
Compiler: gcc (Debian 12.2.0-14) 12.2.0
Fedora 41 (ARM)
Kernel: Depends on container host
Compiler: gcc 14.2.1 20240912 (Red Hat 14.2.1-3)
Ubuntu 20.04 ARM SVE
Kernel: Depends on container host
Compiler: gcc (Ubuntu 10.5.0-1ubuntu1~20.04) 10.5.0
Fedora 41 (ARM Clang)
Kernel: Depends on container host
Compiler: clang 19.1.5 (Fedora 19.1.5-1.fc41)
Fedora 40 (ARM Clang)
Kernel: Depends on container host
Compiler: clang 18.1.8 (Fedora 18.1.8-1.fc40)
Fedora 40 (ARM)
Kernel: Depends on container host
Compiler: gcc 14.2.1 20240912 (Red Hat 14.2.1-3)
Ubuntu 20.04 (ARM)
Kernel: Depends on container host
Compiler: gcc (Ubuntu 9.4.0-1ubuntu1~20.04.2) 9.4.0
Ubuntu 22.04 (ARM)
Kernel: Depends on container host
Compiler: gcc (Ubuntu 11.4.0-1ubuntu1~22.04) 11.4.0
Ubuntu 24.04 (ARM)
Kernel: Depends on container host
Compiler: gcc (Ubuntu 13.3.0-6ubuntu2~24.04) 13.3.0
CentOS Stream 9 (ARM)
Kernel: Depends on container host
Compiler: gcc 11.5.0 20240719 (Red Hat 11.5.0-2)
CentOS Stream 10 (ARM)
Kernel: Depends on container host
Compiler: gcc 14.2.1 20241104 (Red Hat 14.2.1-6)
Ubuntu 20.04 ARM Clang Cross Compile
Kernel: Depends on container host
Compiler: clang 10.0.0-4ubuntu1
Debian 12 (arm)
Kernel: Depends on container host
Compiler: gcc (Debian 12.2.0-14) 12.2.0
Ubuntu 20.04 aarch32 GCC Cross Compile
Kernel: Depends on container host
Compiler: gcc 9.4.0
To view detailed results, visit:
https://lab.dpdk.org/results/dashboard/patchsets/33140/
UNH-IOL DPDK Community Lab
To manage your email subscriptions, visit:
https://lab.dpdk.org/results/dashboard/preferences/subscriptions/
next prev parent reply other threads:[~2025-05-08 14:47 UTC|newest]
Thread overview: 43+ messages / expand[flat|nested] mbox.gz Atom feed top
[not found] <20250508074119.356011-3-zhangfei.gao@linaro.org>
2025-05-08 7:17 ` |SUCCESS| pw153351-153352 [PATCH 2/2] crypto/uadk: use async mode to replace sync mode qemudev
2025-05-08 7:22 ` qemudev
2025-05-08 7:52 ` |SUCCESS| pw153352 " checkpatch
2025-05-08 9:03 ` 0-day Robot
2025-05-08 9:06 ` |SUCCESS| pw153351-153352 [PATCH] [2/2] crypto/uadk: use async mode dpdklab
2025-05-08 9:10 ` dpdklab
2025-05-08 9:16 ` dpdklab
2025-05-08 9:17 ` dpdklab
2025-05-08 9:20 ` dpdklab
2025-05-08 9:20 ` dpdklab
2025-05-08 9:27 ` dpdklab
2025-05-08 9:31 ` dpdklab
2025-05-08 9:32 ` dpdklab
2025-05-08 9:43 ` dpdklab
2025-05-08 9:50 ` dpdklab
2025-05-08 9:54 ` dpdklab
2025-05-08 10:03 ` dpdklab
2025-05-08 10:04 ` dpdklab
2025-05-08 10:07 ` dpdklab
2025-05-08 10:10 ` dpdklab
2025-05-08 10:19 ` dpdklab
2025-05-08 10:24 ` |PENDING| " dpdklab
2025-05-08 10:30 ` |SUCCESS| " dpdklab
2025-05-08 11:07 ` dpdklab
2025-05-08 11:18 ` dpdklab
2025-05-08 12:17 ` |PENDING| " dpdklab
2025-05-08 12:25 ` dpdklab
2025-05-08 12:55 ` |SUCCESS| " dpdklab
2025-05-08 12:57 ` dpdklab
2025-05-08 13:02 ` dpdklab
2025-05-08 13:05 ` dpdklab
2025-05-08 13:34 ` dpdklab
2025-05-08 13:40 ` dpdklab
2025-05-08 14:03 ` dpdklab
2025-05-08 14:28 ` dpdklab
2025-05-08 14:37 ` dpdklab
2025-05-08 14:47 ` dpdklab [this message]
2025-05-08 15:28 ` dpdklab
2025-05-08 15:40 ` dpdklab
2025-05-08 15:42 ` dpdklab
2025-05-08 16:03 ` dpdklab
2025-05-08 19:27 ` dpdklab
2025-05-08 20:45 ` |WARNING| " dpdklab
Reply instructions:
You may reply publicly to this message via plain-text email
using any one of the following methods:
* Save the following mbox file, import it into your mail client,
and reply-to-all from there: mbox
Avoid top-posting and favor interleaved quoting:
https://en.wikipedia.org/wiki/Posting_style#Interleaved_style
* Reply using the --to, --cc, and --in-reply-to
switches of git-send-email(1):
git send-email \
--in-reply-to=681cc3f1.050a0220.1bc670.0406SMTPIN_ADDED_MISSING@mx.google.com \
--to=dpdklab@iol.unh.edu \
--cc=dpdk-test-reports@iol.unh.edu \
--cc=test-report@dpdk.org \
/path/to/YOUR_REPLY
https://kernel.org/pub/software/scm/git/docs/git-send-email.html
* If your mail client supports setting the In-Reply-To header
via mailto: links, try the mailto: link
Be sure your reply has a Subject: header at the top and a blank line
before the message body.
This is a public inbox, see mirroring instructions
for how to clone and mirror all data and code used for this inbox;
as well as URLs for NNTP newsgroup(s).