From mboxrd@z Thu Jan 1 00:00:00 1970 Return-Path: Received: from mails.dpdk.org (mails.dpdk.org [217.70.189.124]) by inbox.dpdk.org (Postfix) with ESMTP id 30A70466F7 for ; Thu, 8 May 2025 16:47:15 +0200 (CEST) Received: from mails.dpdk.org (localhost [127.0.0.1]) by mails.dpdk.org (Postfix) with ESMTP id ECAE84026C; Thu, 8 May 2025 16:47:14 +0200 (CEST) Received: from mail-yw1-f225.google.com (mail-yw1-f225.google.com [209.85.128.225]) by mails.dpdk.org (Postfix) with ESMTP id 402584026B for ; Thu, 8 May 2025 16:47:14 +0200 (CEST) Received: by mail-yw1-f225.google.com with SMTP id 00721157ae682-70a32708b4eso5200377b3.3 for ; Thu, 08 May 2025 07:47:14 -0700 (PDT) DKIM-Signature: v=1; a=rsa-sha256; c=relaxed/relaxed; d=iol.unh.edu; s=unh-iol; t=1746715633; x=1747320433; darn=dpdk.org; h=references:in-reply-to:cc:to:from:subject:message-id:date:from:to :cc:subject:date:message-id:reply-to; bh=veCfykhzLf79sOEvRRjuMUHDrPZtOvnE2MfqoOWwJ1Y=; b=OBCKpvP+36mFJcFeuUEkKcXD8liTEjISe3Erni0s7g3ZyUn2oOXwzGhayG9XmkXIG5 vGjys89VhAiPJtRgByIMNL36zC+YxVmV6tIJlHDeufiNAOElNdkmK1oWcNQm53rH0lom WCPqEv+fQwNukfXFtW0aaNEv1TTYV/J6RRbmQ= X-Google-DKIM-Signature: v=1; a=rsa-sha256; c=relaxed/relaxed; d=1e100.net; s=20230601; t=1746715633; x=1747320433; h=references:in-reply-to:cc:to:from:subject:message-id:date :x-gm-message-state:from:to:cc:subject:date:message-id:reply-to; bh=veCfykhzLf79sOEvRRjuMUHDrPZtOvnE2MfqoOWwJ1Y=; b=GbP91yBoqTcj7Xjqf2u1lwabxnpVtEJ8FSf0seCXn2j5SEJ3ZUgVlO/7i38vobDS1z kV746H5MIVcdPAXPhe8wmzYVi55sdC2P2u7qQ2yn0RWohwEBWt+haXJiVSs+Cb2pKc9P h+N2R/q0iBxG2iOPsQRY8K1BOej6MC2uX7O7zdLEQWBfinP8I5jFdpotC/dDWgBiCgG2 YNvV7objF4IzKALbtIkKp2vm8HMDPf95fQKpQli5CxYSOGMUwM3BZhDsCZo5X27OxAn2 ZgmWYsIxu/GLenHEP1TAJB+EBFCjQBU2meeuk9PLR17o67tDRN6hmVXz2hRaOW+qe9i8 SXqA== X-Gm-Message-State: AOJu0Yx23x9rc6F62YLMDogDtBLjxHxnUz82v/YjD6bdIjZmTGnL3MEm B5Z1uDugTALJmQdmSxkZQSqGzGp+bgGD+OXXLbGyhDToztrzgEreZiIagOnqFUNJPVCQJYisgdj oYZDS8X3hI2h0mYBo+f3YhY/mYFdrKi2S6M70sdLl X-Gm-Gg: ASbGncsk9d42f00oHVcrMDA3FJQrGliEvdDMz86xN1mFj0LM+dQDhQEiBDTMA5BlU1X vjMId5IJu6iQTMF57jgay4W5uFKoMxr4Ua0Sy/XVQTtY+FC3NHQerzg3uwapd6B6FiNUWO2luGD mc5QUbxgI9hnpmVxTBsVY8CPhZf1ihTeb/nGyOYwm3tfCMZRwgYD68hOl7WGHjit3/Orq0AooFb sopn1vm8dQrzg42f78z2VRpY4+wliCu6MuWOmcX800LOCzaIG4961ZWLUotCRIvgguUmlAMvfU9 aHesLHOpHByxLbUqrMxcrl8XYnavWJCQOimPdkZrbcgQLfoR7BJ+yjIYVJY= X-Google-Smtp-Source: AGHT+IEV4bs5mIgNldeZiul572LG41Q4z+odeCM6jzGm2qCWhlDzz432rW3sYgDfrj1pCM7mceAyCf/aEB/H X-Received: by 2002:a05:690c:c07:b0:6f4:8207:c68d with SMTP id 00721157ae682-70a2ce86314mr56463847b3.3.1746715633467; Thu, 08 May 2025 07:47:13 -0700 (PDT) Received: from postal.iol.unh.edu (postal.iol.unh.edu. [132.177.123.84]) by smtp-relay.gmail.com with ESMTPS id 00721157ae682-70a3d849ec6sm44297b3.56.2025.05.08.07.47.13 (version=TLS1_2 cipher=ECDHE-ECDSA-AES128-GCM-SHA256 bits=128/128); Thu, 08 May 2025 07:47:13 -0700 (PDT) X-Relaying-Domain: iol.unh.edu Date: Thu, 08 May 2025 07:47:13 -0700 (PDT) Message-ID: <681cc3f1.050a0220.1bc670.0406SMTPIN_ADDED_MISSING@mx.google.com> Received: from [172.21.0.6] (unknown [172.18.0.240]) by postal.iol.unh.edu (Postfix) with ESMTP id 06FA06052471; Thu, 8 May 2025 10:46:43 -0400 (EDT) Subject: |SUCCESS| pw153351-153352 [PATCH] [2/2] crypto/uadk: use async mode From: dpdklab@iol.unh.edu To: Test Report Cc: dpdk-test-reports@iol.unh.edu In-Reply-To: <20250508074119.356011-3-zhangfei.gao@linaro.org> References: <20250508074119.356011-3-zhangfei.gao@linaro.org> Content-Type: text/plain X-BeenThere: test-report@dpdk.org X-Mailman-Version: 2.1.29 Precedence: list List-Id: automatic DPDK test reports List-Unsubscribe: , List-Archive: List-Post: List-Help: List-Subscribe: , Errors-To: test-report-bounces@dpdk.org Test-Label: iol-compile-arm64-testing Test-Status: SUCCESS http://dpdk.org/patch/153352 _Testing PASS_ Submitter: Zhangfei Gao Date: Thursday, May 08 2025 07:41:19 DPDK git baseline: Repo:dpdk Branch: master CommitID:ca1690ebd224f148268285b15b97441ccdbdd07e 153351-153352 --> testing pass Upstream job id: Generic-DPDK-Compile-Meson#386453 Test environment and result as below: +----------------------------------------+--------------------+ | Environment | dpdk_meson_compile | +========================================+====================+ | RHEL9 (ARM) | PASS | +----------------------------------------+--------------------+ | Ubuntu 20.04 ARM GCC Cross Compile | PASS | +----------------------------------------+--------------------+ | Debian 12 with MUSDK | PASS | +----------------------------------------+--------------------+ | Fedora 41 (ARM) | PASS | +----------------------------------------+--------------------+ | Ubuntu 20.04 ARM SVE | PASS | +----------------------------------------+--------------------+ | Fedora 41 (ARM Clang) | PASS | +----------------------------------------+--------------------+ | Fedora 40 (ARM Clang) | PASS | +----------------------------------------+--------------------+ | Fedora 40 (ARM) | PASS | +----------------------------------------+--------------------+ | Ubuntu 20.04 (ARM) | PASS | +----------------------------------------+--------------------+ | Ubuntu 22.04 (ARM) | PASS | +----------------------------------------+--------------------+ | Ubuntu 24.04 (ARM) | PASS | +----------------------------------------+--------------------+ | CentOS Stream 9 (ARM) | PASS | +----------------------------------------+--------------------+ | CentOS Stream 10 (ARM) | PASS | +----------------------------------------+--------------------+ | Ubuntu 20.04 ARM Clang Cross Compile | PASS | +----------------------------------------+--------------------+ | Debian 12 (arm) | PASS | +----------------------------------------+--------------------+ | Ubuntu 20.04 aarch32 GCC Cross Compile | PASS | +----------------------------------------+--------------------+ RHEL9 (ARM) Kernel: Depends on container host Compiler: gcc 11.5.0 20240719 (Red Hat 11.5.0-2) Ubuntu 20.04 ARM GCC Cross Compile Kernel: Depends on container host Compiler: aarch64-linux-gnu-gcc (Ubuntu 9.4.0-1ubuntu1~20.04.2) 9.4.0 Debian 12 with MUSDK Kernel: Depends on container host Compiler: gcc (Debian 12.2.0-14) 12.2.0 Fedora 41 (ARM) Kernel: Depends on container host Compiler: gcc 14.2.1 20240912 (Red Hat 14.2.1-3) Ubuntu 20.04 ARM SVE Kernel: Depends on container host Compiler: gcc (Ubuntu 10.5.0-1ubuntu1~20.04) 10.5.0 Fedora 41 (ARM Clang) Kernel: Depends on container host Compiler: clang 19.1.5 (Fedora 19.1.5-1.fc41) Fedora 40 (ARM Clang) Kernel: Depends on container host Compiler: clang 18.1.8 (Fedora 18.1.8-1.fc40) Fedora 40 (ARM) Kernel: Depends on container host Compiler: gcc 14.2.1 20240912 (Red Hat 14.2.1-3) Ubuntu 20.04 (ARM) Kernel: Depends on container host Compiler: gcc (Ubuntu 9.4.0-1ubuntu1~20.04.2) 9.4.0 Ubuntu 22.04 (ARM) Kernel: Depends on container host Compiler: gcc (Ubuntu 11.4.0-1ubuntu1~22.04) 11.4.0 Ubuntu 24.04 (ARM) Kernel: Depends on container host Compiler: gcc (Ubuntu 13.3.0-6ubuntu2~24.04) 13.3.0 CentOS Stream 9 (ARM) Kernel: Depends on container host Compiler: gcc 11.5.0 20240719 (Red Hat 11.5.0-2) CentOS Stream 10 (ARM) Kernel: Depends on container host Compiler: gcc 14.2.1 20241104 (Red Hat 14.2.1-6) Ubuntu 20.04 ARM Clang Cross Compile Kernel: Depends on container host Compiler: clang 10.0.0-4ubuntu1 Debian 12 (arm) Kernel: Depends on container host Compiler: gcc (Debian 12.2.0-14) 12.2.0 Ubuntu 20.04 aarch32 GCC Cross Compile Kernel: Depends on container host Compiler: gcc 9.4.0 To view detailed results, visit: https://lab.dpdk.org/results/dashboard/patchsets/33140/ UNH-IOL DPDK Community Lab To manage your email subscriptions, visit: https://lab.dpdk.org/results/dashboard/preferences/subscriptions/