From mboxrd@z Thu Jan 1 00:00:00 1970 Return-Path: Received: from mails.dpdk.org (mails.dpdk.org [217.70.189.124]) by inbox.dpdk.org (Postfix) with ESMTP id B6BBD466F7 for ; Thu, 8 May 2025 16:53:55 +0200 (CEST) Received: from mails.dpdk.org (localhost [127.0.0.1]) by mails.dpdk.org (Postfix) with ESMTP id 94DDD4026C; Thu, 8 May 2025 16:53:55 +0200 (CEST) Received: from mail-io1-f98.google.com (mail-io1-f98.google.com [209.85.166.98]) by mails.dpdk.org (Postfix) with ESMTP id 65A8D4026B for ; Thu, 8 May 2025 16:53:54 +0200 (CEST) Received: by mail-io1-f98.google.com with SMTP id ca18e2360f4ac-864687c830aso86589539f.0 for ; Thu, 08 May 2025 07:53:54 -0700 (PDT) DKIM-Signature: v=1; a=rsa-sha256; c=relaxed/relaxed; d=iol.unh.edu; s=unh-iol; t=1746716033; x=1747320833; darn=dpdk.org; h=references:in-reply-to:cc:to:from:subject:message-id:date:from:to :cc:subject:date:message-id:reply-to; bh=yBCGXW71aZdTh6e8nHtorK9hXTtcV2zBJITuvazepzY=; b=HhiYctNYbINLsbRiuFZHpv5aECxUmGvfuzzMsMcCzaJbUkqMC0wcJHwfefo7Qrxb2N CRnGh125fTJvErGm5MizgbAsCct8HRTds6J7kMuM5lzMb/vF/LoOO8pzMCNoZYYirV2h BtNNh4VUJUD/kp4iIZYoPGnCLfXN+triNNRc8= X-Google-DKIM-Signature: v=1; a=rsa-sha256; c=relaxed/relaxed; d=1e100.net; s=20230601; t=1746716033; x=1747320833; h=references:in-reply-to:cc:to:from:subject:message-id:date :x-gm-message-state:from:to:cc:subject:date:message-id:reply-to; bh=yBCGXW71aZdTh6e8nHtorK9hXTtcV2zBJITuvazepzY=; b=SwDItsCAbNSYAmbj/6QS4tlditjgKAR15Ws2EFiTrUDrv/v0cBP6j1Iz+wz4TaK6w2 l0BGLXYBgslLCmGCTh5ZSMv6/Q/oP3FwOBbTWJZyM14jhuTvVif3K8Woqkhsn33RPOUr OL+fGKmRuAXGRedWBIAVkkc6RTNsA9bNvjKjkOE+7B7VWbsSPg094NHOtMZ2un8BOlOC cR7sID29/vuET8BXMzSO+VOO1RfJ5d+ohwb+YqAMk9wfqAAFXoLsNYN7pFZQou//K69/ Z8RAVCnMyKcjSFHZTEeLbVX1xk8bJbDqpPJG9fYN6BJZXMJYAk7ETW7QhpRKexdhDPKf x8ww== X-Gm-Message-State: AOJu0Yy04ik8JOw3HFrboGaTXckO+ZDAxCIO5dcjNoCzhz29hZKpVRNE HTyQ1gJPBlA1eXbcFDspbbE6UetAo/x2HrtO//W0SLrVNPhJG8NnIC3BOmoRjfYbydfl5mnnRAp AttQUB8aEAsB32Cqb3AL+7QOFIsVB0KNjlWOT8a8M X-Gm-Gg: ASbGnctq/MihWtqUYNwHHm1oED1gi7CX6JhYf4ftu7ioWKOaUmEwvvn1FxGlnZm2fGU dyGfNG6JCdeAIedTx6fDMWlvqNzsCTP1UFSmjjIEsUjMefpAMs6cqfy17O9FamOQbFjAi/uWgaW A6D6IvGh3M+GkrxorGWNXij3j/2kr/B+evJvXlef2mjO2CAlbffQWntera5xksioFTlp0VMU4Ln bHZR+K+7FfQzHEwDQZHcgo52Hiek3hdPuSHdRbGZ/3rMr+lmAx6Do1mYdkn3M1OMzlwLdRIoPm/ vhaSf6U+giAFNNJdv0Br2WZKMUBxo5xV/ckS31/76oV6a0JgPZAYIrcvd6U= X-Google-Smtp-Source: AGHT+IGn23hT4vslNcqq8AvJoBgoUkcVaF5r7zWxzlSByO5CqE4Q/kAk7ue0VoVSOehPL01otUYfMyFDnKCl X-Received: by 2002:a05:620a:2894:b0:7c5:49d6:733a with SMTP id af79cd13be357-7caf738a10dmr1124094585a.21.1746716020661; Thu, 08 May 2025 07:53:40 -0700 (PDT) Received: from postal.iol.unh.edu (postal.iol.unh.edu. [132.177.123.84]) by smtp-relay.gmail.com with ESMTPS id 6a1803df08f44-6f6e3a558cesm57226d6.61.2025.05.08.07.53.40 (version=TLS1_2 cipher=ECDHE-ECDSA-AES128-GCM-SHA256 bits=128/128); Thu, 08 May 2025 07:53:40 -0700 (PDT) X-Relaying-Domain: iol.unh.edu Date: Thu, 08 May 2025 07:53:40 -0700 (PDT) Message-ID: <681cc574.d40a0220.8849b.04d9SMTPIN_ADDED_MISSING@mx.google.com> Received: from [172.21.0.5] (unknown [172.18.0.240]) by postal.iol.unh.edu (Postfix) with ESMTP id 4F63B6052471; Thu, 8 May 2025 10:53:40 -0400 (EDT) Subject: |SUCCESS| pw153349 [PATCH] eal: warn if no lcore is available From: dpdklab@iol.unh.edu To: Test Report Cc: dpdk-test-reports@iol.unh.edu In-Reply-To: <20250508051915.226465-2-david.marchand@redhat.com> References: <20250508051915.226465-2-david.marchand@redhat.com> Content-Type: text/plain X-BeenThere: test-report@dpdk.org X-Mailman-Version: 2.1.29 Precedence: list List-Id: automatic DPDK test reports List-Unsubscribe: , List-Archive: List-Post: List-Help: List-Subscribe: , Errors-To: test-report-bounces@dpdk.org Test-Label: iol-abi-testing Test-Status: SUCCESS http://dpdk.org/patch/153349 _Testing PASS_ Submitter: David Marchand Date: Thursday, May 08 2025 05:19:15 DPDK git baseline: Repo:dpdk Branch: master CommitID:75f179ebe347b6098cf3af26d3d3b7168fe3fe24 153349 --> testing pass Upstream job id: Generic-DPDK-Compile-ABI#125783 Test environment and result as below: +-------------------+----------+ | Environment | abi_test | +===================+==========+ | CentOS Stream 9 | PASS | +-------------------+----------+ | CentOS Stream 10 | PASS | +-------------------+----------+ | Debian 12 | PASS | +-------------------+----------+ | Fedora 40 (Clang) | PASS | +-------------------+----------+ | Fedora 41 | PASS | +-------------------+----------+ | Ubuntu 24.04 | PASS | +-------------------+----------+ | openSUSE Leap 15 | PASS | +-------------------+----------+ | Fedora 40 | PASS | +-------------------+----------+ | Fedora 41 (Clang) | PASS | +-------------------+----------+ | RHEL8 | PASS | +-------------------+----------+ | Ubuntu 22.04 | PASS | +-------------------+----------+ | RHEL9 | PASS | +-------------------+----------+ CentOS Stream 9 Kernel: Depends on container host Compiler: gcc 11.5.0 20240719 (Red Hat 11.5.0-2) CentOS Stream 10 Kernel: Depends on container host Compiler: gcc 14.2.1 20241104 (Red Hat 14.2.1-6) Debian 12 Kernel: Depends on container host Compiler: gcc (Debian 12.2.0-14) 12.2.0 Fedora 40 (Clang) Kernel: Depends on container host Compiler: clang 18.1.8 (Fedora 18.1.8-1.fc40) Fedora 41 Kernel: Depends on container host Compiler: gcc 14.2.1 20240912 (Red Hat 14.2.1-3) Ubuntu 24.04 Kernel: Depends on container host Compiler: gcc (Ubuntu 13.3.0-6ubuntu2~24.04) 13.3.0 openSUSE Leap 15 Kernel: Depends on container host Compiler: gcc (SUSE Linux) 7.5.0 Fedora 40 Kernel: Depends on container host Compiler: gcc 14.2.1 20240912 (Red Hat 14.2.1-3) Fedora 41 (Clang) Kernel: Depends on container host Compiler: clang 19.1.5 (Fedora 19.1.5-1.fc41) RHEL8 Kernel: Depends on container host Compiler: gcc 8.5.0 20210514 (Red Hat 8.5.0-22) Ubuntu 22.04 Kernel: Depends on container host Compiler: gcc (Ubuntu 11.4.0-1ubuntu1~22.04) 11.4.0 RHEL9 Kernel: Depends on container host Compiler: gcc 11.5.0 20240719 (Red Hat 11.5.0-2) To view detailed results, visit: https://lab.dpdk.org/results/dashboard/patchsets/33138/ UNH-IOL DPDK Community Lab To manage your email subscriptions, visit: https://lab.dpdk.org/results/dashboard/preferences/subscriptions/