From mboxrd@z Thu Jan 1 00:00:00 1970 Return-Path: Received: from mails.dpdk.org (mails.dpdk.org [217.70.189.124]) by inbox.dpdk.org (Postfix) with ESMTP id D247C46676 for ; Thu, 8 May 2025 17:28:02 +0200 (CEST) Received: from mails.dpdk.org (localhost [127.0.0.1]) by mails.dpdk.org (Postfix) with ESMTP id CD9894026C; Thu, 8 May 2025 17:28:02 +0200 (CEST) Received: from mail-pg1-f227.google.com (mail-pg1-f227.google.com [209.85.215.227]) by mails.dpdk.org (Postfix) with ESMTP id 8CAAC4026B for ; Thu, 8 May 2025 17:28:01 +0200 (CEST) Received: by mail-pg1-f227.google.com with SMTP id 41be03b00d2f7-b0b2d1f2845so733479a12.3 for ; Thu, 08 May 2025 08:28:01 -0700 (PDT) DKIM-Signature: v=1; a=rsa-sha256; c=relaxed/relaxed; d=iol.unh.edu; s=unh-iol; t=1746718080; x=1747322880; darn=dpdk.org; h=references:in-reply-to:cc:to:from:subject:message-id:date:from:to :cc:subject:date:message-id:reply-to; bh=CKj7HC+edyFrFQ7aQ85j8qoQRMYX6SoxP/bl2oQX1XE=; b=XkyMGX2bSM/FN0lL+z0/FG18xSyp3/wpcCsKjlDpQFW65jcEfe0xJwjRGX/U20eOse 0F/n+hCOBlua8kFnokiHnF76dP8EudxOA0LBHPic9Dxn0iwCNDeBEy69QK8kqeRJ3FJL Gm1jH+W9zcq2nUFESPqnAQl/7vrLY6dOHldbs= X-Google-DKIM-Signature: v=1; a=rsa-sha256; c=relaxed/relaxed; d=1e100.net; s=20230601; t=1746718080; x=1747322880; h=references:in-reply-to:cc:to:from:subject:message-id:date :x-gm-message-state:from:to:cc:subject:date:message-id:reply-to; bh=CKj7HC+edyFrFQ7aQ85j8qoQRMYX6SoxP/bl2oQX1XE=; b=SRuETVzbaCbK9Cy4CEef6v7FhHDrGAZwTTIUc5zhdzrhV/d4f9yvYwDxCqQLTgK4bg XXAlc4KcgxsSAyz+LulwsBVYTph74SlN2tmIDqrQR1jtNkrAILCtoGcBCoDTFXyQ3GCj qDryNBiUxuvbkw6f7Y8+WCeRblwwHSkA6w6KwjA+70fhMBCnPyVfA2IkZc5OEkYBgm1m GxR18R8Cmwx7GLcDmSSyxe7v35aVhvMVLjPiCLRLBSN/V0ErPalLhUwMWUBiaTSobcUV 1eyMckj8nEjDKC3NZVuut1AQExwRBDsRuXmrIc7Yzv7cPzmBK+6kEWOgt7kwV3Mgrxdm TKEw== X-Gm-Message-State: AOJu0YxJQEC72VcursW7cqgwZHV5wqYG0hBQ0fVqhpgEWderMMYqELQF krryrBdE0uNF7JJn+9RJZ6X9Ywfi1bJS3ZR89b7wX2CnShQq21wlhXGQhFHpMi0zI/c/79CrN2f 7DmAknnESPzPgjiWgPSRV/5wITJf0s2JEiCvxlMCN X-Gm-Gg: ASbGnctsvDtDVqT5anzVw+inLg+ecQ+tEvJ+ztqMZDPX8KQxU0hkErm0SSFDjkE7p/j IfRY1kECi/YzY8e07VGnrzL43G6bx7Q54/yWblScUkc0d4TC5T4AzWo/iCoamIh7H4mlMnwrtS/ bhcKxpMnC/KC8Q6kySDS9/zDZtjQUfrbnSBNhXHv0mVb181MTrgewoxjCshehStq6GakQW9+rr5 kZ2e4PcwtP47kcQGkjH1CVT+upW+gknmFm6X2m4zbsr7/a9DsO2HYw7FbJAFOrYXSl1AtV3rpat HAVPCG/UQWcfhamjrC2XkiXTmMeWdaN0UoBInzPeQy+cZ1km8WrVjxPdJp0= X-Google-Smtp-Source: AGHT+IGMLLKxWbQOEFb5yEGhomYIrHS5vf+5oOvwsp8mjsglrOX9jws/sVfnNt6YHQI7ScCzeRpz3FWYeYJM X-Received: by 2002:a17:90b:1e08:b0:30a:4874:5397 with SMTP id 98e67ed59e1d1-30aac183785mr12411363a91.9.1746718080306; Thu, 08 May 2025 08:28:00 -0700 (PDT) Received: from postal.iol.unh.edu (postal.iol.unh.edu. [132.177.123.84]) by smtp-relay.gmail.com with ESMTPS id 98e67ed59e1d1-30c39e43bb6sm6360a91.11.2025.05.08.08.28.00 (version=TLS1_2 cipher=ECDHE-ECDSA-AES128-GCM-SHA256 bits=128/128); Thu, 08 May 2025 08:28:00 -0700 (PDT) X-Relaying-Domain: iol.unh.edu Date: Thu, 08 May 2025 08:28:00 -0700 (PDT) Message-ID: <681ccd80.170a0220.1750f1.0543SMTPIN_ADDED_MISSING@mx.google.com> Received: from [172.21.0.6] (unknown [172.18.0.240]) by postal.iol.unh.edu (Postfix) with ESMTP id 79AA06052471; Thu, 8 May 2025 11:27:29 -0400 (EDT) Subject: |SUCCESS| pw153351-153352 [PATCH] [2/2] crypto/uadk: use async mode From: dpdklab@iol.unh.edu To: Test Report Cc: dpdk-test-reports@iol.unh.edu In-Reply-To: <20250508074119.356011-3-zhangfei.gao@linaro.org> References: <20250508074119.356011-3-zhangfei.gao@linaro.org> Content-Type: text/plain X-BeenThere: test-report@dpdk.org X-Mailman-Version: 2.1.29 Precedence: list List-Id: automatic DPDK test reports List-Unsubscribe: , List-Archive: List-Post: List-Help: List-Subscribe: , Errors-To: test-report-bounces@dpdk.org Test-Label: iol-unit-amd64-testing Test-Status: SUCCESS http://dpdk.org/patch/153352 _Testing PASS_ Submitter: Zhangfei Gao Date: Thursday, May 08 2025 07:41:19 DPDK git baseline: Repo:dpdk Branch: master CommitID:ca1690ebd224f148268285b15b97441ccdbdd07e 153351-153352 --> testing pass Upstream job id: Generic-VM-Unit-Test-DPDK#28415 Test environment and result as below: +---------------------+----------------+ | Environment | dpdk_unit_test | +=====================+================+ | Debian 12 | PASS | +---------------------+----------------+ | CentOS Stream 9 | PASS | +---------------------+----------------+ | CentOS Stream 10 | PASS | +---------------------+----------------+ | Fedora 40 | PASS | +---------------------+----------------+ | Fedora 41 | PASS | +---------------------+----------------+ | Fedora 40 (Clang) | PASS | +---------------------+----------------+ | Fedora 41 (Clang) | PASS | +---------------------+----------------+ | RHEL9 | PASS | +---------------------+----------------+ | RHEL8 | PASS | +---------------------+----------------+ | Ubuntu 20.04 | PASS | +---------------------+----------------+ | Ubuntu 22.04 | PASS | +---------------------+----------------+ | Ubuntu 24.04 | PASS | +---------------------+----------------+ | Windows Server 2022 | PASS | +---------------------+----------------+ Debian 12 Kernel: Depends on container host Compiler: gcc (Debian 12.2.0-14) 12.2.0 CentOS Stream 9 Kernel: Depends on container host Compiler: gcc 11.5.0 20240719 (Red Hat 11.5.0-2) CentOS Stream 10 Kernel: Depends on container host Compiler: gcc 14.2.1 20241104 (Red Hat 14.2.1-6) Fedora 40 Kernel: Depends on container host Compiler: gcc 14.2.1 20240912 (Red Hat 14.2.1-3) Fedora 41 Kernel: Depends on container host Compiler: gcc 14.2.1 20240912 (Red Hat 14.2.1-3) Fedora 40 (Clang) Kernel: Depends on container host Compiler: clang 18.1.8 (Fedora 18.1.8-1.fc40) Fedora 41 (Clang) Kernel: Depends on container host Compiler: clang 19.1.5 (Fedora 19.1.5-1.fc41) RHEL9 Kernel: Depends on container host Compiler: gcc 11.5.0 20240719 (Red Hat 11.5.0-2) RHEL8 Kernel: Depends on container host Compiler: gcc 8.5.0 20210514 (Red Hat 8.5.0-22) Ubuntu 20.04 Kernel: Depends on container host Compiler: gcc (Ubuntu 9.4.0-1ubuntu1~20.04.2) 9.4.0 Ubuntu 22.04 Kernel: Depends on container host Compiler: gcc (Ubuntu 11.4.0-1ubuntu1~22.04) 11.4.0 Ubuntu 24.04 Kernel: Depends on container host Compiler: gcc (Ubuntu 13.3.0-6ubuntu2~24.04) 13.3.0 Windows Server 2022 Kernel: 10.0.20348.2031 Compiler: clang 15.0.7, gcc 14.1.0 (MinGW), and MSVC VS 19.39.33521 To view detailed results, visit: https://lab.dpdk.org/results/dashboard/patchsets/33140/ UNH-IOL DPDK Community Lab To manage your email subscriptions, visit: https://lab.dpdk.org/results/dashboard/preferences/subscriptions/