From mboxrd@z Thu Jan 1 00:00:00 1970 Return-Path: Received: from mails.dpdk.org (mails.dpdk.org [217.70.189.124]) by inbox.dpdk.org (Postfix) with ESMTP id 9FAF646676 for ; Thu, 8 May 2025 17:34:57 +0200 (CEST) Received: from mails.dpdk.org (localhost [127.0.0.1]) by mails.dpdk.org (Postfix) with ESMTP id 854A84026C; Thu, 8 May 2025 17:34:57 +0200 (CEST) Received: from mail-qk1-f226.google.com (mail-qk1-f226.google.com [209.85.222.226]) by mails.dpdk.org (Postfix) with ESMTP id 917354026B for ; Thu, 8 May 2025 17:34:56 +0200 (CEST) Received: by mail-qk1-f226.google.com with SMTP id af79cd13be357-7c96759d9dfso170663885a.3 for ; Thu, 08 May 2025 08:34:56 -0700 (PDT) DKIM-Signature: v=1; a=rsa-sha256; c=relaxed/relaxed; d=iol.unh.edu; s=unh-iol; t=1746718496; x=1747323296; darn=dpdk.org; h=references:in-reply-to:cc:to:from:subject:message-id:date:from:to :cc:subject:date:message-id:reply-to; bh=lLEPajbCBX3FpNBJrm/g6wfHs3n2APXTZNLjIOANiWQ=; b=Zn0wbsAMVRYgrhawu7XJOC86l3cQhdyABgUa+cqrB656NdmsEg26O+Npfi/H2JgknY 1GzNlGQDPHYmkb5D9JgCRSiPaoTy8OBaA6EqXpNq2cplRIIa2a4pee3tk4RwQVVIiLxg i9N4vCEN14zS16pvVe2Xi2EAUG262RBSzZi8U= X-Google-DKIM-Signature: v=1; a=rsa-sha256; c=relaxed/relaxed; d=1e100.net; s=20230601; t=1746718496; x=1747323296; h=references:in-reply-to:cc:to:from:subject:message-id:date :x-gm-message-state:from:to:cc:subject:date:message-id:reply-to; bh=lLEPajbCBX3FpNBJrm/g6wfHs3n2APXTZNLjIOANiWQ=; b=Sqv5wNd8bsCjWbzHkKf+bbx3fHCzaTiLjYqG8OGFTlKKm5bPfLibQJfFTsKzlB2Us2 EdX40XpLLhDxnia9u8/KH3YvuJarlvcJYWc7hGWKG5zvLsMnfkMekqJCGO7AQawF1cqb N0Jl5Yx3tfOfwqPUTOnp+3/xNYtHBi+KwqcRdQB0CeSIikfe6+//KYzXTbZ/F9XahtPG O2Mam4imddDsLdMtFEdOX9pZSLn5Fmk+RP2YNnzzoLuf/GPzqr2+q3OVzL4BZ1vypZ73 TRpeu2LK7pHG/WKUeTYLJHKjYn80pPnTBykAI8nTIkoG8DOsyJzCvMLhT4Jmz6/hPW7T egGA== X-Gm-Message-State: AOJu0YzVfrdYZgeDuRsJLGJNoOhfRnMXARg98vzVbEEwo/sF6kKmvLY1 AWivkD66238u6Z181+gfg7FKFbKcB5rKsNXKs5dKwr8WYziKtkk5kbBfUoM1mvc1CrAeUNNnTg5 +Qh/TMbc2Kj3UGTRAkW1t6dETIkqiNbr7eLPRSkTd X-Gm-Gg: ASbGncs/TdoLxP/8FS3m2PDmFGcQFfwXWAOKI+Rn6fsp6BulqPYZiAmoROQT0Fi8xpT 3KM2gr6sjjtz/8nV+L+IcI50lKU42qw5xOxlHWOwHvD1FMY4BUCeh5a/9uaBpY3+Yyif3MtH1Kv QxyZGjSpJslIqr3fHRdsO7eNXlaYgBPVZk8sk2ZFcKC8UpGV427H1SxFxiniOTILYLMr4Hk+K4g HuQK/zOb1JusPJpe2LnMCGixN6uYF8b/Eio59iBFCJrevzENVchafB/DkUeWhqeW5DxuPbJqIA8 96nMEdoxOudIVIaxKlJU3wowVqHC3PROZCoz8sAw5LI4XSmN+AhhDCVLD5k= X-Google-Smtp-Source: AGHT+IFp+mf+5EIyGASZIVMLeeSQCO+XIXLZirs1MKgRK3CBLp3TKUhR+B7fOuGuhIWyOQXY7e6JieCPtiCg X-Received: by 2002:a05:620a:45a5:b0:7c5:3e22:616f with SMTP id af79cd13be357-7cd010f7aa5mr18605285a.21.1746718495936; Thu, 08 May 2025 08:34:55 -0700 (PDT) Received: from postal.iol.unh.edu (postal.iol.unh.edu. [132.177.123.84]) by smtp-relay.gmail.com with ESMTPS id 71dfb90a1353d-52c5372f03asm2317e0c.5.2025.05.08.08.34.55 (version=TLS1_2 cipher=ECDHE-ECDSA-AES128-GCM-SHA256 bits=128/128); Thu, 08 May 2025 08:34:55 -0700 (PDT) X-Relaying-Domain: iol.unh.edu Date: Thu, 08 May 2025 08:34:55 -0700 (PDT) Message-ID: <681ccf1f.050a0220.2246a9.01eaSMTPIN_ADDED_MISSING@mx.google.com> Received: from [172.21.0.5] (unknown [172.18.0.240]) by postal.iol.unh.edu (Postfix) with ESMTP id 826FA6052471; Thu, 8 May 2025 11:34:55 -0400 (EDT) Subject: |SUCCESS| pw153349 [PATCH] eal: warn if no lcore is available From: dpdklab@iol.unh.edu To: Test Report Cc: dpdk-test-reports@iol.unh.edu In-Reply-To: <20250508051915.226465-2-david.marchand@redhat.com> References: <20250508051915.226465-2-david.marchand@redhat.com> Content-Type: text/plain X-BeenThere: test-report@dpdk.org X-Mailman-Version: 2.1.29 Precedence: list List-Id: automatic DPDK test reports List-Unsubscribe: , List-Archive: List-Post: List-Help: List-Subscribe: , Errors-To: test-report-bounces@dpdk.org Test-Label: iol-unit-amd64-testing Test-Status: SUCCESS http://dpdk.org/patch/153349 _Testing PASS_ Submitter: David Marchand Date: Thursday, May 08 2025 05:19:15 DPDK git baseline: Repo:dpdk Branch: master CommitID:75f179ebe347b6098cf3af26d3d3b7168fe3fe24 153349 --> testing pass Upstream job id: Generic-Unit-Test-DPDK#336553 Test environment and result as below: +-------------------+----------------+ | Environment | dpdk_unit_test | +===================+================+ | CentOS Stream 9 | PASS | +-------------------+----------------+ | CentOS Stream 10 | PASS | +-------------------+----------------+ | Debian 12 | PASS | +-------------------+----------------+ | Fedora 40 (Clang) | PASS | +-------------------+----------------+ | Fedora 40 | PASS | +-------------------+----------------+ | Fedora 41 (Clang) | PASS | +-------------------+----------------+ | Fedora 41 | PASS | +-------------------+----------------+ | RHEL8 | PASS | +-------------------+----------------+ | RHEL9 | PASS | +-------------------+----------------+ | Ubuntu 24.04 | PASS | +-------------------+----------------+ | Ubuntu 22.04 | PASS | +-------------------+----------------+ | Ubuntu 20.04 | PASS | +-------------------+----------------+ CentOS Stream 9 Kernel: Depends on container host Compiler: gcc 11.5.0 20240719 (Red Hat 11.5.0-2) CentOS Stream 10 Kernel: Depends on container host Compiler: gcc 14.2.1 20241104 (Red Hat 14.2.1-6) Debian 12 Kernel: Depends on container host Compiler: gcc (Debian 12.2.0-14) 12.2.0 Fedora 40 (Clang) Kernel: Depends on container host Compiler: clang 18.1.8 (Fedora 18.1.8-1.fc40) Fedora 40 Kernel: Depends on container host Compiler: gcc 14.2.1 20240912 (Red Hat 14.2.1-3) Fedora 41 (Clang) Kernel: Depends on container host Compiler: clang 19.1.5 (Fedora 19.1.5-1.fc41) Fedora 41 Kernel: Depends on container host Compiler: gcc 14.2.1 20240912 (Red Hat 14.2.1-3) RHEL8 Kernel: Depends on container host Compiler: gcc 8.5.0 20210514 (Red Hat 8.5.0-22) RHEL9 Kernel: Depends on container host Compiler: gcc 11.5.0 20240719 (Red Hat 11.5.0-2) Ubuntu 24.04 Kernel: Depends on container host Compiler: gcc (Ubuntu 13.3.0-6ubuntu2~24.04) 13.3.0 Ubuntu 22.04 Kernel: Depends on container host Compiler: gcc (Ubuntu 11.4.0-1ubuntu1~22.04) 11.4.0 Ubuntu 20.04 Kernel: Depends on container host Compiler: gcc (Ubuntu 9.4.0-1ubuntu1~20.04.2) 9.4.0 To view detailed results, visit: https://lab.dpdk.org/results/dashboard/patchsets/33138/ UNH-IOL DPDK Community Lab To manage your email subscriptions, visit: https://lab.dpdk.org/results/dashboard/preferences/subscriptions/