From mboxrd@z Thu Jan 1 00:00:00 1970 Return-Path: Received: from mails.dpdk.org (mails.dpdk.org [217.70.189.124]) by inbox.dpdk.org (Postfix) with ESMTP id 300F546676 for ; Thu, 8 May 2025 17:40:36 +0200 (CEST) Received: from mails.dpdk.org (localhost [127.0.0.1]) by mails.dpdk.org (Postfix) with ESMTP id 0F51F4026C; Thu, 8 May 2025 17:40:36 +0200 (CEST) Received: from mail-yw1-f226.google.com (mail-yw1-f226.google.com [209.85.128.226]) by mails.dpdk.org (Postfix) with ESMTP id E1CEF4026B for ; Thu, 8 May 2025 17:40:34 +0200 (CEST) Received: by mail-yw1-f226.google.com with SMTP id 00721157ae682-6ff4faf858cso8221557b3.2 for ; Thu, 08 May 2025 08:40:34 -0700 (PDT) DKIM-Signature: v=1; a=rsa-sha256; c=relaxed/relaxed; d=iol.unh.edu; s=unh-iol; t=1746718834; x=1747323634; darn=dpdk.org; h=references:in-reply-to:cc:to:from:subject:message-id:date:from:to :cc:subject:date:message-id:reply-to; bh=KHHlRVc4AWxFbJOCQFXULLmnIoq/PzbrolWMmnUVeiU=; b=Do57oOMHJ6EWQA/99jbr/eNYzjmyMpoT4jGlOkhdqfvdwjF9lECLFx03RJ+nrvIjtX L+6iZV73hseuVtJn2ezPV4chbvy/vVihf+JF4Lr+U+aCD4x3Lr19ajC4I0CAGrkIey2w TNoR3vRjL99BrKTIrLsKhmGDcHLScJXnyotKI= X-Google-DKIM-Signature: v=1; a=rsa-sha256; c=relaxed/relaxed; d=1e100.net; s=20230601; t=1746718834; x=1747323634; h=references:in-reply-to:cc:to:from:subject:message-id:date :x-gm-message-state:from:to:cc:subject:date:message-id:reply-to; bh=KHHlRVc4AWxFbJOCQFXULLmnIoq/PzbrolWMmnUVeiU=; b=t2ii6N/CIaUG9qZGcf2HK06x9/ZvS/i09Gofei96wLDzZVS8+QEUz8zk9pOcxrBVOO sTWCFOApQTQ0Sdw998vj98YJyxmWf99Z715fBlPUDxRQwuM0vzSTe59Beyn5JKmZb8t2 BnxkVbW/0PeGklZ8mE2Kh5rqVfp7vs3jNDhRsCFZGfYKVCkb7YpuAO1afGHnaY3Lk4eB PZANqc0nL9vEAgXH6By2t+8cM9nJFhiWds25ZhY1jQ/kW0Xkj+7gtVoA73/4j6s8T3yD FrRlimR2SxS0XM//zgaaHAKVtfnvob6d11mqLlcBpJFSKzRi1UNcJ0DnPxnZ2tb3XM8K 65PQ== X-Gm-Message-State: AOJu0YxJiFiiZsnVB/seEeDyjqhgmCinCRPJvjIJpp1kOgPIMvH/C2+h YnHlDXurR/fcis1aMhfSq0Hq79nbELv1uNYp3t27SWAr77L0O0m92JsanxYceuMar/F7nakBOGZ Odmp8zhkz6m6AypdCMyIfZLGdtjmr/aXgXuXWp1/v X-Gm-Gg: ASbGncsRF/G5Jujb7pyW5GDSyaqCTqKxnJ22EHHJ6rVJrkp0PRblRbrhLRWGWT+YtLZ VnTCXHVZbkza3Z/M4I3wjG/4+IHW2cZcVupDlGoqzln5hay5wiZkXjHb7kKXK2y7WWFvEoDaQPH fmjrKc8fGhQDDL3bSsLSwMTV/7XrnRW04MwoHL9dUGSH4s5EKkNYbMJNq48H4AeoDT/kgZV4B4S QlHTOQqoE6WZ8yx7nbZIUrEWb/LGVDtKoqXIBuV4IVUTL3Uaj6lNWo5iO+FeRANs5cRNTYYYMdu wx9VKInIO5R0E7/f7kemSvnN00ykpiA9IPVhAC96WuWnFI6ULRz/0WcKlgY= X-Google-Smtp-Source: AGHT+IFcFC4cEha8UcVri9CNneo2tx5OFSQstuvzjySq2P3qLthXUV4QK77WTrh/qkDrV1U//Pku3BOyDyub X-Received: by 2002:a05:690c:680f:b0:709:164a:fec with SMTP id 00721157ae682-70a2cee25d2mr56238627b3.17.1746718833933; Thu, 08 May 2025 08:40:33 -0700 (PDT) Received: from postal.iol.unh.edu (postal.iol.unh.edu. [132.177.123.84]) by smtp-relay.gmail.com with ESMTPS id 00721157ae682-70a3d75bf0esm97137b3.26.2025.05.08.08.40.33 (version=TLS1_2 cipher=ECDHE-ECDSA-AES128-GCM-SHA256 bits=128/128); Thu, 08 May 2025 08:40:33 -0700 (PDT) X-Relaying-Domain: iol.unh.edu Date: Thu, 08 May 2025 08:40:33 -0700 (PDT) Message-ID: <681cd071.050a0220.20d13c.084fSMTPIN_ADDED_MISSING@mx.google.com> Received: from [172.21.0.6] (unknown [172.18.0.240]) by postal.iol.unh.edu (Postfix) with ESMTP id 8DCFB6052472; Thu, 8 May 2025 11:40:33 -0400 (EDT) Subject: |SUCCESS| pw153359-153361 [PATCH] [v8,3/3] app/testpmd: add sleep co From: dpdklab@iol.unh.edu To: Test Report Cc: dpdk-test-reports@iol.unh.edu In-Reply-To: <15755be6192657d1e75940284d09939e58aee5b9.1746710154.git.anatoly.burakov@intel.com> References: <15755be6192657d1e75940284d09939e58aee5b9.1746710154.git.anatoly.burakov@intel.com> Content-Type: text/plain X-BeenThere: test-report@dpdk.org X-Mailman-Version: 2.1.29 Precedence: list List-Id: automatic DPDK test reports List-Unsubscribe: , List-Archive: List-Post: List-Help: List-Subscribe: , Errors-To: test-report-bounces@dpdk.org Test-Label: iol-compile-amd64-testing Test-Status: SUCCESS http://dpdk.org/patch/153361 _Testing PASS_ Submitter: Anatoly Burakov Date: Thursday, May 08 2025 13:16:03 DPDK git baseline: Repo:dpdk Branch: master CommitID:75f179ebe347b6098cf3af26d3d3b7168fe3fe24 153359-153361 --> testing pass Upstream job id: Windows-Compile-DPDK-VS#5677 Test environment and result as below: +---------------------+--------------------+-------------------+ | Environment | dpdk_meson_compile | dpdk_msvc_compile | +=====================+====================+===================+ | Ubuntu 20.04 | PASS | SKIPPED | +---------------------+--------------------+-------------------+ | FreeBSD 13.5 | PASS | SKIPPED | +---------------------+--------------------+-------------------+ | FreeBSD 14.2 | PASS | SKIPPED | +---------------------+--------------------+-------------------+ | Windows Server 2022 | SKIPPED | PASS | +---------------------+--------------------+-------------------+ Ubuntu 20.04 Kernel: 4.19.325-0419325-generic Compiler: gcc (Ubuntu 9.4.0-1ubuntu1~20.04.2) 9.4.0 FreeBSD 13.5 Kernel: 13.5-RELEASE Compiler: clang 19.1.7 FreeBSD 14.2 Kernel: 14.2-RELEASE Compiler: clang 18.1.6 Windows Server 2022 Kernel: 10.0.20348.2031 Compiler: clang 15.0.7, gcc 14.1.0 (MinGW), and MSVC VS 19.39.33521 To view detailed results, visit: https://lab.dpdk.org/results/dashboard/patchsets/33143/ UNH-IOL DPDK Community Lab To manage your email subscriptions, visit: https://lab.dpdk.org/results/dashboard/preferences/subscriptions/