From mboxrd@z Thu Jan 1 00:00:00 1970 Return-Path: Received: from mails.dpdk.org (mails.dpdk.org [217.70.189.124]) by inbox.dpdk.org (Postfix) with ESMTP id 590AD46676 for ; Thu, 8 May 2025 17:42:25 +0200 (CEST) Received: from mails.dpdk.org (localhost [127.0.0.1]) by mails.dpdk.org (Postfix) with ESMTP id 5261B4026C; Thu, 8 May 2025 17:42:25 +0200 (CEST) Received: from mail-pj1-f99.google.com (mail-pj1-f99.google.com [209.85.216.99]) by mails.dpdk.org (Postfix) with ESMTP id 286394026B for ; Thu, 8 May 2025 17:42:24 +0200 (CEST) Received: by mail-pj1-f99.google.com with SMTP id 98e67ed59e1d1-30a89c31ae7so1548055a91.2 for ; Thu, 08 May 2025 08:42:24 -0700 (PDT) DKIM-Signature: v=1; a=rsa-sha256; c=relaxed/relaxed; d=iol.unh.edu; s=unh-iol; t=1746718943; x=1747323743; darn=dpdk.org; h=references:in-reply-to:cc:to:from:subject:message-id:date:from:to :cc:subject:date:message-id:reply-to; bh=h04eaktqt+X6KKnXHwwwTeWn1KFnS69w/KUalv9V3Y4=; b=icKEP1/YzvRjv4A3Yqv5a4NNKxGb1E1h8su2aGy7K1Bqso9CgwFSRV5l4euWYl85TH snECjomVC+oPifKLp/NNPkCKlFKiYNxknNBCbD0p5JMurQyvZi6VBwoXPjIyHNMAvnTU RasyFbopM5cO8e2SRpSxIiCU0UITExU/lTHtE= X-Google-DKIM-Signature: v=1; a=rsa-sha256; c=relaxed/relaxed; d=1e100.net; s=20230601; t=1746718943; x=1747323743; h=references:in-reply-to:cc:to:from:subject:message-id:date :x-gm-message-state:from:to:cc:subject:date:message-id:reply-to; bh=h04eaktqt+X6KKnXHwwwTeWn1KFnS69w/KUalv9V3Y4=; b=wjxYySHjLZ1AI0VJwynmrgMgcpdbCl8qV2KiZGTA9WNMaXY9loJd/lbVOUwfiRRhqY BtStbY+0yEl9kl9l58k0Fl6F7dKetRfTSiDvXkSf30RyJPRrPMnvc4EHMNd5y8iUUHJM iwtuSxFagS8SMfzOcJyb06prPrvvB1BfEGz9KQRtTK7HUB+rfauuPNFMUKmbwGPXRxav L7Rf/4i7ijRBabiWXUi102pUpb44WcLRvZeArpAIr+XpPvLXfgK+uyq7FTy1M08+zbEd 1R+furqdOizeL+mMqvFdCx6USAV5qwM5BMixneaETys7Tv3zf3kJPLmrlChR2danMMlP LPiA== X-Gm-Message-State: AOJu0Yxe9mOAMcT+RqXAp3LMmAiJ+c61LCnZmEdTfNi15w1nH80GqGkj yolImdxJzEPlX+2L9sJ+Y07+joRokwY5gbc/T5B8IUBSm/QWb1NiYfj0BP/Vch/oVyq6bUOOv8o BYMm7tJ8QybuAi77D0gHINeD7xSmRhwY+wiJYZPhE X-Gm-Gg: ASbGncsbPQIUt6/bWFeBG3EsDsxrG01HnTTac+bFaDHPg7W7VFKwHIjxKt1fHmPgs7N CtSFM8MG9cGoup6o3Phj3PSi/b+6Eiqs6/PyeTdByQkOv4iSeYRewSIfOEnImRAqiRrVoK28nSq JWcl1b0NrqPX+6IkK3ngftN0HHSReSnVwnl8mimx9uol3twmXzlsICpsM0f4sgCCsMocTsH9qeI 7v8slC5FYAy9upAJ6x+R3OcK0HStdZQIwWQ+DHKZSwvTXUHyht1YXZwyEwgCqRG4azc3zoFKOE9 fg/8n8lRl1Q4Ix9Kk5/gSi1zCdpCG6AZRY0598lNt6DJAhTm7JIowkR9DiI= X-Google-Smtp-Source: AGHT+IFdfb/wYuURzMorveyblRZN8mSe85eScHcCtmWOlx00G6cOaBfU6m/C3YaJ+8/KYA8e6HPm9gfSWERb X-Received: by 2002:a17:90b:5105:b0:2ee:8427:4b02 with SMTP id 98e67ed59e1d1-30b3a6d819emr5757892a91.28.1746718942803; Thu, 08 May 2025 08:42:22 -0700 (PDT) Received: from postal.iol.unh.edu (postal.iol.unh.edu. [132.177.123.84]) by smtp-relay.gmail.com with ESMTPS id 98e67ed59e1d1-30ad4f5dfebsm162047a91.4.2025.05.08.08.42.22 (version=TLS1_2 cipher=ECDHE-ECDSA-AES128-GCM-SHA256 bits=128/128); Thu, 08 May 2025 08:42:22 -0700 (PDT) X-Relaying-Domain: iol.unh.edu Date: Thu, 08 May 2025 08:42:22 -0700 (PDT) Message-ID: <681cd0de.170a0220.6dbe9.8c47SMTPIN_ADDED_MISSING@mx.google.com> Received: from [172.21.0.5] (unknown [172.18.0.240]) by postal.iol.unh.edu (Postfix) with ESMTP id ED68A6052471; Thu, 8 May 2025 11:42:21 -0400 (EDT) Subject: |SUCCESS| pw153351-153352 [PATCH] [2/2] crypto/uadk: use async mode From: dpdklab@iol.unh.edu To: Test Report Cc: dpdk-test-reports@iol.unh.edu In-Reply-To: <20250508074119.356011-3-zhangfei.gao@linaro.org> References: <20250508074119.356011-3-zhangfei.gao@linaro.org> Content-Type: text/plain X-BeenThere: test-report@dpdk.org X-Mailman-Version: 2.1.29 Precedence: list List-Id: automatic DPDK test reports List-Unsubscribe: , List-Archive: List-Post: List-Help: List-Subscribe: , Errors-To: test-report-bounces@dpdk.org Test-Label: iol-unit-amd64-testing Test-Status: SUCCESS http://dpdk.org/patch/153352 _Testing PASS_ Submitter: Zhangfei Gao Date: Thursday, May 08 2025 07:41:19 DPDK git baseline: Repo:dpdk Branch: master CommitID:ca1690ebd224f148268285b15b97441ccdbdd07e 153351-153352 --> testing pass Upstream job id: Generic-VM-Unit-Test-DPDK#28416 Test environment and result as below: +---------------------+----------------+ | Environment | dpdk_unit_test | +=====================+================+ | Debian 12 | PASS | +---------------------+----------------+ | CentOS Stream 9 | PASS | +---------------------+----------------+ | CentOS Stream 10 | PASS | +---------------------+----------------+ | Fedora 40 | PASS | +---------------------+----------------+ | Fedora 41 | PASS | +---------------------+----------------+ | Fedora 40 (Clang) | PASS | +---------------------+----------------+ | Fedora 41 (Clang) | PASS | +---------------------+----------------+ | RHEL9 | PASS | +---------------------+----------------+ | RHEL8 | PASS | +---------------------+----------------+ | Ubuntu 20.04 | PASS | +---------------------+----------------+ | Ubuntu 22.04 | PASS | +---------------------+----------------+ | Ubuntu 24.04 | PASS | +---------------------+----------------+ | Windows Server 2022 | PASS | +---------------------+----------------+ Debian 12 Kernel: Depends on container host Compiler: gcc (Debian 12.2.0-14) 12.2.0 CentOS Stream 9 Kernel: Depends on container host Compiler: gcc 11.5.0 20240719 (Red Hat 11.5.0-2) CentOS Stream 10 Kernel: Depends on container host Compiler: gcc 14.2.1 20241104 (Red Hat 14.2.1-6) Fedora 40 Kernel: Depends on container host Compiler: gcc 14.2.1 20240912 (Red Hat 14.2.1-3) Fedora 41 Kernel: Depends on container host Compiler: gcc 14.2.1 20240912 (Red Hat 14.2.1-3) Fedora 40 (Clang) Kernel: Depends on container host Compiler: clang 18.1.8 (Fedora 18.1.8-1.fc40) Fedora 41 (Clang) Kernel: Depends on container host Compiler: clang 19.1.5 (Fedora 19.1.5-1.fc41) RHEL9 Kernel: Depends on container host Compiler: gcc 11.5.0 20240719 (Red Hat 11.5.0-2) RHEL8 Kernel: Depends on container host Compiler: gcc 8.5.0 20210514 (Red Hat 8.5.0-22) Ubuntu 20.04 Kernel: Depends on container host Compiler: gcc (Ubuntu 9.4.0-1ubuntu1~20.04.2) 9.4.0 Ubuntu 22.04 Kernel: Depends on container host Compiler: gcc (Ubuntu 11.4.0-1ubuntu1~22.04) 11.4.0 Ubuntu 24.04 Kernel: Depends on container host Compiler: gcc (Ubuntu 13.3.0-6ubuntu2~24.04) 13.3.0 Windows Server 2022 Kernel: 10.0.20348.2031 Compiler: clang 15.0.7, gcc 14.1.0 (MinGW), and MSVC VS 19.39.33521 To view detailed results, visit: https://lab.dpdk.org/results/dashboard/patchsets/33140/ UNH-IOL DPDK Community Lab To manage your email subscriptions, visit: https://lab.dpdk.org/results/dashboard/preferences/subscriptions/