From mboxrd@z Thu Jan 1 00:00:00 1970 Return-Path: Received: from mails.dpdk.org (mails.dpdk.org [217.70.189.124]) by inbox.dpdk.org (Postfix) with ESMTP id 3434E4669D for ; Thu, 8 May 2025 18:03:32 +0200 (CEST) Received: from mails.dpdk.org (localhost [127.0.0.1]) by mails.dpdk.org (Postfix) with ESMTP id 0D46F4026C; Thu, 8 May 2025 18:03:32 +0200 (CEST) Received: from mail-il1-f228.google.com (mail-il1-f228.google.com [209.85.166.228]) by mails.dpdk.org (Postfix) with ESMTP id 3B2D14026B for ; Thu, 8 May 2025 18:03:31 +0200 (CEST) Received: by mail-il1-f228.google.com with SMTP id e9e14a558f8ab-3d8020ba858so12120325ab.0 for ; Thu, 08 May 2025 09:03:31 -0700 (PDT) DKIM-Signature: v=1; a=rsa-sha256; c=relaxed/relaxed; d=iol.unh.edu; s=unh-iol; t=1746720210; x=1747325010; darn=dpdk.org; h=references:in-reply-to:cc:to:from:subject:message-id:date:from:to :cc:subject:date:message-id:reply-to; bh=SqnxYNpJglKbVNg8L0nwRDTp5MGFlv6MErgxGy1vTbo=; b=fhlmuQwzfD7tM1YKmBJPLJ1ISCZrnL5qIsu9XzBnNiv31pjXs6cbE95muCfAZ9UyHD MrFYXdhJlngdPRh1bsbytduMgRvV7lSHTGoVLsv3B3qcgIsOHsLBAYikVDvKEzfO8DS2 G+xoyqIW1/Ivk6Dtw9NxMqmypAjHqLaWMzSkc= X-Google-DKIM-Signature: v=1; a=rsa-sha256; c=relaxed/relaxed; d=1e100.net; s=20230601; t=1746720210; x=1747325010; h=references:in-reply-to:cc:to:from:subject:message-id:date :x-gm-message-state:from:to:cc:subject:date:message-id:reply-to; bh=SqnxYNpJglKbVNg8L0nwRDTp5MGFlv6MErgxGy1vTbo=; b=iCvjoDKF9Wq0xRrs1a+YdVH3b+neZMppHw0JmMCOnmtUB2a89LhTNUW33A3eBPDOj9 QJJ7nUO9GvsrOuXyFs1THndLjujyq9CcgeZenpuTWzEYfbVI4icBQa80BfAr+ip9Aeqp mE0VFvyWKH3P8/t8X0+elkSvq6w+1Vf03pxszCSQMAnR4QMQCZZgDYgPUQfmjtZ8ehIk TLJTX7qlyhWygxYeJ43/itj23q7gsb1pVE0mUBA8dgl192PpaDa56ri0MoCnxsL6/RyZ X7+I6q9hxtXdj5/v39eiypTQSJuYm4GmkC3V3voxKD5t5OH4yX/hPY/XnW+seDxFQ84p 3xVw== X-Gm-Message-State: AOJu0Yy1geuGwkUvdMAtb+/ToHn0OwwvBjkk7y2HX2UDYfAYBnVqD9w6 QYP7F3ma+t9hcEsKxJ/Vqch9Tp772G7D/d8OR2ypPjyE3e971j763y+rF096kX5Kjz3WFanU3Zx 2e4OjjqOU6KOzLKp+iTAxL12yXG0Rmm7wkbHmSc/1 X-Gm-Gg: ASbGncu6th/3Zox5TD5S2u9SuetNizd0s87qimv80Nlde54iYwVDBhW9vr7Nym9FOaU KzboGLfgbmgk7+wQf1mxdGmgCSSt3aATzQeK+8p+1hUx01txJe6B6hxcJLyGx6l/aIjTBk/eEaD Bkv79G2TyUCm7m88LS7UZHtzTLjuObu/M53KHfOhxnzlwmEYx+VwynKDHmzJQXGYgKKqLr4LVAp szTiv+Eu6S8rkgrlRFOjdPauMYsHy1ATfuW07lanBPV693Mtabd2Qfx1jOYF1t1ARJ6kyH2ertR vs/Us0ce+MpnmHEdB4WjDEb544zAJ4rQ9GQro8ZsFbYOxi1lb5h/mBW6M2Y= X-Google-Smtp-Source: AGHT+IFfn12hnAbqeKnfeO49pBlNxPOjCTkTsQ62F+kyV0bzaK0BkClRpl3mnK4ylf6uX7qPBqqm5Ca8XHps X-Received: by 2002:a05:6e02:178e:b0:3d3:d067:73f8 with SMTP id e9e14a558f8ab-3da78566c3fmr45025615ab.11.1746720210500; Thu, 08 May 2025 09:03:30 -0700 (PDT) Received: from postal.iol.unh.edu (postal.iol.unh.edu. [132.177.123.84]) by smtp-relay.gmail.com with ESMTPS id e9e14a558f8ab-3da7e103063sm11385ab.18.2025.05.08.09.03.30 (version=TLS1_2 cipher=ECDHE-ECDSA-AES128-GCM-SHA256 bits=128/128); Thu, 08 May 2025 09:03:30 -0700 (PDT) X-Relaying-Domain: iol.unh.edu Date: Thu, 08 May 2025 09:03:30 -0700 (PDT) Message-ID: <681cd5d2.050a0220.2241ff.0180SMTPIN_ADDED_MISSING@mx.google.com> Received: from [172.21.0.5] (unknown [172.18.0.240]) by postal.iol.unh.edu (Postfix) with ESMTP id EBCAC6052471; Thu, 8 May 2025 12:02:59 -0400 (EDT) Subject: |SUCCESS| pw153351-153352 [PATCH] [2/2] crypto/uadk: use async mode From: dpdklab@iol.unh.edu To: Test Report Cc: dpdk-test-reports@iol.unh.edu In-Reply-To: <20250508074119.356011-3-zhangfei.gao@linaro.org> References: <20250508074119.356011-3-zhangfei.gao@linaro.org> Content-Type: text/plain X-BeenThere: test-report@dpdk.org X-Mailman-Version: 2.1.29 Precedence: list List-Id: automatic DPDK test reports List-Unsubscribe: , List-Archive: List-Post: List-Help: List-Subscribe: , Errors-To: test-report-bounces@dpdk.org Test-Label: iol-compile-arm64-testing Test-Status: SUCCESS http://dpdk.org/patch/153352 _Testing PASS_ Submitter: Zhangfei Gao Date: Thursday, May 08 2025 07:41:19 DPDK git baseline: Repo:dpdk Branch: master CommitID:ca1690ebd224f148268285b15b97441ccdbdd07e 153351-153352 --> testing pass Upstream job id: Generic-DPDK-Compile-Meson#386469 Test environment and result as below: +----------------------------------------+--------------------+ | Environment | dpdk_meson_compile | +========================================+====================+ | RHEL9 (ARM) | PASS | +----------------------------------------+--------------------+ | Ubuntu 20.04 ARM GCC Cross Compile | PASS | +----------------------------------------+--------------------+ | Ubuntu 20.04 ARM SVE | PASS | +----------------------------------------+--------------------+ | Debian 12 with MUSDK | PASS | +----------------------------------------+--------------------+ | Fedora 40 (ARM) | PASS | +----------------------------------------+--------------------+ | Fedora 40 (ARM Clang) | PASS | +----------------------------------------+--------------------+ | Fedora 41 (ARM) | PASS | +----------------------------------------+--------------------+ | Fedora 41 (ARM Clang) | PASS | +----------------------------------------+--------------------+ | Ubuntu 20.04 (ARM) | PASS | +----------------------------------------+--------------------+ | Ubuntu 22.04 (ARM) | PASS | +----------------------------------------+--------------------+ | Ubuntu 24.04 (ARM) | PASS | +----------------------------------------+--------------------+ | CentOS Stream 9 (ARM) | PASS | +----------------------------------------+--------------------+ | CentOS Stream 10 (ARM) | PASS | +----------------------------------------+--------------------+ | Debian 12 (arm) | PASS | +----------------------------------------+--------------------+ | Ubuntu 20.04 ARM Clang Cross Compile | PASS | +----------------------------------------+--------------------+ | Ubuntu 20.04 aarch32 GCC Cross Compile | PASS | +----------------------------------------+--------------------+ RHEL9 (ARM) Kernel: Depends on container host Compiler: gcc 11.5.0 20240719 (Red Hat 11.5.0-2) Ubuntu 20.04 ARM GCC Cross Compile Kernel: Depends on container host Compiler: aarch64-linux-gnu-gcc (Ubuntu 9.4.0-1ubuntu1~20.04.2) 9.4.0 Ubuntu 20.04 ARM SVE Kernel: Depends on container host Compiler: gcc (Ubuntu 10.5.0-1ubuntu1~20.04) 10.5.0 Debian 12 with MUSDK Kernel: Depends on container host Compiler: gcc (Debian 12.2.0-14) 12.2.0 Fedora 40 (ARM) Kernel: Depends on container host Compiler: gcc 14.2.1 20240912 (Red Hat 14.2.1-3) Fedora 40 (ARM Clang) Kernel: Depends on container host Compiler: clang 18.1.8 (Fedora 18.1.8-1.fc40) Fedora 41 (ARM) Kernel: Depends on container host Compiler: gcc 14.2.1 20240912 (Red Hat 14.2.1-3) Fedora 41 (ARM Clang) Kernel: Depends on container host Compiler: clang 19.1.5 (Fedora 19.1.5-1.fc41) Ubuntu 20.04 (ARM) Kernel: Depends on container host Compiler: gcc (Ubuntu 9.4.0-1ubuntu1~20.04.2) 9.4.0 Ubuntu 22.04 (ARM) Kernel: Depends on container host Compiler: gcc (Ubuntu 11.4.0-1ubuntu1~22.04) 11.4.0 Ubuntu 24.04 (ARM) Kernel: Depends on container host Compiler: gcc (Ubuntu 13.3.0-6ubuntu2~24.04) 13.3.0 CentOS Stream 9 (ARM) Kernel: Depends on container host Compiler: gcc 11.5.0 20240719 (Red Hat 11.5.0-2) CentOS Stream 10 (ARM) Kernel: Depends on container host Compiler: gcc 14.2.1 20241104 (Red Hat 14.2.1-6) Debian 12 (arm) Kernel: Depends on container host Compiler: gcc (Debian 12.2.0-14) 12.2.0 Ubuntu 20.04 ARM Clang Cross Compile Kernel: Depends on container host Compiler: clang 10.0.0-4ubuntu1 Ubuntu 20.04 aarch32 GCC Cross Compile Kernel: Depends on container host Compiler: gcc 9.4.0 To view detailed results, visit: https://lab.dpdk.org/results/dashboard/patchsets/33140/ UNH-IOL DPDK Community Lab To manage your email subscriptions, visit: https://lab.dpdk.org/results/dashboard/preferences/subscriptions/