From mboxrd@z Thu Jan 1 00:00:00 1970 Return-Path: Received: from mails.dpdk.org (mails.dpdk.org [217.70.189.124]) by inbox.dpdk.org (Postfix) with ESMTP id 71D964669D for ; Thu, 8 May 2025 18:18:14 +0200 (CEST) Received: from mails.dpdk.org (localhost [127.0.0.1]) by mails.dpdk.org (Postfix) with ESMTP id 589D24026C; Thu, 8 May 2025 18:18:14 +0200 (CEST) Received: from mail-yb1-f228.google.com (mail-yb1-f228.google.com [209.85.219.228]) by mails.dpdk.org (Postfix) with ESMTP id 905764026B for ; Thu, 8 May 2025 18:18:13 +0200 (CEST) Received: by mail-yb1-f228.google.com with SMTP id 3f1490d57ef6-e7569ccf04cso1197459276.0 for ; Thu, 08 May 2025 09:18:13 -0700 (PDT) DKIM-Signature: v=1; a=rsa-sha256; c=relaxed/relaxed; d=iol.unh.edu; s=unh-iol; t=1746721093; x=1747325893; darn=dpdk.org; h=references:in-reply-to:cc:to:from:subject:message-id:date:from:to :cc:subject:date:message-id:reply-to; bh=yFRjQlnt+0SCPBLCBBlt3DBn2Nvs2gvU0AYJwProvU0=; b=FEBfOFpeIxQkCYepmiA2YR+yEX5Zng8le3HAU1hYCcX2i+rv8CIoAo1Ty/vUWL2z2i L2gDiwIXyIhzV0v0GpJWzBdp9DlcJSQr8UpOMPsmb07rlI1pFZZrmHYIFBVKhh55KsiR zr1Efugz+Kad0zJm1ZanlN+I0HiHpaAgTzrOU= X-Google-DKIM-Signature: v=1; a=rsa-sha256; c=relaxed/relaxed; d=1e100.net; s=20230601; t=1746721093; x=1747325893; h=references:in-reply-to:cc:to:from:subject:message-id:date :x-gm-message-state:from:to:cc:subject:date:message-id:reply-to; bh=yFRjQlnt+0SCPBLCBBlt3DBn2Nvs2gvU0AYJwProvU0=; b=mBi0XtzsBgG29KNxbW3md51mw2As7vXeh5izoYS+ni9K4TRMVBTrn7b2/nelpS75GI EpnfLPNEmXh6TEZsOdCPb0eIT2VlTl7OuRrIH0bRSjYduIv0A4rY3lmYSx4buGR7MMFA YatKGvkXyDZUIeapVU23Dze6N2Ctb8Fv05Mxw6+clw7zZZFPygey9D78GXQHyIki0Hhg /3sZX1z5pF6jqM2hid6vwz+vCHjmtHuOZaJ1M8YE1un7aY8qw1OH1FQSr8rIeLBCzvkB Cs78L2LBtdvYyeYSm+92aszZQnavBvrZqJAIGzP3mrXl/no7/GkDWMqnRIFSkbxydDkR C5+Q== X-Gm-Message-State: AOJu0YwOtrRhPWe4Dbi2SFAJfLNQb6GTjtR/N3QVtZ++tVUW5vl8MO9b sRFGbVBL2Ca6bYuKca6B/6rGmV45r/g0CVqo7RofcXZ3pgZMOZ38BncaRsVgAdOHQ6J20LxUvlb EA9l41YNcjT6tJx7xN9kN130aQL4Wv6GEnNN9vH19 X-Gm-Gg: ASbGncukx5L5MxWkgKgiXO+Dd75yIpsF0gX8M7TrppjEdysz8aBM3joXmKAUo/N/4El THKq/kTUkoLrvyTlNYRv0oGOKVXlCJt72/meVJl9NKGfG/Sg0oHl1OTvDXHBEXejtkqNKvyKfS3 CMhTErVIj7B57XzRP5nCjyf3B4CGIaYTcrEyiERt9VLzfdDiOe+UXBvH37RbGNX1qnWGPm5B9fx ru+4MNDWl8nFkzNIiuu5MptLcRdt23C03M0JnsIr6JFm0mR8iu6d9lBhsXM21SrbuYCiaBoFAAy Q+wPmJM1kRx1u2HttFs/YUU8R5LtRNkjTs2BcFeCvyzUflNmGiqLA63O04U= X-Google-Smtp-Source: AGHT+IEUg+lrd3azhYSnmzWHI2ODLkQ+Xs2x69DTomqOVRpRNnQKdXWOWxD2f8QoN8wH9+4uSM5O5mZbYPF0 X-Received: by 2002:a05:690c:630e:b0:702:5134:aab0 with SMTP id 00721157ae682-70a2d0dd2efmr60389187b3.32.1746721092758; Thu, 08 May 2025 09:18:12 -0700 (PDT) Received: from postal.iol.unh.edu (postal.iol.unh.edu. [132.177.123.84]) by smtp-relay.gmail.com with ESMTPS id 00721157ae682-70a3d87a1b4sm120397b3.62.2025.05.08.09.18.12 (version=TLS1_2 cipher=ECDHE-ECDSA-AES128-GCM-SHA256 bits=128/128); Thu, 08 May 2025 09:18:12 -0700 (PDT) X-Relaying-Domain: iol.unh.edu Date: Thu, 08 May 2025 09:18:12 -0700 (PDT) Message-ID: <681cd944.050a0220.1562a4.0a19SMTPIN_ADDED_MISSING@mx.google.com> Received: from [172.21.0.6] (unknown [172.18.0.240]) by postal.iol.unh.edu (Postfix) with ESMTP id D14EE6052471; Thu, 8 May 2025 12:18:10 -0400 (EDT) Subject: |SUCCESS| pw153349 [PATCH] eal: warn if no lcore is available From: dpdklab@iol.unh.edu To: Test Report Cc: dpdk-test-reports@iol.unh.edu In-Reply-To: <20250508051915.226465-2-david.marchand@redhat.com> References: <20250508051915.226465-2-david.marchand@redhat.com> Content-Type: text/plain X-BeenThere: test-report@dpdk.org X-Mailman-Version: 2.1.29 Precedence: list List-Id: automatic DPDK test reports List-Unsubscribe: , List-Archive: List-Post: List-Help: List-Subscribe: , Errors-To: test-report-bounces@dpdk.org Test-Label: iol-unit-amd64-testing Test-Status: SUCCESS http://dpdk.org/patch/153349 _Testing PASS_ Submitter: David Marchand Date: Thursday, May 08 2025 05:19:15 DPDK git baseline: Repo:dpdk Branch: master CommitID:75f179ebe347b6098cf3af26d3d3b7168fe3fe24 153349 --> testing pass Upstream job id: Generic-VM-Unit-Test-DPDK#28417 Test environment and result as below: +---------------------+----------------+ | Environment | dpdk_unit_test | +=====================+================+ | CentOS Stream 9 | PASS | +---------------------+----------------+ | CentOS Stream 10 | PASS | +---------------------+----------------+ | Debian 12 | PASS | +---------------------+----------------+ | Fedora 40 (Clang) | PASS | +---------------------+----------------+ | Fedora 40 | PASS | +---------------------+----------------+ | Fedora 41 (Clang) | PASS | +---------------------+----------------+ | Fedora 41 | PASS | +---------------------+----------------+ | RHEL8 | PASS | +---------------------+----------------+ | RHEL9 | PASS | +---------------------+----------------+ | Ubuntu 24.04 | PASS | +---------------------+----------------+ | Ubuntu 22.04 | PASS | +---------------------+----------------+ | Ubuntu 20.04 | PASS | +---------------------+----------------+ | Windows Server 2022 | PASS | +---------------------+----------------+ CentOS Stream 9 Kernel: Depends on container host Compiler: gcc 11.5.0 20240719 (Red Hat 11.5.0-2) CentOS Stream 10 Kernel: Depends on container host Compiler: gcc 14.2.1 20241104 (Red Hat 14.2.1-6) Debian 12 Kernel: Depends on container host Compiler: gcc (Debian 12.2.0-14) 12.2.0 Fedora 40 (Clang) Kernel: Depends on container host Compiler: clang 18.1.8 (Fedora 18.1.8-1.fc40) Fedora 40 Kernel: Depends on container host Compiler: gcc 14.2.1 20240912 (Red Hat 14.2.1-3) Fedora 41 (Clang) Kernel: Depends on container host Compiler: clang 19.1.5 (Fedora 19.1.5-1.fc41) Fedora 41 Kernel: Depends on container host Compiler: gcc 14.2.1 20240912 (Red Hat 14.2.1-3) RHEL8 Kernel: Depends on container host Compiler: gcc 8.5.0 20210514 (Red Hat 8.5.0-22) RHEL9 Kernel: Depends on container host Compiler: gcc 11.5.0 20240719 (Red Hat 11.5.0-2) Ubuntu 24.04 Kernel: Depends on container host Compiler: gcc (Ubuntu 13.3.0-6ubuntu2~24.04) 13.3.0 Ubuntu 22.04 Kernel: Depends on container host Compiler: gcc (Ubuntu 11.4.0-1ubuntu1~22.04) 11.4.0 Ubuntu 20.04 Kernel: Depends on container host Compiler: gcc (Ubuntu 9.4.0-1ubuntu1~20.04.2) 9.4.0 Windows Server 2022 Kernel: 10.0.20348.2031 Compiler: clang 15.0.7, gcc 14.1.0 (MinGW), and MSVC VS 19.39.33521 To view detailed results, visit: https://lab.dpdk.org/results/dashboard/patchsets/33138/ UNH-IOL DPDK Community Lab To manage your email subscriptions, visit: https://lab.dpdk.org/results/dashboard/preferences/subscriptions/