From mboxrd@z Thu Jan 1 00:00:00 1970 Return-Path: Received: from mails.dpdk.org (mails.dpdk.org [217.70.189.124]) by inbox.dpdk.org (Postfix) with ESMTP id 7C6534669D for ; Thu, 8 May 2025 18:29:30 +0200 (CEST) Received: from mails.dpdk.org (localhost [127.0.0.1]) by mails.dpdk.org (Postfix) with ESMTP id 536524026C; Thu, 8 May 2025 18:29:30 +0200 (CEST) Received: from mail-io1-f97.google.com (mail-io1-f97.google.com [209.85.166.97]) by mails.dpdk.org (Postfix) with ESMTP id C6E6D4026B for ; Thu, 8 May 2025 18:29:28 +0200 (CEST) Received: by mail-io1-f97.google.com with SMTP id ca18e2360f4ac-85b3f92c866so28427639f.3 for ; Thu, 08 May 2025 09:29:28 -0700 (PDT) DKIM-Signature: v=1; a=rsa-sha256; c=relaxed/relaxed; d=iol.unh.edu; s=unh-iol; t=1746721768; x=1747326568; darn=dpdk.org; h=references:in-reply-to:cc:to:from:subject:message-id:date:from:to :cc:subject:date:message-id:reply-to; bh=uvvsN/DvTgXyCUo1WyPrrWhiMBEhTofmzSqQ87GK9sA=; b=OYdGOyDY9RNmt3YMLQyayvbKQwG/+oDTSOGtisvRfoXOtm/rUWSb5MxAHlK1Gg05eH sEEDJVsSx75UsvjtFcAbtiDnThLk6QMme+SyAKQscvQ+DcnlED90BWirtYoiit8cS3GV whnRD4wjL/1KWz5EpGfmKx+cRZl9LQrCThrtM= X-Google-DKIM-Signature: v=1; a=rsa-sha256; c=relaxed/relaxed; d=1e100.net; s=20230601; t=1746721768; x=1747326568; h=references:in-reply-to:cc:to:from:subject:message-id:date :x-gm-message-state:from:to:cc:subject:date:message-id:reply-to; bh=uvvsN/DvTgXyCUo1WyPrrWhiMBEhTofmzSqQ87GK9sA=; b=cXXFNoMrGHHxtl2vyb5KuuEDSB96ylBnRZIh3sdo3kQm+sJMvO5Mx7/5wVWBi0fAnc KQlG+CpR7Xxe2BD9CPqoyuse77BPmnHTlmTHSWvk2jYfdwWVznPONaMIjdLsQF6ZTTuh VDqGM3IQLC02TvnOjeE58vd0A5pwcloXBov3gCQ6c8+cPGs6bzMzHv4f2yYlJVz608fN D5T1rOr2uxNuuL9JqT56vyiz7sCH2fiFeh7Q6rWl9JyVa/VynBk6corfPvU1VDYLMeQu 9jOSMor6tOzNKSQQQcuXmwbilTIp3lZbCzute8NyO4K7w34xfo02q/sNIhxcvwnBgGEk bd+Q== X-Gm-Message-State: AOJu0YxX6e0xEYLd0QcvKrfXaMr7WCHrVtu2okl8TIjkq61Wdff9DmMe VAOOKqYgyD7qBh8FfJDP9PP1dTojI/U1vbRigh9xfEmc1sF8gUf8+P59j+X44se6jR1NQJzj4DE 0MEhlTEmB8of+mPNIkJcuiNVz2LjzZt/3s4nBsXja X-Gm-Gg: ASbGncu+U7vx9ePcAzwPPP3GN55ql0DPHZmDqMwAlS94w0HPTPTAYsl4qiLQSLXzQbO cZHFcTHgVGbGqamvKk7dWPaDOHKnAmofeKoB55cE7anoo6OScF0XdjeuUVdSjc8eN8bYxw6z655 Z7rPYFYrNkSdrjI2x80Txc7wlDKaa/OEZEop3TGtYE5kouTa6qIA6uks2URRan1nps2QRgDwzI3 OPTCt1mZYg7Z5GK2CjQ9P+9XRmci/zC5vrB4qInnXRiVme/+10TXrRYxOCbatd/y+FJtBot221N IuuYuOd9E6UGS1EbJas7G0hEaui2VaoQ3h2+oqulUEYbS5oxfh9nFN9g6h8= X-Google-Smtp-Source: AGHT+IEVpRQ0mHSNJSBDyZbjZTMsvCmHr/lFsLeHijIG53JT28Z60d3hK2PTWhvxd6Aln2jX7I4pF5BYKfjZ X-Received: by 2002:a05:6602:6b8c:b0:85b:435d:2fcd with SMTP id ca18e2360f4ac-867635a9776mr38462739f.8.1746721768003; Thu, 08 May 2025 09:29:28 -0700 (PDT) Received: from postal.iol.unh.edu (postal.iol.unh.edu. [132.177.123.84]) by smtp-relay.gmail.com with ESMTPS id ca18e2360f4ac-867637b57edsm436339f.29.2025.05.08.09.29.27 (version=TLS1_2 cipher=ECDHE-ECDSA-AES128-GCM-SHA256 bits=128/128); Thu, 08 May 2025 09:29:27 -0700 (PDT) X-Relaying-Domain: iol.unh.edu Date: Thu, 08 May 2025 09:29:27 -0700 (PDT) Message-ID: <681cdbe7.050a0220.3089dc.03bdSMTPIN_ADDED_MISSING@mx.google.com> Received: from [172.21.0.14] (unknown [172.18.0.240]) by postal.iol.unh.edu (Postfix) with ESMTP id 7740B6052471; Thu, 8 May 2025 12:29:27 -0400 (EDT) Subject: |SUCCESS| pw153356-153358 [PATCH] [v7,3/3] app/testpmd: add sleep co From: dpdklab@iol.unh.edu To: Test Report Cc: dpdk-test-reports@iol.unh.edu In-Reply-To: <6334aba24959371cc7c6f4290869698f0ad57bc1.1746698489.git.anatoly.burakov@intel.com> References: <6334aba24959371cc7c6f4290869698f0ad57bc1.1746698489.git.anatoly.burakov@intel.com> Content-Type: text/plain X-BeenThere: test-report@dpdk.org X-Mailman-Version: 2.1.29 Precedence: list List-Id: automatic DPDK test reports List-Unsubscribe: , List-Archive: List-Post: List-Help: List-Subscribe: , Errors-To: test-report-bounces@dpdk.org Test-Label: iol-abi-testing Test-Status: SUCCESS http://dpdk.org/patch/153358 _Testing PASS_ Submitter: Anatoly Burakov Date: Thursday, May 08 2025 10:01:38 DPDK git baseline: Repo:dpdk Branch: master CommitID:75f179ebe347b6098cf3af26d3d3b7168fe3fe24 153356-153358 --> testing pass Upstream job id: Generic-DPDK-Compile-ABI#125794 Test environment and result as below: +-------------------+----------+ | Environment | abi_test | +===================+==========+ | CentOS Stream 9 | PASS | +-------------------+----------+ | CentOS Stream 10 | PASS | +-------------------+----------+ | Debian 12 | PASS | +-------------------+----------+ | Fedora 40 | PASS | +-------------------+----------+ | Fedora 41 (Clang) | PASS | +-------------------+----------+ | Fedora 40 (Clang) | PASS | +-------------------+----------+ | Fedora 41 | PASS | +-------------------+----------+ | RHEL8 | PASS | +-------------------+----------+ | Ubuntu 22.04 | PASS | +-------------------+----------+ | RHEL9 | PASS | +-------------------+----------+ | Ubuntu 24.04 | PASS | +-------------------+----------+ | openSUSE Leap 15 | PASS | +-------------------+----------+ CentOS Stream 9 Kernel: Depends on container host Compiler: gcc 11.5.0 20240719 (Red Hat 11.5.0-2) CentOS Stream 10 Kernel: Depends on container host Compiler: gcc 14.2.1 20241104 (Red Hat 14.2.1-6) Debian 12 Kernel: Depends on container host Compiler: gcc (Debian 12.2.0-14) 12.2.0 Fedora 40 Kernel: Depends on container host Compiler: gcc 14.2.1 20240912 (Red Hat 14.2.1-3) Fedora 41 (Clang) Kernel: Depends on container host Compiler: clang 19.1.5 (Fedora 19.1.5-1.fc41) Fedora 40 (Clang) Kernel: Depends on container host Compiler: clang 18.1.8 (Fedora 18.1.8-1.fc40) Fedora 41 Kernel: Depends on container host Compiler: gcc 14.2.1 20240912 (Red Hat 14.2.1-3) RHEL8 Kernel: Depends on container host Compiler: gcc 8.5.0 20210514 (Red Hat 8.5.0-22) Ubuntu 22.04 Kernel: Depends on container host Compiler: gcc (Ubuntu 11.4.0-1ubuntu1~22.04) 11.4.0 RHEL9 Kernel: Depends on container host Compiler: gcc 11.5.0 20240719 (Red Hat 11.5.0-2) Ubuntu 24.04 Kernel: Depends on container host Compiler: gcc (Ubuntu 13.3.0-6ubuntu2~24.04) 13.3.0 openSUSE Leap 15 Kernel: Depends on container host Compiler: gcc (SUSE Linux) 7.5.0 To view detailed results, visit: https://lab.dpdk.org/results/dashboard/patchsets/33142/ UNH-IOL DPDK Community Lab To manage your email subscriptions, visit: https://lab.dpdk.org/results/dashboard/preferences/subscriptions/