From mboxrd@z Thu Jan 1 00:00:00 1970 Return-Path: Received: from mails.dpdk.org (mails.dpdk.org [217.70.189.124]) by inbox.dpdk.org (Postfix) with ESMTP id 7A9FE4669D for ; Thu, 8 May 2025 18:30:14 +0200 (CEST) Received: from mails.dpdk.org (localhost [127.0.0.1]) by mails.dpdk.org (Postfix) with ESMTP id 754554026C; Thu, 8 May 2025 18:30:14 +0200 (CEST) Received: from mail-pf1-f228.google.com (mail-pf1-f228.google.com [209.85.210.228]) by mails.dpdk.org (Postfix) with ESMTP id AADE24026B for ; Thu, 8 May 2025 18:30:12 +0200 (CEST) Received: by mail-pf1-f228.google.com with SMTP id d2e1a72fcca58-7376e311086so1788297b3a.3 for ; Thu, 08 May 2025 09:30:12 -0700 (PDT) DKIM-Signature: v=1; a=rsa-sha256; c=relaxed/relaxed; d=iol.unh.edu; s=unh-iol; t=1746721811; x=1747326611; darn=dpdk.org; h=references:in-reply-to:cc:to:from:subject:message-id:date:from:to :cc:subject:date:message-id:reply-to; bh=pzya7jgthBMhfEZg6xOQx67pzzP2o665CjP2A3hajrI=; b=cFDznd5gi/YGDFjTRfLI0WXOnEp9tKckPzBNSL1XpYHb9uA33MPhbf3C46Wk/tqLRo 8Q2V3cNyerTeBCd136PpUdp6gFQOYFeoxfphQDpgXt/z1nGRZvoKf12BaoH2xBLkMex8 N/b4gZUdJdYVfC7atFJhnx/wLD2IwEs/jRdvU= X-Google-DKIM-Signature: v=1; a=rsa-sha256; c=relaxed/relaxed; d=1e100.net; s=20230601; t=1746721811; x=1747326611; h=references:in-reply-to:cc:to:from:subject:message-id:date :x-gm-message-state:from:to:cc:subject:date:message-id:reply-to; bh=pzya7jgthBMhfEZg6xOQx67pzzP2o665CjP2A3hajrI=; b=D2zq/ua1NdxqHj3OynNkUqtsgwDsIgLR65LXjbB7jtStKw/7Y4Fz2ZIrSzVzzSn1MS maBHGYpr92BWAMtRswHVrshSgRo2M/rXiEKSn3bDYrw0+r8SsvOFX6iR6DmC2wR4fFLV J6NruKu3entiqIvdfcZqlqsc/OOdFbbBlDUmmRs3Pji9YSUWpkFTi2acyTfPcr158AS8 YppM/ttltZJhlwkno8Dnv+zEiufjoF6guAu5qFW0PWdEICoRS/bmFkCSBr6rf9Z40mAn AKnwOEbrTI4eAQVmcOwhDB4kLKu+rtZNRh2azPgWarjvqfm6D5ZUOdPJsiUHrqE04CYV +Z1w== X-Gm-Message-State: AOJu0YwjD2RAepj5sZJeO+SPVCAB5sqYEki98ZvrT0KfgyAi21azRQIL Ke85ko+BEWF6H9Vhys+x9VrQGYdLaG41KJDWjqPcVjahlYmhMIVPelpMSVhiUIpBbgn6XAPiu8R pBEFUUCW4X79tkwAIrWXTOkRSt9HVHxQ6/mrh2E9R X-Gm-Gg: ASbGncv1ozUE7C9Vu18PbHN33bW2ZzrHRZ2HywwvsnG8mYHu8QKG/ciZh/Yfd+L55UX GhYSVEEIMuWC7qOYg0Xqfwwt2FIyj1vltKvLrglPjA6XqbO28JKOnYf18OzTTQDhwtWax7FnFp+ t79zEXf1Ab6L89riGmOYNHWoW3pgtAJlLbeW9uMnr4QppzwM081UiZJorJqwT3JYoX7c3xbt4WY ZoKAS/PlevK4P02bIRIh9BM8wr6cXVb9p2kilsx/bjBkaBe5XBSuGS/K+/QEF/G+lMJfPH+2qxt 5iVIxynX6EeiK8mzzBSeVL800eb0blhRlt4BbtKNZfW7XcwVMO4BiJNeCB0= X-Google-Smtp-Source: AGHT+IHpacROnOc6dWGgvmIv6GGkAr+JjtaZ9rrefzfWGyG/nUEwDJiG0R26P/FGZ1PUAM7V1DCZ8/9pf8az X-Received: by 2002:a05:6a20:6f89:b0:1fd:f55f:881e with SMTP id adf61e73a8af0-2159b084b63mr6329058637.36.1746721811439; Thu, 08 May 2025 09:30:11 -0700 (PDT) Received: from postal.iol.unh.edu (postal.iol.unh.edu. [132.177.123.84]) by smtp-relay.gmail.com with ESMTPS id d2e1a72fcca58-74237761f0asm11570b3a.12.2025.05.08.09.30.11 (version=TLS1_2 cipher=ECDHE-ECDSA-AES128-GCM-SHA256 bits=128/128); Thu, 08 May 2025 09:30:11 -0700 (PDT) X-Relaying-Domain: iol.unh.edu Date: Thu, 08 May 2025 09:30:11 -0700 (PDT) Message-ID: <681cdc13.050a0220.355357.09bcSMTPIN_ADDED_MISSING@mx.google.com> Received: from [172.21.0.5] (unknown [172.18.0.240]) by postal.iol.unh.edu (Postfix) with ESMTP id 9DF6C6052471; Thu, 8 May 2025 12:29:39 -0400 (EDT) Subject: |SUCCESS| pw153356-153358 [PATCH] [v7,3/3] app/testpmd: add sleep co From: dpdklab@iol.unh.edu To: Test Report Cc: dpdk-test-reports@iol.unh.edu In-Reply-To: <6334aba24959371cc7c6f4290869698f0ad57bc1.1746698489.git.anatoly.burakov@intel.com> References: <6334aba24959371cc7c6f4290869698f0ad57bc1.1746698489.git.anatoly.burakov@intel.com> Content-Type: text/plain X-BeenThere: test-report@dpdk.org X-Mailman-Version: 2.1.29 Precedence: list List-Id: automatic DPDK test reports List-Unsubscribe: , List-Archive: List-Post: List-Help: List-Subscribe: , Errors-To: test-report-bounces@dpdk.org Test-Label: iol-abi-testing Test-Status: SUCCESS http://dpdk.org/patch/153358 _Testing PASS_ Submitter: Anatoly Burakov Date: Thursday, May 08 2025 10:01:38 DPDK git baseline: Repo:dpdk Branch: master CommitID:75f179ebe347b6098cf3af26d3d3b7168fe3fe24 153356-153358 --> testing pass Upstream job id: Generic-DPDK-Compile-ABI#125796 Test environment and result as below: +-------------------+----------+ | Environment | abi_test | +===================+==========+ | CentOS Stream 9 | PASS | +-------------------+----------+ | CentOS Stream 10 | PASS | +-------------------+----------+ | Debian 12 | PASS | +-------------------+----------+ | Fedora 40 | PASS | +-------------------+----------+ | Fedora 41 (Clang) | PASS | +-------------------+----------+ | Fedora 40 (Clang) | PASS | +-------------------+----------+ | Fedora 41 | PASS | +-------------------+----------+ | RHEL8 | PASS | +-------------------+----------+ | Ubuntu 22.04 | PASS | +-------------------+----------+ | RHEL9 | PASS | +-------------------+----------+ | Ubuntu 24.04 | PASS | +-------------------+----------+ | openSUSE Leap 15 | PASS | +-------------------+----------+ CentOS Stream 9 Kernel: Depends on container host Compiler: gcc 11.5.0 20240719 (Red Hat 11.5.0-2) CentOS Stream 10 Kernel: Depends on container host Compiler: gcc 14.2.1 20241104 (Red Hat 14.2.1-6) Debian 12 Kernel: Depends on container host Compiler: gcc (Debian 12.2.0-14) 12.2.0 Fedora 40 Kernel: Depends on container host Compiler: gcc 14.2.1 20240912 (Red Hat 14.2.1-3) Fedora 41 (Clang) Kernel: Depends on container host Compiler: clang 19.1.5 (Fedora 19.1.5-1.fc41) Fedora 40 (Clang) Kernel: Depends on container host Compiler: clang 18.1.8 (Fedora 18.1.8-1.fc40) Fedora 41 Kernel: Depends on container host Compiler: gcc 14.2.1 20240912 (Red Hat 14.2.1-3) RHEL8 Kernel: Depends on container host Compiler: gcc 8.5.0 20210514 (Red Hat 8.5.0-22) Ubuntu 22.04 Kernel: Depends on container host Compiler: gcc (Ubuntu 11.4.0-1ubuntu1~22.04) 11.4.0 RHEL9 Kernel: Depends on container host Compiler: gcc 11.5.0 20240719 (Red Hat 11.5.0-2) Ubuntu 24.04 Kernel: Depends on container host Compiler: gcc (Ubuntu 13.3.0-6ubuntu2~24.04) 13.3.0 openSUSE Leap 15 Kernel: Depends on container host Compiler: gcc (SUSE Linux) 7.5.0 To view detailed results, visit: https://lab.dpdk.org/results/dashboard/patchsets/33142/ UNH-IOL DPDK Community Lab To manage your email subscriptions, visit: https://lab.dpdk.org/results/dashboard/preferences/subscriptions/