From mboxrd@z Thu Jan 1 00:00:00 1970 Return-Path: Received: from mails.dpdk.org (mails.dpdk.org [217.70.189.124]) by inbox.dpdk.org (Postfix) with ESMTP id AAF7C466AD for ; Thu, 8 May 2025 19:17:18 +0200 (CEST) Received: from mails.dpdk.org (localhost [127.0.0.1]) by mails.dpdk.org (Postfix) with ESMTP id 8924C4026C; Thu, 8 May 2025 19:17:18 +0200 (CEST) Received: from mail-qv1-f100.google.com (mail-qv1-f100.google.com [209.85.219.100]) by mails.dpdk.org (Postfix) with ESMTP id 3A83D4026B for ; Thu, 8 May 2025 19:17:17 +0200 (CEST) Received: by mail-qv1-f100.google.com with SMTP id 6a1803df08f44-6ecfbf8fa76so16354046d6.0 for ; Thu, 08 May 2025 10:17:17 -0700 (PDT) DKIM-Signature: v=1; a=rsa-sha256; c=relaxed/relaxed; d=iol.unh.edu; s=unh-iol; t=1746724636; x=1747329436; darn=dpdk.org; h=references:in-reply-to:cc:to:from:subject:message-id:date:from:to :cc:subject:date:message-id:reply-to; bh=9Pcy07GlTauJANMeDFnI6mftOjKpBKvQiz95+p2XF4Y=; b=THD9Jr6nGfay/G1yTAmjBk1l34yqtd8n0zf4iiZYz5opuYAZ0Rh3NtBOmmBRB3Svoy We/xSJ7br+IQlBQIyeOwiows1m6dhnXI8YbSmBKSmbC+1/EZEve9IyzR7Nk283BFsaA1 o56DITeqglAGFBm9OGrYiNweEiUR4iYGPrtBY= X-Google-DKIM-Signature: v=1; a=rsa-sha256; c=relaxed/relaxed; d=1e100.net; s=20230601; t=1746724636; x=1747329436; h=references:in-reply-to:cc:to:from:subject:message-id:date :x-gm-message-state:from:to:cc:subject:date:message-id:reply-to; bh=9Pcy07GlTauJANMeDFnI6mftOjKpBKvQiz95+p2XF4Y=; b=PQzCmyUczjLa8xUs8DZLJTmxsM90g4lMyWWdZTdMZKM4ESG2lv0p6saakndTKBWOFP RHOILPu39xfFBa9d7LKB0MRarQT35Nv3KyLHSN+1huUYWlF+B+J2g7sx6gRHCGYS0PL/ xcKx48gi/RXGbuIs67ycMbQrvjihJb0OhmY810fkyrPuWGlWiVsZudcRo01b/ZkktJ6z /uihGcRadch/arcBl4k4JPN4UH9c6ihNWmpqcX/RDmelDnX3nb4MlDZ/nc/eZpuIjIVi 0FgN/UfQVd2/rKx4GpmIvmxT3O6hC3oq3d3prTA3fEaN3/D30L3AXU2/vBq1TfJqJQ3E OsWQ== X-Gm-Message-State: AOJu0YxDUwF7b5lx9Led3WbWHwsoR9XfvZjSGMHgkTDFuDZOB08WmIaU cY2/DCQNHxxtKR8GWoLbDU92EDwoT90kdEDVcyUsFpCRAy+kiiqoxqxlqGJeedvkHGsDPyqIopX 7DW+5HUkIGFv+WpvXy0uBmTntE6ejFUdrlFwobC+3 X-Gm-Gg: ASbGncvWCqeCibgRHq92Sj9/donMmBtlFsxxz/UPLOQRpdD6Cqawlmm4+BAY91hUrJC IlmislXCidIiUlyPTNlCo6SEyvMGFvbnINZgv/X/LlAOt7JkHU/UIFTjQvYbnG6sQSqhzUqByOt 5S9zffZy4AyZlyn47W2GblKKCq4TmPYm1SBtg6BTISt1Ajo0V3s6V63STk6IyzbXt25O2ceHn4+ y+YWw9z3TmR5NjOwAt89tEx8edeYtJXNnvxBZ9vuPX4hte2IwIo6hVkaf8DOUlojTH6QQhuBETV S5FU2CLx7x1HG2pioJ2K7ukM74tUxQEAHxG2Ybn8E/YNwBoj2e1KV8quZbA= X-Google-Smtp-Source: AGHT+IGwQWimgsWQwpiH6xdSwRPvKOaIqKHJDOUmZ7bjGy7Fa2yJ0Xvh5JlWeiHI/l1rPNYluX5lsm+i3dlC X-Received: by 2002:ad4:5ce7:0:b0:6e8:fcc9:a291 with SMTP id 6a1803df08f44-6f6e47c3502mr837116d6.23.1746724636239; Thu, 08 May 2025 10:17:16 -0700 (PDT) Received: from postal.iol.unh.edu (postal.iol.unh.edu. [132.177.123.84]) by smtp-relay.gmail.com with ESMTPS id 6a1803df08f44-6f6e39f827fsm200556d6.19.2025.05.08.10.17.16 (version=TLS1_2 cipher=ECDHE-ECDSA-AES128-GCM-SHA256 bits=128/128); Thu, 08 May 2025 10:17:16 -0700 (PDT) X-Relaying-Domain: iol.unh.edu Date: Thu, 08 May 2025 10:17:16 -0700 (PDT) Message-ID: <681ce71c.d40a0220.6ee23.1150SMTPIN_ADDED_MISSING@mx.google.com> Received: from [172.21.0.5] (unknown [172.18.0.240]) by postal.iol.unh.edu (Postfix) with ESMTP id B87456052471; Thu, 8 May 2025 13:16:44 -0400 (EDT) Subject: |SUCCESS| pw153356-153358 [PATCH] [v7,3/3] app/testpmd: add sleep co From: dpdklab@iol.unh.edu To: Test Report Cc: dpdk-test-reports@iol.unh.edu In-Reply-To: <6334aba24959371cc7c6f4290869698f0ad57bc1.1746698489.git.anatoly.burakov@intel.com> References: <6334aba24959371cc7c6f4290869698f0ad57bc1.1746698489.git.anatoly.burakov@intel.com> Content-Type: text/plain X-BeenThere: test-report@dpdk.org X-Mailman-Version: 2.1.29 Precedence: list List-Id: automatic DPDK test reports List-Unsubscribe: , List-Archive: List-Post: List-Help: List-Subscribe: , Errors-To: test-report-bounces@dpdk.org Test-Label: iol-compile-arm64-testing Test-Status: SUCCESS http://dpdk.org/patch/153358 _Testing PASS_ Submitter: Anatoly Burakov Date: Thursday, May 08 2025 10:01:38 DPDK git baseline: Repo:dpdk Branch: master CommitID:75f179ebe347b6098cf3af26d3d3b7168fe3fe24 153356-153358 --> testing pass Upstream job id: Generic-DPDK-Compile-Meson#386550 Test environment and result as below: +----------------------------------------+--------------------+ | Environment | dpdk_meson_compile | +========================================+====================+ | RHEL9 (ARM) | PASS | +----------------------------------------+--------------------+ | Ubuntu 20.04 ARM GCC Cross Compile | PASS | +----------------------------------------+--------------------+ | Ubuntu 20.04 ARM SVE | PASS | +----------------------------------------+--------------------+ | Debian 12 with MUSDK | PASS | +----------------------------------------+--------------------+ | Fedora 40 (ARM) | PASS | +----------------------------------------+--------------------+ | Fedora 40 (ARM Clang) | PASS | +----------------------------------------+--------------------+ | Fedora 41 (ARM) | PASS | +----------------------------------------+--------------------+ | Fedora 41 (ARM Clang) | PASS | +----------------------------------------+--------------------+ | Ubuntu 20.04 (ARM) | PASS | +----------------------------------------+--------------------+ | Ubuntu 22.04 (ARM) | PASS | +----------------------------------------+--------------------+ | Ubuntu 24.04 (ARM) | PASS | +----------------------------------------+--------------------+ | CentOS Stream 9 (ARM) | PASS | +----------------------------------------+--------------------+ | CentOS Stream 10 (ARM) | PASS | +----------------------------------------+--------------------+ | Debian 12 (arm) | PASS | +----------------------------------------+--------------------+ | Ubuntu 20.04 ARM Clang Cross Compile | PASS | +----------------------------------------+--------------------+ | Ubuntu 20.04 aarch32 GCC Cross Compile | PASS | +----------------------------------------+--------------------+ RHEL9 (ARM) Kernel: Depends on container host Compiler: gcc 11.5.0 20240719 (Red Hat 11.5.0-2) Ubuntu 20.04 ARM GCC Cross Compile Kernel: Depends on container host Compiler: aarch64-linux-gnu-gcc (Ubuntu 9.4.0-1ubuntu1~20.04.2) 9.4.0 Ubuntu 20.04 ARM SVE Kernel: Depends on container host Compiler: gcc (Ubuntu 10.5.0-1ubuntu1~20.04) 10.5.0 Debian 12 with MUSDK Kernel: Depends on container host Compiler: gcc (Debian 12.2.0-14) 12.2.0 Fedora 40 (ARM) Kernel: Depends on container host Compiler: gcc 14.2.1 20240912 (Red Hat 14.2.1-3) Fedora 40 (ARM Clang) Kernel: Depends on container host Compiler: clang 18.1.8 (Fedora 18.1.8-1.fc40) Fedora 41 (ARM) Kernel: Depends on container host Compiler: gcc 14.2.1 20240912 (Red Hat 14.2.1-3) Fedora 41 (ARM Clang) Kernel: Depends on container host Compiler: clang 19.1.5 (Fedora 19.1.5-1.fc41) Ubuntu 20.04 (ARM) Kernel: Depends on container host Compiler: gcc (Ubuntu 9.4.0-1ubuntu1~20.04.2) 9.4.0 Ubuntu 22.04 (ARM) Kernel: Depends on container host Compiler: gcc (Ubuntu 11.4.0-1ubuntu1~22.04) 11.4.0 Ubuntu 24.04 (ARM) Kernel: Depends on container host Compiler: gcc (Ubuntu 13.3.0-6ubuntu2~24.04) 13.3.0 CentOS Stream 9 (ARM) Kernel: Depends on container host Compiler: gcc 11.5.0 20240719 (Red Hat 11.5.0-2) CentOS Stream 10 (ARM) Kernel: Depends on container host Compiler: gcc 14.2.1 20241104 (Red Hat 14.2.1-6) Debian 12 (arm) Kernel: Depends on container host Compiler: gcc (Debian 12.2.0-14) 12.2.0 Ubuntu 20.04 ARM Clang Cross Compile Kernel: Depends on container host Compiler: clang 10.0.0-4ubuntu1 Ubuntu 20.04 aarch32 GCC Cross Compile Kernel: Depends on container host Compiler: gcc 9.4.0 To view detailed results, visit: https://lab.dpdk.org/results/dashboard/patchsets/33142/ UNH-IOL DPDK Community Lab To manage your email subscriptions, visit: https://lab.dpdk.org/results/dashboard/preferences/subscriptions/