From mboxrd@z Thu Jan 1 00:00:00 1970 Return-Path: Received: from mails.dpdk.org (mails.dpdk.org [217.70.189.124]) by inbox.dpdk.org (Postfix) with ESMTP id 9EF5F466AD for ; Thu, 8 May 2025 19:17:27 +0200 (CEST) Received: from mails.dpdk.org (localhost [127.0.0.1]) by mails.dpdk.org (Postfix) with ESMTP id 9A3494026C; Thu, 8 May 2025 19:17:27 +0200 (CEST) Received: from mail-il1-f227.google.com (mail-il1-f227.google.com [209.85.166.227]) by mails.dpdk.org (Postfix) with ESMTP id ADF4D4026B for ; Thu, 8 May 2025 19:17:26 +0200 (CEST) Received: by mail-il1-f227.google.com with SMTP id e9e14a558f8ab-3d8fc9dbce4so9181715ab.0 for ; Thu, 08 May 2025 10:17:26 -0700 (PDT) DKIM-Signature: v=1; a=rsa-sha256; c=relaxed/relaxed; d=iol.unh.edu; s=unh-iol; t=1746724646; x=1747329446; darn=dpdk.org; h=cc:to:from:subject:message-id:date:from:to:cc:subject:date :message-id:reply-to; bh=k7lpGmhw/Sy9kVxY8bPem9s3zPhslJqj1UyYE0nXVuo=; b=Tff4LX74Jbp4SZULNOInN/l1BB4oBxUw/sQ1+0bc91VAWwQKPsYEvNJW2VV41GKMg0 ThCtcE0Zyr9zesDJhdmJ+1s0EVZVpFAUqd5BFAV0dIIoMnQDODFyCypQMXJETDDKqZQJ DJhyhN46rEjGD5IYhRxb/lAaa4a62euf2yx70= X-Google-DKIM-Signature: v=1; a=rsa-sha256; c=relaxed/relaxed; d=1e100.net; s=20230601; t=1746724646; x=1747329446; h=cc:to:from:subject:message-id:date:x-gm-message-state:from:to:cc :subject:date:message-id:reply-to; bh=k7lpGmhw/Sy9kVxY8bPem9s3zPhslJqj1UyYE0nXVuo=; b=tXji3h++nTUemKTKJ8TwBwUCYNOSALklUw7xutLShiFghIrU8yqB3/3fj0ut/vVpsN nKKkXKtpEV+AN5fjI5hXCfZ8N1TVjiMpFUjf4LUF6i4ZKvLlI1LogcFf6fdHmwBIsArh Kv/DpfTVyc5W6U5vorlTY9FPatc/pidtiOnJS19ryJITTqJ/yQFnFT9xwTazZBMfSnUU GAFsbt17O9trNRODfvYJIEFXqiusB1VCcAUdMwJdSu+4BNUcwxxPSUebLmzEafWcZ3fF CaqMxsjBswUWIjgmeX7M7kVJukZ6l3qjuVMfSCV1pBwiwbr9Go1lzmLlgnhwo00iONzQ PqCw== X-Gm-Message-State: AOJu0YzX1nMeqxPhAemRKCQgA0CD8gyt22dpC7A7jbLo34ODxx17wDto Zp4pjLbfVi0T0w1sEPg/f/drYS/FXYNgT6PATggbyq3VYATJleCgMHYaxM9XazON4fo5mkqRYeQ 9L6EQcn+s9p7KatxGk3OTjdRDWQyoUecT X-Gm-Gg: ASbGncuk4PjFQNh9h6Ulxs1I8Cc388yVBy4ZoGT/sMDey9HHjufulwETDgKdA/6gi+D N9jmTFKsxWqJO7yLWHawL4UX9/c6Mr/ede0/wjhnHbaM9jFW+3M69vbNqEgpv3/T1dlxTrPgJy5 cbT1/XHksBDqO3r5u4agUNOyGYHsJorOnBf8i4UAlD5nDniogL6/A9Ilu8zbv60lELhDWZYdO3+ AMFcPMDsukBGlLZLi5s2HeMRL7X5bdxp8wANUihTO31yKQb+DP7Y0CnmjAicXUfdAUrTjpEwVuD h07Yxt8f1yN/7IAINWhUIC1ePckdaQPvyzoqEFW751GM1L+NEaprSisgQ4E= X-Google-Smtp-Source: AGHT+IF1J3qyycRNKbjGW+aGaU7SFEtqwZaTcY5XzOZl0KSmZxdHCGe+M6aIv4HsHyfE30rX5h6UiQalSAAV X-Received: by 2002:a05:6e02:3c83:b0:3d9:43fe:8e34 with SMTP id e9e14a558f8ab-3da7e313e2cmr1318505ab.1.1746724645829; Thu, 08 May 2025 10:17:25 -0700 (PDT) Received: from postal.iol.unh.edu (postal.iol.unh.edu. [132.177.123.84]) by smtp-relay.gmail.com with ESMTPS id e9e14a558f8ab-3da7e11558bsm103035ab.42.2025.05.08.10.17.25 (version=TLS1_2 cipher=ECDHE-ECDSA-AES128-GCM-SHA256 bits=128/128); Thu, 08 May 2025 10:17:25 -0700 (PDT) X-Relaying-Domain: iol.unh.edu Date: Thu, 08 May 2025 10:17:25 -0700 (PDT) Message-ID: <681ce725.050a0220.3760e6.0912SMTPIN_ADDED_MISSING@mx.google.com> Received: from [172.21.0.11] (unknown [172.18.0.240]) by postal.iol.unh.edu (Postfix) with ESMTP id 0F8AE6052472; Thu, 8 May 2025 13:16:55 -0400 (EDT) Subject: |SUCCESS| [GIT MASTER] 83a7a648344674c0269fcaeb71d8d16468421a0e From: dpdklab@iol.unh.edu To: Test Report Cc: dpdk-test-reports@iol.unh.edu, Xueming Li , Christian Ehrhardt , Kevin Traynor , Luca Boccassi Content-Type: text/plain X-BeenThere: test-report@dpdk.org X-Mailman-Version: 2.1.29 Precedence: list List-Id: automatic DPDK test reports List-Unsubscribe: , List-Archive: List-Post: List-Help: List-Subscribe: , Errors-To: test-report-bounces@dpdk.org _Testing PASS_ Branch: tags/v23.11 83a7a648344674c0269fcaeb71d8d16468421a0e --> testing pass Upstream job id: ACVP-FIPS-testing#9754 Test environment and result as below: +--------------------+----------------------+----------------------+ | Environment | compressdev_zlib_pmd | dpdk_fips_validation | +====================+======================+======================+ | Ubuntu 22.04 (ARM) | PASS | SKIPPED | +--------------------+----------------------+----------------------+ | Ubuntu 22.04 | PASS | SKIPPED | +--------------------+----------------------+----------------------+ | Ubuntu 20.04 | SKIPPED | PASS | +--------------------+----------------------+----------------------+ Ubuntu 22.04 (ARM) Kernel: 5.15.0-97-generic Compiler: gcc gcc (Ubuntu 11.4.0-1ubuntu1~22.04) 11.4.0 Ubuntu 22.04 Kernel: 5.15.0-100-generic Compiler: gcc gcc (Ubuntu 11.4.0-1ubuntu1~22.04) 11.4.0 Ubuntu 20.04 Kernel: Depends on container host Compiler: gcc (Ubuntu 9.4.0-1ubuntu1~20.04.2) 9.4.0 To view detailed results, visit: https://lab.dpdk.org/results/dashboard/tarballs/33474/ UNH-IOL DPDK Community Lab To manage your email subscriptions, visit: https://lab.dpdk.org/results/dashboard/preferences/subscriptions/