From mboxrd@z Thu Jan 1 00:00:00 1970 Return-Path: Received: from mails.dpdk.org (mails.dpdk.org [217.70.189.124]) by inbox.dpdk.org (Postfix) with ESMTP id 9ED1C466F7 for ; Thu, 8 May 2025 20:27:01 +0200 (CEST) Received: from mails.dpdk.org (localhost [127.0.0.1]) by mails.dpdk.org (Postfix) with ESMTP id 81EAB4026C; Thu, 8 May 2025 20:27:01 +0200 (CEST) Received: from mail-pf1-f226.google.com (mail-pf1-f226.google.com [209.85.210.226]) by mails.dpdk.org (Postfix) with ESMTP id 081664026B for ; Thu, 8 May 2025 20:27:00 +0200 (CEST) Received: by mail-pf1-f226.google.com with SMTP id d2e1a72fcca58-739525d4e12so1373502b3a.3 for ; Thu, 08 May 2025 11:26:59 -0700 (PDT) DKIM-Signature: v=1; a=rsa-sha256; c=relaxed/relaxed; d=iol.unh.edu; s=unh-iol; t=1746728819; x=1747333619; darn=dpdk.org; h=cc:to:from:subject:message-id:date:from:to:cc:subject:date :message-id:reply-to; bh=YXVig1S/ku2VF85oMxyEAQgdhQdq9OWJCTMa4jisUC4=; b=IQswueaSLNVKLXMVspfPV3P3wMvVTHVDDiyIzZOGl/kN8aI0FkIR9YksG18PKnvR29 CXFAQoQ3BTal1mx7KFEdkUfwQXGzNzGn/zE0Jwi1TQA8DRBdYEuQ8uNUEuk3BvY/fkNV omwlikrxn9scbr8HD/8zHNCO3QZ2GLlAfSOto= X-Google-DKIM-Signature: v=1; a=rsa-sha256; c=relaxed/relaxed; d=1e100.net; s=20230601; t=1746728819; x=1747333619; h=cc:to:from:subject:message-id:date:x-gm-message-state:from:to:cc :subject:date:message-id:reply-to; bh=YXVig1S/ku2VF85oMxyEAQgdhQdq9OWJCTMa4jisUC4=; b=lz3khi6Ul4OqSDS+nWfOjHmYsHCWf/qSHXHZ1GnHoDXH+6zY+so38bW/eg4jrf65C3 iCYvBmWta/DrOlWNXeDF6h0FfnM28WLjWzwIwKHVmzF3NYURyeB8ziTDQhEhZLpCbBqC aZqwE8wEERH5TLzus/JFzUJ1icDY9niPEq70KNuOcM0ekhYN0tFZKXwTpa4nih/NWTUQ DrtWhjGRNTyZbw9ch+tuECTgmTKyvlBGG17By/HfzLDa4i7PNUWFbY2KRZ/4vN3/KQLa OJyAkYgSoyZy4Fh36X3fMFRx5dG9caB30vaRtPXxV8AuYV1tkaUAkHVz0Lg1rlGY1K+Y g1uw== X-Gm-Message-State: AOJu0YxCLd4WHtdZZJW0Q0XWITiEh85EautfKwelHgv35QVHxEIU2Rvt laroINJzF0GVB8DjOd/GsZX+TXYY0OocidKJAURvrvMtlE5DWhKPjHDd6JFhRgBn2qDvxNTnhAj I3MYVxU582sZCk8kqFLuSoD4PgCi8k4hE X-Gm-Gg: ASbGncvyAIx2NLX+Q7KG4GhEVL1Z/TODMHwsm6EW9hnO22bJJ41L1HtTgIYfETSBzY2 kmUNo+T+JfVDYYfZaWtHeq7KSKCDNIzBSimDcQ7hfl51m2C5TqdkjLvYbQ4Fb420OG44mcOsOLF DXtpEd6Z3tqjhEklx2spfTBEdA3XAiM61wsDA4JMZOElrC8EzV1N+ielKGrCliTwC24IH0Fmacw WbbJ8UmWIRc/A4+2WQnTE/unvmRQpwWLZrlM2KE6RRwYxo5aso0XwjQW75CuvFIVx65OlImWjjy KWITOTexBTEbGrH9875O6f/9AbSEfxj+yJZo4BTabqheUKdejzd54znd6DE= X-Google-Smtp-Source: AGHT+IHGw40WrNwxHZ4/wxIdCtXaYyPmQdQ5lz8anluSO+1aF/ESOY3oAC/57niLCWges1afOdvBkTjM/7g6 X-Received: by 2002:a05:6a00:290c:b0:730:927c:d451 with SMTP id d2e1a72fcca58-7423c06be9bmr373848b3a.20.1746728818588; Thu, 08 May 2025 11:26:58 -0700 (PDT) Received: from postal.iol.unh.edu (postal.iol.unh.edu. [132.177.123.84]) by smtp-relay.gmail.com with ESMTPS id 41be03b00d2f7-b234922f114sm6504a12.16.2025.05.08.11.26.58 (version=TLS1_2 cipher=ECDHE-ECDSA-AES128-GCM-SHA256 bits=128/128); Thu, 08 May 2025 11:26:58 -0700 (PDT) X-Relaying-Domain: iol.unh.edu Date: Thu, 08 May 2025 11:26:58 -0700 (PDT) Message-ID: <681cf772.630a0220.2e0f3c.060dSMTPIN_ADDED_MISSING@mx.google.com> Received: from [172.17.0.2] (unknown [172.18.0.76]) by postal.iol.unh.edu (Postfix) with ESMTP id CA66F6052471; Thu, 8 May 2025 14:26:57 -0400 (EDT) Subject: |SUCCESS| [GIT MASTER] 4401486b5e30d43a134f80f9802f60b5f43e74a8 From: dpdklab@iol.unh.edu To: Test Report Cc: dpdk-test-reports@iol.unh.edu, Xueming Li , Christian Ehrhardt , Kevin Traynor , Luca Boccassi Content-Type: text/plain X-BeenThere: test-report@dpdk.org X-Mailman-Version: 2.1.29 Precedence: list List-Id: automatic DPDK test reports List-Unsubscribe: , List-Archive: List-Post: List-Help: List-Subscribe: , Errors-To: test-report-bounces@dpdk.org _Testing PASS_ Branch: tags/v22.11 4401486b5e30d43a134f80f9802f60b5f43e74a8 --> testing pass Upstream job id: ACVP-FIPS-testing#9755 Test environment and result as below: +--------------------+----------------------+----------------------+ | Environment | compressdev_zlib_pmd | dpdk_fips_validation | +====================+======================+======================+ | Ubuntu 22.04 (ARM) | PASS | SKIPPED | +--------------------+----------------------+----------------------+ | Ubuntu 22.04 | PASS | SKIPPED | +--------------------+----------------------+----------------------+ | Ubuntu 20.04 | SKIPPED | PASS | +--------------------+----------------------+----------------------+ Ubuntu 22.04 (ARM) Kernel: 5.15.0-97-generic Compiler: gcc gcc (Ubuntu 11.4.0-1ubuntu1~22.04) 11.4.0 Ubuntu 22.04 Kernel: 5.15.0-100-generic Compiler: gcc gcc (Ubuntu 11.4.0-1ubuntu1~22.04) 11.4.0 Ubuntu 20.04 Kernel: Depends on container host Compiler: gcc (Ubuntu 9.4.0-1ubuntu1~20.04.2) 9.4.0 To view detailed results, visit: https://lab.dpdk.org/results/dashboard/tarballs/33475/ UNH-IOL DPDK Community Lab To manage your email subscriptions, visit: https://lab.dpdk.org/results/dashboard/preferences/subscriptions/