From mboxrd@z Thu Jan 1 00:00:00 1970 Return-Path: Received: from mails.dpdk.org (mails.dpdk.org [217.70.189.124]) by inbox.dpdk.org (Postfix) with ESMTP id C8496466F7 for ; Thu, 8 May 2025 21:27:11 +0200 (CEST) Received: from mails.dpdk.org (localhost [127.0.0.1]) by mails.dpdk.org (Postfix) with ESMTP id A75D44025D; Thu, 8 May 2025 21:27:11 +0200 (CEST) Received: from mail-pf1-f228.google.com (mail-pf1-f228.google.com [209.85.210.228]) by mails.dpdk.org (Postfix) with ESMTP id D6F214014F for ; Thu, 8 May 2025 21:27:10 +0200 (CEST) Received: by mail-pf1-f228.google.com with SMTP id d2e1a72fcca58-74068f95d9fso1454444b3a.0 for ; Thu, 08 May 2025 12:27:10 -0700 (PDT) DKIM-Signature: v=1; a=rsa-sha256; c=relaxed/relaxed; d=iol.unh.edu; s=unh-iol; t=1746732430; x=1747337230; darn=dpdk.org; h=references:in-reply-to:cc:to:from:subject:message-id:date:from:to :cc:subject:date:message-id:reply-to; bh=QRYL1wcrceDUQa2VXHpefTpo6Q7+GiweAHtA12fPmEo=; b=ezsEBUZlNF4v3sw7pMOwYC8v+jfRWXy35mHieTimDGPwRV1vey2zh+VnLorQdzfaJa ofN+HY9TvF1xcW1FqR8Qjh+hLcWILccLBeBeCqXnATCi8R8R6PsaaNTW02mpyiRRWiCD HDt5P5BhK23F+QQ7izmL+6usFcXzYPqQplj68= X-Google-DKIM-Signature: v=1; a=rsa-sha256; c=relaxed/relaxed; d=1e100.net; s=20230601; t=1746732430; x=1747337230; h=references:in-reply-to:cc:to:from:subject:message-id:date :x-gm-message-state:from:to:cc:subject:date:message-id:reply-to; bh=QRYL1wcrceDUQa2VXHpefTpo6Q7+GiweAHtA12fPmEo=; b=UP4qaJlEdesVXejQQQYvM9vddxPZNbHOQXFx3Y3KsQHthKnrlfDZCLkv7m8dSIGs+C UTPFwLih9dFBXVUaiH61KfjSIHChnszznF5FWdy6lKNmheM8EeTRCdc/nV2Yr+LU1I1d 3YsBE2KX1L6rD2vyJTPGvF0VIaxzHCXFJkrmlLz1ggzBATGD1X46HDRk7xUDT9DM4NVz wUZnYOjsr8M/1QL+n+2BHVv+Dii+Hqlmb0AmtZIBvDzg1pLKQMnLcuriDecLxDaD4BOB wXjm8OOi/6XfWAhFw1Z9Rw4I6lzCPsV/vNkcRjOfqEcswWcEWoyr/hYc6J6lCX0w7UEJ blsw== X-Gm-Message-State: AOJu0Yx08gpHEe5ZwVTLo+k5okhfLzAe9KoGgDVZucV/o34yYJo193UL qx4qQs7Fh/SBQPeXRCUY6F60YaAv80Tn6OqzsgmF6VQB8CsZ637AMMVe8JXbhbbtzLKIjPxyQ+L IiYl0JpGGEvgFd7Y/ChWmvAY5C6SyBR0UEb/mXGjH X-Gm-Gg: ASbGnctA7wpbx6Ec2oXsGvr6OZv5hbJKQdQk8AsN4AN3G8edqXJ5KTPAAPCXILt9ill 6FyIAxKX9aqjnf+sGfPXbTNyUHn4djR3WnyOyiYrFsqdbKpEGucOmve5PJnPf/Von9lzttGMNCa dGv0VwCg/auDUrIfVGY+1FE5s1vcrqFcdXyKkgGUjWrozOsCscO6fcgmV7iNszOPyJgoAzxVQTV DAcQew4e9s4601+x7SjyTVxrUH0y3/EApoe70ozqkq+nduFUGBjmUl035Lx1DnCWqzm3jKdnVCc gTY69C9c+BC679QniuH2Y7UyCmi2yU0hIK6XctWbJb2cFf7ss8192LstSSI= X-Google-Smtp-Source: AGHT+IFCICxzQ5alwhu8lKf4Ot/x9PLwXTMT+AIiMVmlwn0ISndeR8RQV6xGz2ieTJBGiaXSwvcsQxgiLKQE X-Received: by 2002:a05:6a00:3e28:b0:736:51ab:7aed with SMTP id d2e1a72fcca58-7423c040e1fmr683716b3a.16.1746732429907; Thu, 08 May 2025 12:27:09 -0700 (PDT) Received: from postal.iol.unh.edu (postal.iol.unh.edu. [132.177.123.84]) by smtp-relay.gmail.com with ESMTPS id d2e1a72fcca58-74237a37b50sm25867b3a.24.2025.05.08.12.27.09 (version=TLS1_2 cipher=ECDHE-ECDSA-AES128-GCM-SHA256 bits=128/128); Thu, 08 May 2025 12:27:09 -0700 (PDT) X-Relaying-Domain: iol.unh.edu Date: Thu, 08 May 2025 12:27:09 -0700 (PDT) Message-ID: <681d058d.a70a0220.1584ab.170dSMTPIN_ADDED_MISSING@mx.google.com> Received: from [172.17.0.2] (unknown [172.18.0.74]) by postal.iol.unh.edu (Postfix) with ESMTP id A894A6052472; Thu, 8 May 2025 15:26:37 -0400 (EDT) Subject: |SUCCESS| pw153351-153352 [PATCH] [2/2] crypto/uadk: use async mode From: dpdklab@iol.unh.edu To: Test Report Cc: dpdk-test-reports@iol.unh.edu In-Reply-To: <20250508074119.356011-3-zhangfei.gao@linaro.org> References: <20250508074119.356011-3-zhangfei.gao@linaro.org> Content-Type: text/plain X-BeenThere: test-report@dpdk.org X-Mailman-Version: 2.1.29 Precedence: list List-Id: automatic DPDK test reports List-Unsubscribe: , List-Archive: List-Post: List-Help: List-Subscribe: , Errors-To: test-report-bounces@dpdk.org Test-Label: iol-sample-apps-testing Test-Status: SUCCESS http://dpdk.org/patch/153352 _Testing PASS_ Submitter: Zhangfei Gao Date: Thursday, May 08 2025 07:41:19 DPDK git baseline: Repo:dpdk Branch: master CommitID:ca1690ebd224f148268285b15b97441ccdbdd07e 153351-153352 --> testing pass Upstream job id: ACVP-FIPS-testing#9757 Test environment and result as below: +--------------------+----------------------+----------------------+ | Environment | compressdev_zlib_pmd | dpdk_fips_validation | +====================+======================+======================+ | Ubuntu 22.04 (ARM) | PASS | SKIPPED | +--------------------+----------------------+----------------------+ | Ubuntu 22.04 | PASS | SKIPPED | +--------------------+----------------------+----------------------+ | Ubuntu 20.04 | SKIPPED | PASS | +--------------------+----------------------+----------------------+ Ubuntu 22.04 (ARM) Kernel: 5.15.0-97-generic Compiler: gcc gcc (Ubuntu 11.4.0-1ubuntu1~22.04) 11.4.0 Ubuntu 22.04 Kernel: 5.15.0-100-generic Compiler: gcc gcc (Ubuntu 11.4.0-1ubuntu1~22.04) 11.4.0 Ubuntu 20.04 Kernel: Depends on container host Compiler: gcc (Ubuntu 9.4.0-1ubuntu1~20.04.2) 9.4.0 To view detailed results, visit: https://lab.dpdk.org/results/dashboard/patchsets/33140/ UNH-IOL DPDK Community Lab To manage your email subscriptions, visit: https://lab.dpdk.org/results/dashboard/preferences/subscriptions/