From mboxrd@z Thu Jan 1 00:00:00 1970 Return-Path: Received: from mails.dpdk.org (mails.dpdk.org [217.70.189.124]) by inbox.dpdk.org (Postfix) with ESMTP id 108D5466F8 for ; Thu, 8 May 2025 23:12:13 +0200 (CEST) Received: from mails.dpdk.org (localhost [127.0.0.1]) by mails.dpdk.org (Postfix) with ESMTP id DD2084026C; Thu, 8 May 2025 23:12:12 +0200 (CEST) Received: from mail-io1-f97.google.com (mail-io1-f97.google.com [209.85.166.97]) by mails.dpdk.org (Postfix) with ESMTP id C64B34026B for ; Thu, 8 May 2025 23:12:11 +0200 (CEST) Received: by mail-io1-f97.google.com with SMTP id ca18e2360f4ac-85dac9729c3so109484939f.2 for ; Thu, 08 May 2025 14:12:11 -0700 (PDT) DKIM-Signature: v=1; a=rsa-sha256; c=relaxed/relaxed; d=iol.unh.edu; s=unh-iol; t=1746738731; x=1747343531; darn=dpdk.org; h=references:in-reply-to:cc:to:from:subject:message-id:date:from:to :cc:subject:date:message-id:reply-to; bh=1OLNwpJQg7Swy4Im3IhotCI5j8PFpp1dmvFnP4n+X2w=; b=Non+FxXR9jxU1dOdwNo5NDGvN19QiKEv2JG3LEbfM4McisxsiXv91cpKcv5gTMNvAH Te3L8j7/oNEwsNWz68ym4ErV9jabpxvDfHsOLM9XZK2m+Tq4FlO/++Xavj89RXmX14UK HZzUdJCi+iv3jFx4oeuulNjBTZI8vpVmuobVQ= X-Google-DKIM-Signature: v=1; a=rsa-sha256; c=relaxed/relaxed; d=1e100.net; s=20230601; t=1746738731; x=1747343531; h=references:in-reply-to:cc:to:from:subject:message-id:date :x-gm-message-state:from:to:cc:subject:date:message-id:reply-to; bh=1OLNwpJQg7Swy4Im3IhotCI5j8PFpp1dmvFnP4n+X2w=; b=Da0U5a7dOctxSszO9BCchT1Jy20mg33mDQIy1lwb9MxlKza2ZDdaZr5Mq6IQcivzpg 3WeYbN+kQa5Y94i0ZhqodnIJyvnpCrB6zZtHl6mYeJKfm50dypg2Z8csjnjuWcY6tRB/ BuYYQtvHK447suw2WIXNtBvdJ3CDZBtWr24XbLcc9XIwXmw7WCeuG3vvzs+64xXZ7fJC yGhRj6Y9BsN8p8pGMMKiOA3JsQO+k60k8vWZv2eL/59Vxbd6ALom3svbCf1Vf/5AwuAB +/EIe7vBUakWm2CJazWlGLmT7+1C55SafdRscQ32WfPKM2WAhtQ8PG+5WsrXpbeDXQ3z ZIVw== X-Gm-Message-State: AOJu0YwOB/Mx4dN00vMbntqNqhKuWIac61n3MXmpr+c80PDdNNXqxOGv qb9Ob4IwDg2RHyo1xTpfJheSGOj3phdLvfigLiYH2EwUWdeQ7RdR0RIjFTB16qCwHlTjGzoCte7 ZKunjYnUsQr0su6sxljl9NOjZnuSonL3GSCVpn13r X-Gm-Gg: ASbGncvG002RvXnhUgy+V6hb0Uj1PZ2TZoFflOhYZx0Pq2g9F0oM3gAVklZFaEQ0rdy Ut7qx/v2L1andHTuLkZvQ+T1+Cmyr6hys6O9c11AFjYBrStdOOV8lYv0l/ESLowCT5NsQHuQB8e 8BIVk7Bx8Hg0c+BQqaWnfSkjfZT1bl9P4C5ZOwXU8zOyAx1aoZXCcNuTgZudQDKyrgoJ/OzemRh d4BGNWIR/YOuRpyAHtroihLALqxzNC49H9aKKLAIykgARaF81qU/w5aT9lz2ds7JBw5Jm0qWD49 tCSiNqyaqcLVzPBto3AhCjb9SxgYjXHWMaLNQP1WuHPQ+q9f3rhNRAM4OQg= X-Google-Smtp-Source: AGHT+IEcLk7KK34nyGA80wOd7UXksCA4+UHGTDHYR2EmF/+23OzwvMfNB39VSVBNYILN4QU/fF/2wZ4Lv9Hm X-Received: by 2002:a05:6e02:b4c:b0:3d9:6485:39f0 with SMTP id e9e14a558f8ab-3da7e1e7848mr16318785ab.9.1746738730880; Thu, 08 May 2025 14:12:10 -0700 (PDT) Received: from postal.iol.unh.edu (postal.iol.unh.edu. [132.177.123.84]) by smtp-relay.gmail.com with ESMTPS id e9e14a558f8ab-3da7e0f9b97sm354595ab.1.2025.05.08.14.12.10 (version=TLS1_2 cipher=ECDHE-ECDSA-AES128-GCM-SHA256 bits=128/128); Thu, 08 May 2025 14:12:10 -0700 (PDT) X-Relaying-Domain: iol.unh.edu Date: Thu, 08 May 2025 14:12:10 -0700 (PDT) Message-ID: <681d1e2a.050a0220.24e2d9.255fSMTPIN_ADDED_MISSING@mx.google.com> Received: from [172.17.0.2] (unknown [172.18.0.74]) by postal.iol.unh.edu (Postfix) with ESMTP id 53A836052471; Thu, 8 May 2025 17:11:40 -0400 (EDT) Subject: |SUCCESS| pw153349 [PATCH] eal: warn if no lcore is available From: dpdklab@iol.unh.edu To: Test Report Cc: dpdk-test-reports@iol.unh.edu In-Reply-To: <20250508051915.226465-2-david.marchand@redhat.com> References: <20250508051915.226465-2-david.marchand@redhat.com> Content-Type: text/plain X-BeenThere: test-report@dpdk.org X-Mailman-Version: 2.1.29 Precedence: list List-Id: automatic DPDK test reports List-Unsubscribe: , List-Archive: List-Post: List-Help: List-Subscribe: , Errors-To: test-report-bounces@dpdk.org Test-Label: iol-sample-apps-testing Test-Status: SUCCESS http://dpdk.org/patch/153349 _Testing PASS_ Submitter: David Marchand Date: Thursday, May 08 2025 05:19:15 DPDK git baseline: Repo:dpdk Branch: master CommitID:75f179ebe347b6098cf3af26d3d3b7168fe3fe24 153349 --> testing pass Upstream job id: ACVP-FIPS-testing#9759 Test environment and result as below: +--------------------+----------------------+----------------------+ | Environment | compressdev_zlib_pmd | dpdk_fips_validation | +====================+======================+======================+ | Ubuntu 22.04 (ARM) | PASS | SKIPPED | +--------------------+----------------------+----------------------+ | Ubuntu 22.04 | PASS | SKIPPED | +--------------------+----------------------+----------------------+ | Ubuntu 20.04 | SKIPPED | PASS | +--------------------+----------------------+----------------------+ Ubuntu 22.04 (ARM) Kernel: 5.15.0-97-generic Compiler: gcc gcc (Ubuntu 11.4.0-1ubuntu1~22.04) 11.4.0 Ubuntu 22.04 Kernel: 5.15.0-100-generic Compiler: gcc gcc (Ubuntu 11.4.0-1ubuntu1~22.04) 11.4.0 Ubuntu 20.04 Kernel: Depends on container host Compiler: gcc (Ubuntu 9.4.0-1ubuntu1~20.04.2) 9.4.0 To view detailed results, visit: https://lab.dpdk.org/results/dashboard/patchsets/33138/ UNH-IOL DPDK Community Lab To manage your email subscriptions, visit: https://lab.dpdk.org/results/dashboard/preferences/subscriptions/