From mboxrd@z Thu Jan 1 00:00:00 1970 Return-Path: Received: from mails.dpdk.org (mails.dpdk.org [217.70.189.124]) by inbox.dpdk.org (Postfix) with ESMTP id 39B67466F8 for ; Thu, 8 May 2025 23:36:44 +0200 (CEST) Received: from mails.dpdk.org (localhost [127.0.0.1]) by mails.dpdk.org (Postfix) with ESMTP id 0E80F4026C; Thu, 8 May 2025 23:36:44 +0200 (CEST) Received: from mail-pf1-f225.google.com (mail-pf1-f225.google.com [209.85.210.225]) by mails.dpdk.org (Postfix) with ESMTP id B89AD4026B for ; Thu, 8 May 2025 23:36:42 +0200 (CEST) Received: by mail-pf1-f225.google.com with SMTP id d2e1a72fcca58-7396f13b750so1689588b3a.1 for ; Thu, 08 May 2025 14:36:42 -0700 (PDT) DKIM-Signature: v=1; a=rsa-sha256; c=relaxed/relaxed; d=iol.unh.edu; s=unh-iol; t=1746740201; x=1747345001; darn=dpdk.org; h=references:in-reply-to:cc:to:from:subject:message-id:date:from:to :cc:subject:date:message-id:reply-to; bh=O/ujEIHMiIcUJE4CGFfS2/Dg1XCrMUBxfiewG+GSVfE=; b=Q4xOVI+obsucV7gqd3lGYU955Zjg9tmJU0DF8cgtd4wTJ8LnuCnQI9Lhbz0HNIi06k oUgDCqjEMpbmkzR84eH4Cxe58eLBEMOHlQLAUwjctVuoS2HHSFSAGT11tyHOchtztF38 MzlDZH0Z2WI1iOaRLjQg5AMeVnaI9eOeInaFg= X-Google-DKIM-Signature: v=1; a=rsa-sha256; c=relaxed/relaxed; d=1e100.net; s=20230601; t=1746740201; x=1747345001; h=references:in-reply-to:cc:to:from:subject:message-id:date :x-gm-message-state:from:to:cc:subject:date:message-id:reply-to; bh=O/ujEIHMiIcUJE4CGFfS2/Dg1XCrMUBxfiewG+GSVfE=; b=OOt7ZTuTOUjcy/1ezLE1+GPCpSeg5im4RlKIo6NNOcAnE1qLAQ76q1YeTfKXJhpLnC XptUsrjLrhlDSb44tHsjJWhUsy1zmVx7pQBEFRbDkS8JbCwVMayzJT1zBZNz+cg8Q52K gdLSs+4s9iHmOyotSmaNp6Y0szQVYf/r/cowPqFMmw7H9EKBZJzTzDq/jrF2IVa0RTB9 nebHcvCUVzTj1fChQ58xXFQPNTpgERLhqcFK/fQNopQkNq11tXiAiJ6zpJ18oPrfszq5 0QIvh5EbdiVlOAHoW4p+zh7wHpm7hYw/nZ3xc07B5vbIjMmO9H9EGXO+p+aWsXx+9v6q oBeQ== X-Gm-Message-State: AOJu0YxfKzHZ51ZZYWTomLGd8Kld8inGcIbH4vt9FljJGTAgBd0MWVWW gblU3HoLl0n5j8Vkydn4a0tZj40BN20mNovVfGCM4OeNwQagGsqN6gICzvOkjgnfU65rzz1I7Fh S0LOG8rPoO/T31MI2kWwXHqzBsrkDxctcRWlXE0wc X-Gm-Gg: ASbGncu3WI0msTH9JmYr+9ZojSWafnJAx9Rn9rHjEoBVQnIX1OBGMJHJpf/uXYV20xR +mvwFZKOuJd7UJtJPscvVzDAxYL4i35Yl1Su1fnlQ2AB8QSfB4HHivB91+HBeAehLH9N1GXBtJV MyvTp4qHX8d2qPi5eoc+RoIGJG7eePvXfUJEX0ZNSgJiLFXHevZNcLpOmRd6MswQM2kyVSBuqw4 uRzNw0gZw6zdfDP/18auUuCtQXO62hMMMKdaEoaVi3Z2plxq7orYwjsyetunZ0NkLNp5hF5knwj Mvob+vRI8LEc3xgIuhJFo7nMtPmtClohsHqsdxUPI4qpO7GVbSFWNhmsZJc= X-Google-Smtp-Source: AGHT+IFVULru5Ou30M8USVMAIBAPb3DGSgCUNRwF1BeAW4KB66/y4bjxcNiBDfCk2zrfA7yI2F8eZdSeFXvH X-Received: by 2002:a05:6a00:997:b0:73e:b65:bc47 with SMTP id d2e1a72fcca58-7423bfe4cf7mr1131377b3a.17.1746740201348; Thu, 08 May 2025 14:36:41 -0700 (PDT) Received: from postal.iol.unh.edu (postal.iol.unh.edu. [132.177.123.84]) by smtp-relay.gmail.com with ESMTPS id d2e1a72fcca58-742377279ecsm34158b3a.10.2025.05.08.14.36.41 (version=TLS1_2 cipher=ECDHE-ECDSA-AES128-GCM-SHA256 bits=128/128); Thu, 08 May 2025 14:36:41 -0700 (PDT) X-Relaying-Domain: iol.unh.edu Date: Thu, 08 May 2025 14:36:41 -0700 (PDT) Message-ID: <681d23e9.050a0220.e1c61.1dd5SMTPIN_ADDED_MISSING@mx.google.com> Received: from [172.17.0.2] (unknown [172.18.0.74]) by postal.iol.unh.edu (Postfix) with ESMTP id 785E36052471; Thu, 8 May 2025 17:36:10 -0400 (EDT) Subject: |WARNING| pw153356-153358 [PATCH] [v7,3/3] app/testpmd: add sleep co From: dpdklab@iol.unh.edu To: Test Report Cc: dpdk-test-reports@iol.unh.edu In-Reply-To: <6334aba24959371cc7c6f4290869698f0ad57bc1.1746698489.git.anatoly.burakov@intel.com> References: <6334aba24959371cc7c6f4290869698f0ad57bc1.1746698489.git.anatoly.burakov@intel.com> Content-Type: text/plain X-BeenThere: test-report@dpdk.org X-Mailman-Version: 2.1.29 Precedence: list List-Id: automatic DPDK test reports List-Unsubscribe: , List-Archive: List-Post: List-Help: List-Subscribe: , Errors-To: test-report-bounces@dpdk.org Test-Label: iol-sample-apps-testing Test-Status: WARNING http://dpdk.org/patch/153358 _Testing issues_ Submitter: Anatoly Burakov Date: Thursday, May 08 2025 10:01:38 DPDK git baseline: Repo:dpdk Branch: master CommitID:75f179ebe347b6098cf3af26d3d3b7168fe3fe24 153356-153358 --> testing issues Upstream job id: ACVP-FIPS-testing#9760 Test environment and result as below: +--------------------+----------------------+----------------------+ | Environment | compressdev_zlib_pmd | dpdk_fips_validation | +====================+======================+======================+ | Ubuntu 22.04 (ARM) | PASS | SKIPPED | +--------------------+----------------------+----------------------+ | Ubuntu 22.04 | PASS | SKIPPED | +--------------------+----------------------+----------------------+ | Ubuntu 20.04 | SKIPPED | WARN | +--------------------+----------------------+----------------------+ ==== 20 line log output for Ubuntu 20.04 (dpdk_fips_validation): ==== INFO:root:Uploading response file... INFO:root:Fetching verdict... INFO:root:Downloading verdict for vector set 3117858 INFO:root:Vector set verdict not ready, waiting 30 seconds... INFO:root:Vector set verdict not ready, waiting 30 seconds... INFO:root:Done INFO:root:Using response file... INFO:root:Uploading response file... INFO:root:Fetching verdict... INFO:root:Downloading verdict for vector set 3117859 INFO:root:Vector set verdict not ready, waiting 30 seconds... INFO:root:Done INFO:root:Using response file... INFO:root:Uploading response file... INFO:root:Fetching verdict... INFO:root:Downloading verdict for vector set 3117860 INFO:root:Vector set verdict not ready, waiting 30 seconds... INFO:root:Vector set verdict not ready, waiting 30 seconds... INFO:root:Vector set verdict not ready, waiting 30 seconds... INFO:root:Done ==== End log output ==== Ubuntu 22.04 (ARM) Kernel: 5.15.0-97-generic Compiler: gcc gcc (Ubuntu 11.4.0-1ubuntu1~22.04) 11.4.0 Ubuntu 22.04 Kernel: 5.15.0-100-generic Compiler: gcc gcc (Ubuntu 11.4.0-1ubuntu1~22.04) 11.4.0 Ubuntu 20.04 Kernel: Depends on container host Compiler: gcc (Ubuntu 9.4.0-1ubuntu1~20.04.2) 9.4.0 To view detailed results, visit: https://lab.dpdk.org/results/dashboard/patchsets/33142/ UNH-IOL DPDK Community Lab To manage your email subscriptions, visit: https://lab.dpdk.org/results/dashboard/preferences/subscriptions/