From mboxrd@z Thu Jan 1 00:00:00 1970 Return-Path: Received: from mails.dpdk.org (mails.dpdk.org [217.70.189.124]) by inbox.dpdk.org (Postfix) with ESMTP id 12AF3466F8 for ; Fri, 9 May 2025 01:35:10 +0200 (CEST) Received: from mails.dpdk.org (localhost [127.0.0.1]) by mails.dpdk.org (Postfix) with ESMTP id D6CD04026C; Fri, 9 May 2025 01:35:09 +0200 (CEST) Received: from mail-pf1-f227.google.com (mail-pf1-f227.google.com [209.85.210.227]) by mails.dpdk.org (Postfix) with ESMTP id 6BA804026B for ; Fri, 9 May 2025 01:35:08 +0200 (CEST) Received: by mail-pf1-f227.google.com with SMTP id d2e1a72fcca58-739be717eddso1363582b3a.2 for ; Thu, 08 May 2025 16:35:08 -0700 (PDT) DKIM-Signature: v=1; a=rsa-sha256; c=relaxed/relaxed; d=iol.unh.edu; s=unh-iol; t=1746747307; x=1747352107; darn=dpdk.org; h=references:in-reply-to:cc:to:from:subject:message-id:date:from:to :cc:subject:date:message-id:reply-to; bh=Lh1ibR51+E90cJeeRB27w4enML4OuE66D4kXFO5JffQ=; b=Z7cLyvj35uKwRzeubqBDGp9re7vCrXRUm5Bn8I3T07JMOIVwnQRwDIlYtWPpkM+5Hr XWJyyi9Zg0aBvqhM8RGUhkk+DFHAddjEEc82A93/ZfpZ9RP+LVbQESbEdRHKssQn9/Li CpExKF+dOfUZM/blg7fLPNico7QiHRBag3eXM= X-Google-DKIM-Signature: v=1; a=rsa-sha256; c=relaxed/relaxed; d=1e100.net; s=20230601; t=1746747307; x=1747352107; h=references:in-reply-to:cc:to:from:subject:message-id:date :x-gm-message-state:from:to:cc:subject:date:message-id:reply-to; bh=Lh1ibR51+E90cJeeRB27w4enML4OuE66D4kXFO5JffQ=; b=Xht1zH07ERekbu+W0Nt8rJMyI6yruTppylscNGiapC8q0zo+MMsPou92oTytvscdRg 2C8LONI9q6KBWNLoSXjyKH+O7bLzqH2mxgcQdjitEHfEoL92RfwVeeTN6mYE1YeJNj2J kOcHDUGErenvyinx/q9qzm8cd2iL2/faYWo8+/ziankVgxRgqY7peRAZz1k/Sq+mHd6j oOTPTtJ9/350WVq+wKAs1EFjSFyUNQIFa0t1eUlwaaJfQFLu7t5UvO7e2jPHFut9Y5Z9 uAB0agAaxyAwy65wY709ECmN61v03UAuGcdmUjH4Q0Rs4vgrvik24oIzMhANzHfuPbsQ FvtA== X-Gm-Message-State: AOJu0YyW52X02jQL23l69RTxTzWCi3P5P7YPpE1kIoUTcVxyoI5gfIYy Aq0c39G1s1b/5gPWIvTxVlTcCUCSpaXGRWjVvfYFwP8oPG79Iu4PVN0ns40IQ0C1UmouVLyYbY0 88TTDG2CJbNwtI5jPgvqJ74ZRx1PDW20kT1OmPBBN X-Gm-Gg: ASbGnctwls60Fz/A83YXpDaH7zO3Vg6NVtxU00tzs6GDcsJsMdief4oR0h/IflcaA11 MC3YBgtmOC/99sJYy64WDd8nzVtvqjQc52PCsC2hWEfDcOLI55IEbBKmiF+ZdK4c1QGH7l3jSFW OqTKHNChgyrygIxy2C8UJcR8iNzPRiKlmIeZR6G9GXHBp4BgUh+8zzzaJGeOqk4qptF3Qn+nAQj WouZmbjFex2yTLkqFXX6xLHZ7o1x4VxQRExDsYhcmHbCFq2XpMcJ8UpqYEwpGgYxLCVoniDftO/ WTqj9DX6l7iRBrkpz3/Kvu7PisOXuKx5j9RdSfjP4vNl3UohX69z2V5pL6o= X-Google-Smtp-Source: AGHT+IEchHEuRIt0SIaU4506rD//PGG1TGYv9crtgKDxJCbrup3fM6s71VWzDWSkqndL3VDbhWeDpEzBIQ3V X-Received: by 2002:a17:903:182:b0:22e:6cc6:cf77 with SMTP id d9443c01a7336-22fc91cec2bmr19988645ad.53.1746747307473; Thu, 08 May 2025 16:35:07 -0700 (PDT) Received: from postal.iol.unh.edu (postal.iol.unh.edu. [132.177.123.84]) by smtp-relay.gmail.com with ESMTPS id d9443c01a7336-22fc5a3d767sm469015ad.58.2025.05.08.16.35.07 (version=TLS1_2 cipher=ECDHE-ECDSA-AES128-GCM-SHA256 bits=128/128); Thu, 08 May 2025 16:35:07 -0700 (PDT) X-Relaying-Domain: iol.unh.edu Date: Thu, 08 May 2025 16:35:07 -0700 (PDT) Message-ID: <681d3fab.170a0220.1a7ce7.2b23SMTPIN_ADDED_MISSING@mx.google.com> Received: from [172.17.0.2] (unknown [172.18.0.74]) by postal.iol.unh.edu (Postfix) with ESMTP id 5BA256052471; Thu, 8 May 2025 19:34:36 -0400 (EDT) Subject: |SUCCESS| pw153359-153361 [PATCH] [v8,3/3] app/testpmd: add sleep co From: dpdklab@iol.unh.edu To: Test Report Cc: dpdk-test-reports@iol.unh.edu In-Reply-To: <15755be6192657d1e75940284d09939e58aee5b9.1746710154.git.anatoly.burakov@intel.com> References: <15755be6192657d1e75940284d09939e58aee5b9.1746710154.git.anatoly.burakov@intel.com> Content-Type: text/plain X-BeenThere: test-report@dpdk.org X-Mailman-Version: 2.1.29 Precedence: list List-Id: automatic DPDK test reports List-Unsubscribe: , List-Archive: List-Post: List-Help: List-Subscribe: , Errors-To: test-report-bounces@dpdk.org Test-Label: iol-sample-apps-testing Test-Status: SUCCESS http://dpdk.org/patch/153361 _Testing PASS_ Submitter: Anatoly Burakov Date: Thursday, May 08 2025 13:16:03 DPDK git baseline: Repo:dpdk Branch: master CommitID:75f179ebe347b6098cf3af26d3d3b7168fe3fe24 153359-153361 --> testing pass Upstream job id: ACVP-FIPS-testing#9761 Test environment and result as below: +--------------------+----------------------+----------------------+ | Environment | compressdev_zlib_pmd | dpdk_fips_validation | +====================+======================+======================+ | Ubuntu 22.04 (ARM) | PASS | SKIPPED | +--------------------+----------------------+----------------------+ | Ubuntu 22.04 | PASS | SKIPPED | +--------------------+----------------------+----------------------+ | Ubuntu 20.04 | SKIPPED | PASS | +--------------------+----------------------+----------------------+ Ubuntu 22.04 (ARM) Kernel: 5.15.0-97-generic Compiler: gcc gcc (Ubuntu 11.4.0-1ubuntu1~22.04) 11.4.0 Ubuntu 22.04 Kernel: 5.15.0-100-generic Compiler: gcc gcc (Ubuntu 11.4.0-1ubuntu1~22.04) 11.4.0 Ubuntu 20.04 Kernel: Depends on container host Compiler: gcc (Ubuntu 9.4.0-1ubuntu1~20.04.2) 9.4.0 To view detailed results, visit: https://lab.dpdk.org/results/dashboard/patchsets/33143/ UNH-IOL DPDK Community Lab To manage your email subscriptions, visit: https://lab.dpdk.org/results/dashboard/preferences/subscriptions/