From mboxrd@z Thu Jan 1 00:00:00 1970 Return-Path: Received: from mails.dpdk.org (mails.dpdk.org [217.70.189.124]) by inbox.dpdk.org (Postfix) with ESMTP id E142F466F8 for ; Fri, 9 May 2025 07:07:45 +0200 (CEST) Received: from mails.dpdk.org (localhost [127.0.0.1]) by mails.dpdk.org (Postfix) with ESMTP id DBD5C4026C; Fri, 9 May 2025 07:07:45 +0200 (CEST) Received: from mail-pf1-f226.google.com (mail-pf1-f226.google.com [209.85.210.226]) by mails.dpdk.org (Postfix) with ESMTP id C00364026B for ; Fri, 9 May 2025 07:07:44 +0200 (CEST) Received: by mail-pf1-f226.google.com with SMTP id d2e1a72fcca58-736c277331eso2609919b3a.1 for ; Thu, 08 May 2025 22:07:44 -0700 (PDT) DKIM-Signature: v=1; a=rsa-sha256; c=relaxed/relaxed; d=iol.unh.edu; s=unh-iol; t=1746767264; x=1747372064; darn=dpdk.org; h=cc:to:from:subject:message-id:date:from:to:cc:subject:date :message-id:reply-to; bh=91bPKEp/+px6d4jinRXLcoeHbEJl6KD8WeFaa73nFgI=; b=DcKvdZNs+oU2kCgeHtVvvOf4k37sYfNxe2SapjMJZLy7jHhJyriWfCz7ALMlfvIlYb /Ude0hy9rYmDaEC5EOue5nPaG225eaz6lR9RqkAxbwIFprb8w+5gKmIa49pDhV0uoT9B D9J/ifx4U0rIZNkhaooCX7i42sbvDX/dtFGO8= X-Google-DKIM-Signature: v=1; a=rsa-sha256; c=relaxed/relaxed; d=1e100.net; s=20230601; t=1746767264; x=1747372064; h=cc:to:from:subject:message-id:date:x-gm-message-state:from:to:cc :subject:date:message-id:reply-to; bh=91bPKEp/+px6d4jinRXLcoeHbEJl6KD8WeFaa73nFgI=; b=ehKS/ENQgQpNzVLo6cwIith6MBQWyvX9z87Do5QT9g7NiGdexOAmJfa63Dke7ioBYb tplVPW4rATI4dE1P8GZKCUUi6x+HGyQODZj3i/Bp9KpJ+jIsHlRDaV7wUlI7KWzAi45a 2/4ZT/oSHw4L1zEzeM/dbPDrXYScVemIrETQp47PQw/qPizOqlvL/oD+aDR2eICgifOT ErB1NHP+XNdvQbBZJh0/mE9sXONYFdkptFytHXgQQmvjYis4FpLz8XdDCF8JN1v1IdXW z/c4OZsT3W5R0xhCAdRdpK6HPS3nINBrDn+/NDxGjuCFY18DYC4Hsc5vOMAbh7AyLz+s S+wA== X-Gm-Message-State: AOJu0Yz4OGAwnYIB+psdz0VP+1JNTH9NUsXaqUWUEtyQILtFIGpRXfpx sg1d5zyWTMuxk6BnzcRZ4AIwG1wfzHh+h5sVXyfiq23dz77gDN3L6KorOqp4VBa1bP53Y9d032X n/qLsJzbQ8VCZV3qqkZ4UK48zSc/pvnuPXZ4eLS+D+PQHVZRo X-Gm-Gg: ASbGncvyggPnLH796892yLxuqt8Pe0GUUGTsAwlKUbZETLBYg9wqlLmOgxIXmVOpGfy qoE0b89aNqU+N+0RP3SS1+LCqX3YdnZmiaZCrX+n/gDPk4hqt64cCtMM1J70LarZFbpubViNVoz e4Bw//htTy2jq2aZ6PcoSx9HJrkjm9zpOnuL8EByefCKLGhhzw8Avn491hkyTwLESWKjON2+GmN y43Q2DH0nBfKHDgg6ORr29eueg+gsAjcvZ/sX6U6PTim1VLG0btCoPSamHU16ueQltolXbNEX7k JgQrT5GFUNr1u7qJYv2fdOR40z6/+fa+dR8S X-Google-Smtp-Source: AGHT+IGIfl/UxTfAAlYPMXjoO8hYnhPclCQDc2TtthigcvokWDFS5Se4Mj5IgPQDBL/TgwQLP6QUVpHtVbcA X-Received: by 2002:a17:902:d4c3:b0:220:ff82:1c60 with SMTP id d9443c01a7336-22e8475b0b8mr98043895ad.14.1746767263886; Thu, 08 May 2025 22:07:43 -0700 (PDT) Received: from postal.iol.unh.edu (postal.iol.unh.edu. [2606:4100:3880:1234::84]) by smtp-relay.gmail.com with ESMTPS id d9443c01a7336-22fc582012bsm623325ad.16.2025.05.08.22.07.43 (version=TLS1_2 cipher=ECDHE-ECDSA-AES128-GCM-SHA256 bits=128/128); Thu, 08 May 2025 22:07:43 -0700 (PDT) X-Relaying-Domain: iol.unh.edu Date: Thu, 08 May 2025 22:07:43 -0700 (PDT) Message-ID: <681d8d9f.170a0220.278a4f.364bSMTPIN_ADDED_MISSING@mx.google.com> Received: from [172.21.0.6] (unknown [172.18.0.240]) by postal.iol.unh.edu (Postfix) with ESMTP id 1AEB96052471; Fri, 9 May 2025 01:07:43 -0400 (EDT) Subject: |SUCCESS| [GIT MASTER] 4c5634de9f933555bab9c64a533d3dca999071cd From: dpdklab@iol.unh.edu To: Test Report Cc: dpdk-test-reports@iol.unh.edu, Xueming Li , Christian Ehrhardt , Kevin Traynor , Luca Boccassi Content-Type: text/plain X-BeenThere: test-report@dpdk.org X-Mailman-Version: 2.1.29 Precedence: list List-Id: automatic DPDK test reports List-Unsubscribe: , List-Archive: List-Post: List-Help: List-Subscribe: , Errors-To: test-report-bounces@dpdk.org _Testing PASS_ Branch: tags/v24.11 4c5634de9f933555bab9c64a533d3dca999071cd --> testing pass Upstream job id: Generic-DPDK-Compile-ABI#125815 Test environment and result as below: +-------------------+----------+ | Environment | abi_test | +===================+==========+ | CentOS Stream 9 | PASS | +-------------------+----------+ | Debian 12 | PASS | +-------------------+----------+ | CentOS Stream 10 | PASS | +-------------------+----------+ | Fedora 40 | PASS | +-------------------+----------+ | Fedora 40 (Clang) | PASS | +-------------------+----------+ | Fedora 41 (Clang) | PASS | +-------------------+----------+ | Fedora 41 | PASS | +-------------------+----------+ | Ubuntu 22.04 | PASS | +-------------------+----------+ | RHEL8 | PASS | +-------------------+----------+ | RHEL9 | PASS | +-------------------+----------+ | openSUSE Leap 15 | PASS | +-------------------+----------+ | Ubuntu 24.04 | PASS | +-------------------+----------+ CentOS Stream 9 Kernel: Depends on container host Compiler: gcc 11.5.0 20240719 (Red Hat 11.5.0-2) Debian 12 Kernel: Depends on container host Compiler: gcc (Debian 12.2.0-14) 12.2.0 CentOS Stream 10 Kernel: Depends on container host Compiler: gcc 14.2.1 20241104 (Red Hat 14.2.1-6) Fedora 40 Kernel: Depends on container host Compiler: gcc 14.2.1 20240912 (Red Hat 14.2.1-3) Fedora 40 (Clang) Kernel: Depends on container host Compiler: clang 18.1.8 (Fedora 18.1.8-1.fc40) Fedora 41 (Clang) Kernel: Depends on container host Compiler: clang 19.1.5 (Fedora 19.1.5-1.fc41) Fedora 41 Kernel: Depends on container host Compiler: gcc 14.2.1 20240912 (Red Hat 14.2.1-3) Ubuntu 22.04 Kernel: Depends on container host Compiler: gcc (Ubuntu 11.4.0-1ubuntu1~22.04) 11.4.0 RHEL8 Kernel: Depends on container host Compiler: gcc 8.5.0 20210514 (Red Hat 8.5.0-22) RHEL9 Kernel: Depends on container host Compiler: gcc 11.5.0 20240719 (Red Hat 11.5.0-2) openSUSE Leap 15 Kernel: Depends on container host Compiler: gcc (SUSE Linux) 7.5.0 Ubuntu 24.04 Kernel: Depends on container host Compiler: gcc (Ubuntu 13.3.0-6ubuntu2~24.04) 13.3.0 To view detailed results, visit: https://lab.dpdk.org/results/dashboard/tarballs/33482/ UNH-IOL DPDK Community Lab To manage your email subscriptions, visit: https://lab.dpdk.org/results/dashboard/preferences/subscriptions/