From mboxrd@z Thu Jan 1 00:00:00 1970 Return-Path: Received: from mails.dpdk.org (mails.dpdk.org [217.70.189.124]) by inbox.dpdk.org (Postfix) with ESMTP id 036CD466F8 for ; Fri, 9 May 2025 07:08:18 +0200 (CEST) Received: from mails.dpdk.org (localhost [127.0.0.1]) by mails.dpdk.org (Postfix) with ESMTP id F29524026C; Fri, 9 May 2025 07:08:17 +0200 (CEST) Received: from mail-pl1-f226.google.com (mail-pl1-f226.google.com [209.85.214.226]) by mails.dpdk.org (Postfix) with ESMTP id 38AF04026B for ; Fri, 9 May 2025 07:08:17 +0200 (CEST) Received: by mail-pl1-f226.google.com with SMTP id d9443c01a7336-22fac0694aaso11576975ad.1 for ; Thu, 08 May 2025 22:08:17 -0700 (PDT) DKIM-Signature: v=1; a=rsa-sha256; c=relaxed/relaxed; d=iol.unh.edu; s=unh-iol; t=1746767296; x=1747372096; darn=dpdk.org; h=cc:to:from:subject:message-id:date:from:to:cc:subject:date :message-id:reply-to; bh=RArEahIi/LP7pWLLfoQ+jB6Pfykqsl3lSbhQaLPQ0Vg=; b=ESWH/9yum03M5hNiO6b+MlQV5zkbe4t5VQOtVDA9tX1EkkipQR2zgsYoirr7tkfduj gRfgIQYUGkgXMtuZ4RbLN8Tnjyy8l7xBtgKtg5gIK17gjGlt10MiiZRyKXQOwt+iOsxW 1412LFvBowQXgDteF31kPUk5q6bRbL/CQYJcA= X-Google-DKIM-Signature: v=1; a=rsa-sha256; c=relaxed/relaxed; d=1e100.net; s=20230601; t=1746767296; x=1747372096; h=cc:to:from:subject:message-id:date:x-gm-message-state:from:to:cc :subject:date:message-id:reply-to; bh=RArEahIi/LP7pWLLfoQ+jB6Pfykqsl3lSbhQaLPQ0Vg=; b=M8+ck5tsV5B1fbgTreAhULKucBPrbpSzIMi8RC/RVwDkb74bm9ZppkpmUnfPyampNd U0Takl1IRWOuM6aqQmKncPUPwU8Z6DabQ7hrJwQ9fNywx4o6lpP3h9qFSaXUv3lUdiad 0etqu6QIlhmaHE72WyZXU1j7uTQlstuslZfNyZHpnZcmYpB8QicNG4NYVbnY3rtIN5+6 a2tA6TMUBQHAzgKqX/e/pvQQ7sw3gZYNaEayETRsOU6XrRI2rOdQg973aAsGcKPeyPek C83aH9XIRNh2tulVRrXNKWYoUx6FXhAy0ejHjDGaUrGGBbLimL34K3R304r6OiWgWEmx EQWw== X-Gm-Message-State: AOJu0YylNPSRFbUVrmM1EuGQhFoUa1AjUAf69V4PvaakQ3iFldCuMIqU VC/POcub8LU+KEBHhr2YkeG1EKeDOSlDqAtBl9BGWU1VodMfW8hhQlwdIHyUA1oNITlwm+02pV8 SYrz/ijHD0Ufxo7oG2j6/i85dylKAM2MZ X-Gm-Gg: ASbGncvXdBhg7dmxpp67oKuTD9SwKv07g1XYJDsLwCGHinTI/WANCQiPIm/A3NNxfMC M3vhUixqYIeAo0pPsQaUd7TVkMu/QBT+wWAlHFMtUsIu1KxizBTNtTOJQ3WjI+1p2YjnQ/oBAuw j60mI3e950raG1nPwml4wgPmwLnZnep0j6UXKFXfHXV65x991y+508c6I4Gw52KLbcsXJiimprk 2Te5/zHl778O7QGPdgdnJ/AvKFdzBRJ/EbC653EemkH1zji+NoRLzq3tX2QeTgoikZYJRjrSXlu 5aj6PYcs52cPeiLxtvnFkVs2eZZI8MC8WlFyMbS6bGOKFhXrUSRozXKQFY8= X-Google-Smtp-Source: AGHT+IElVtA0l/hCQrhv5uxm3nuCgiOFR/dNuSO5ZtJo2eyhR6ZvP/4firA41DQmqmU1qCVpuyLSEIkK5h/O X-Received: by 2002:a17:902:e748:b0:22d:e57a:27a2 with SMTP id d9443c01a7336-22fc8b55aacmr31604275ad.23.1746767296374; Thu, 08 May 2025 22:08:16 -0700 (PDT) Received: from postal.iol.unh.edu (postal.iol.unh.edu. [132.177.123.84]) by smtp-relay.gmail.com with ESMTPS id d9443c01a7336-22fc5a27fc0sm657505ad.45.2025.05.08.22.08.16 (version=TLS1_2 cipher=ECDHE-ECDSA-AES128-GCM-SHA256 bits=128/128); Thu, 08 May 2025 22:08:16 -0700 (PDT) X-Relaying-Domain: iol.unh.edu Date: Thu, 08 May 2025 22:08:16 -0700 (PDT) Message-ID: <681d8dc0.170a0220.18bb5c.5371SMTPIN_ADDED_MISSING@mx.google.com> Received: from [172.21.0.11] (unknown [172.18.0.240]) by postal.iol.unh.edu (Postfix) with ESMTP id 91F4B6052471; Fri, 9 May 2025 01:08:15 -0400 (EDT) Subject: |SUCCESS| [GIT MASTER] 4c5634de9f933555bab9c64a533d3dca999071cd From: dpdklab@iol.unh.edu To: Test Report Cc: dpdk-test-reports@iol.unh.edu, Xueming Li , Christian Ehrhardt , Kevin Traynor , Luca Boccassi Content-Type: text/plain X-BeenThere: test-report@dpdk.org X-Mailman-Version: 2.1.29 Precedence: list List-Id: automatic DPDK test reports List-Unsubscribe: , List-Archive: List-Post: List-Help: List-Subscribe: , Errors-To: test-report-bounces@dpdk.org _Testing PASS_ Branch: tags/v24.11 4c5634de9f933555bab9c64a533d3dca999071cd --> testing pass Upstream job id: Generic-DPDK-Compile-ABI#125810 Test environment and result as below: +-------------------+----------+ | Environment | abi_test | +===================+==========+ | CentOS Stream 9 | PASS | +-------------------+----------+ | Debian 12 | PASS | +-------------------+----------+ | CentOS Stream 10 | PASS | +-------------------+----------+ | Fedora 40 | PASS | +-------------------+----------+ | Fedora 40 (Clang) | PASS | +-------------------+----------+ | Fedora 41 (Clang) | PASS | +-------------------+----------+ | Fedora 41 | PASS | +-------------------+----------+ | Ubuntu 22.04 | PASS | +-------------------+----------+ | RHEL8 | PASS | +-------------------+----------+ | RHEL9 | PASS | +-------------------+----------+ | openSUSE Leap 15 | PASS | +-------------------+----------+ | Ubuntu 24.04 | PASS | +-------------------+----------+ CentOS Stream 9 Kernel: Depends on container host Compiler: gcc 11.5.0 20240719 (Red Hat 11.5.0-2) Debian 12 Kernel: Depends on container host Compiler: gcc (Debian 12.2.0-14) 12.2.0 CentOS Stream 10 Kernel: Depends on container host Compiler: gcc 14.2.1 20241104 (Red Hat 14.2.1-6) Fedora 40 Kernel: Depends on container host Compiler: gcc 14.2.1 20240912 (Red Hat 14.2.1-3) Fedora 40 (Clang) Kernel: Depends on container host Compiler: clang 18.1.8 (Fedora 18.1.8-1.fc40) Fedora 41 (Clang) Kernel: Depends on container host Compiler: clang 19.1.5 (Fedora 19.1.5-1.fc41) Fedora 41 Kernel: Depends on container host Compiler: gcc 14.2.1 20240912 (Red Hat 14.2.1-3) Ubuntu 22.04 Kernel: Depends on container host Compiler: gcc (Ubuntu 11.4.0-1ubuntu1~22.04) 11.4.0 RHEL8 Kernel: Depends on container host Compiler: gcc 8.5.0 20210514 (Red Hat 8.5.0-22) RHEL9 Kernel: Depends on container host Compiler: gcc 11.5.0 20240719 (Red Hat 11.5.0-2) openSUSE Leap 15 Kernel: Depends on container host Compiler: gcc (SUSE Linux) 7.5.0 Ubuntu 24.04 Kernel: Depends on container host Compiler: gcc (Ubuntu 13.3.0-6ubuntu2~24.04) 13.3.0 To view detailed results, visit: https://lab.dpdk.org/results/dashboard/tarballs/33482/ UNH-IOL DPDK Community Lab To manage your email subscriptions, visit: https://lab.dpdk.org/results/dashboard/preferences/subscriptions/