From mboxrd@z Thu Jan 1 00:00:00 1970 Return-Path: Received: from mails.dpdk.org (mails.dpdk.org [217.70.189.124]) by inbox.dpdk.org (Postfix) with ESMTP id 6373B466F8 for ; Fri, 9 May 2025 07:51:32 +0200 (CEST) Received: from mails.dpdk.org (localhost [127.0.0.1]) by mails.dpdk.org (Postfix) with ESMTP id 38B3D4026C; Fri, 9 May 2025 07:51:32 +0200 (CEST) Received: from mail-pl1-f225.google.com (mail-pl1-f225.google.com [209.85.214.225]) by mails.dpdk.org (Postfix) with ESMTP id 6FCA94026B for ; Fri, 9 May 2025 07:51:31 +0200 (CEST) Received: by mail-pl1-f225.google.com with SMTP id d9443c01a7336-227d6b530d8so18169965ad.3 for ; Thu, 08 May 2025 22:51:31 -0700 (PDT) DKIM-Signature: v=1; a=rsa-sha256; c=relaxed/relaxed; d=iol.unh.edu; s=unh-iol; t=1746769890; x=1747374690; darn=dpdk.org; h=cc:to:from:subject:message-id:date:from:to:cc:subject:date :message-id:reply-to; bh=8uGh6f92nrKU+mmURnMuVyy5ZNjaMAwBFpVq65Y+dfo=; b=Et9+b670Uq+JdWY6TlLNLAecDKI/ozy74fLmMI3EjSAltVTYhFhi9JMDOlC7RIJjrC KWYa2O7F6swbo+TZ7lISABqQi1Rm//vP36RianWd6h9wQTY+f7nhQo3lC8Te1tNkjfk7 ukqxIwejsqxpk3/RUWU1ov2HKduZvZPLIhZbk= X-Google-DKIM-Signature: v=1; a=rsa-sha256; c=relaxed/relaxed; d=1e100.net; s=20230601; t=1746769890; x=1747374690; h=cc:to:from:subject:message-id:date:x-gm-message-state:from:to:cc :subject:date:message-id:reply-to; bh=8uGh6f92nrKU+mmURnMuVyy5ZNjaMAwBFpVq65Y+dfo=; b=NiXQfV5HZbNtHwXt/iP86QLi3xMmAxszeir9MAk6Tz3bn3XCR/so/iuHwUNh/E9DTo UFgl8e5q6iyjIdkqyydLD07UzsVir0YL7tYttrwtg+PtpdUyX+zmrHT6K2Ih4/oTR5i1 y6hTx77F9zJpa2EbeSiCTbblmxFgltz2IK+R6ykW5moahK/8H5ds5jLUY0TY2dfCnpDe hub1xPyum5lY901WrJ+5MpVuSFCPNGmfhSTYf4gsgB1DRmkSt6S6lDoPmtfbfeWWzm0z L/KHwjB5rCyaAGhU+077Kc0aWcLDJjXEnJ1n6nKJ8z3VCwut1tLbuUIiLLdfWGVWUgEA UzfA== X-Gm-Message-State: AOJu0Yw61HNt+MgTaLX/Hba/oThe267oe1yhhKwZ4ZGn+aE9ba5D8Jtg XWrVr8p5Ksg0pBis5Gv3r36TZ8L2vRHlSEbWCAtLJ1oOnmuULnepqe9m8b2ni+ZPiy7Ti22n2D4 M7MHFoulIjwjyi2MPu4j83J1BimxhJrU12j1GWhW5e3XtLMGO X-Gm-Gg: ASbGnctO2SiXJaX8mWq1KrbhjB719oJso/KJz7OY2W/SNGXFdIT8tM5OfN5Be4dDulo d6nJmRBRoXp98sqAK1GSFOpI/OxmL3G13VT1GOp6PRG5YF1X5ZwWYLg1KcsWrUWMWIRVUE0+mrO hf71xJv0Nt938Eq4mbS/csYOkr/3Miu3xWWqP0NWKoMKoVTSyhgsrsXfRE1t6ysFPSBxp4pVspe KK/9+bDkqy0HuOqxLc5CImAVT3MIQd1l40Wr1y4y3lR2RPfjM4MLqAr9j+mHyHnW2/AQNE9LWhN 6fLsb9bBz3qcw5hUrchfHd3F/ca3kF+opBTD X-Google-Smtp-Source: AGHT+IG3okIDr4MtSvi8m+yYG1mqWJG1OqyN1m8/vncimAQaQCdYZuwFVwGB58m6hKFYbajlD32i2tEfSChJ X-Received: by 2002:a17:903:32d2:b0:224:de2:7fd0 with SMTP id d9443c01a7336-22fc8c7bce2mr32338705ad.25.1746769890345; Thu, 08 May 2025 22:51:30 -0700 (PDT) Received: from postal.iol.unh.edu (postal.iol.unh.edu. [2606:4100:3880:1234::84]) by smtp-relay.gmail.com with ESMTPS id d9443c01a7336-22fc6f11dfdsm655885ad.80.2025.05.08.22.51.30 (version=TLS1_2 cipher=ECDHE-ECDSA-AES128-GCM-SHA256 bits=128/128); Thu, 08 May 2025 22:51:30 -0700 (PDT) X-Relaying-Domain: iol.unh.edu Date: Thu, 08 May 2025 22:51:30 -0700 (PDT) Message-ID: <681d97e2.170a0220.2d5b47.3934SMTPIN_ADDED_MISSING@mx.google.com> Received: from [172.21.0.11] (unknown [172.18.0.240]) by postal.iol.unh.edu (Postfix) with ESMTP id 674466052471; Fri, 9 May 2025 01:51:29 -0400 (EDT) Subject: |SUCCESS| [GIT MASTER] 83a7a648344674c0269fcaeb71d8d16468421a0e From: dpdklab@iol.unh.edu To: Test Report Cc: dpdk-test-reports@iol.unh.edu, Xueming Li , Christian Ehrhardt , Kevin Traynor , Luca Boccassi Content-Type: text/plain X-BeenThere: test-report@dpdk.org X-Mailman-Version: 2.1.29 Precedence: list List-Id: automatic DPDK test reports List-Unsubscribe: , List-Archive: List-Post: List-Help: List-Subscribe: , Errors-To: test-report-bounces@dpdk.org _Testing PASS_ Branch: tags/v23.11 83a7a648344674c0269fcaeb71d8d16468421a0e --> testing pass Upstream job id: Aarch32-Unit-Test#6181 Test environment and result as below: +-----------------------------+--------------+---------------------------+------------------------------+----------------+ | Environment | lpm_autotest | cryptodev_sw_zuc_autotest | cryptodev_sw_snow3g_autotest | dpdk_unit_test | +=============================+==============+===========================+==============================+================+ | Ubuntu 20.04 ARM SVE | PASS | SKIPPED | SKIPPED | SKIPPED | +-----------------------------+--------------+---------------------------+------------------------------+----------------+ | Debian 12 (arm) | SKIPPED | PASS | PASS | PASS | +-----------------------------+--------------+---------------------------+------------------------------+----------------+ | CentOS Stream 10 (ARM) | SKIPPED | SKIPPED | SKIPPED | PASS | +-----------------------------+--------------+---------------------------+------------------------------+----------------+ | CentOS Stream 9 (ARM) | SKIPPED | SKIPPED | SKIPPED | PASS | +-----------------------------+--------------+---------------------------+------------------------------+----------------+ | Fedora 40 (ARM) | SKIPPED | SKIPPED | SKIPPED | PASS | +-----------------------------+--------------+---------------------------+------------------------------+----------------+ | Fedora 41 (ARM Clang) | SKIPPED | SKIPPED | SKIPPED | PASS | +-----------------------------+--------------+---------------------------+------------------------------+----------------+ | Fedora 41 (ARM) | SKIPPED | SKIPPED | SKIPPED | PASS | +-----------------------------+--------------+---------------------------+------------------------------+----------------+ | Fedora 40 (ARM Clang) | SKIPPED | SKIPPED | SKIPPED | PASS | +-----------------------------+--------------+---------------------------+------------------------------+----------------+ | Ubuntu 20.04 (ARM) | SKIPPED | SKIPPED | SKIPPED | PASS | +-----------------------------+--------------+---------------------------+------------------------------+----------------+ | RHEL9 (ARM) | SKIPPED | SKIPPED | SKIPPED | PASS | +-----------------------------+--------------+---------------------------+------------------------------+----------------+ | Ubuntu 22.04 (ARM) | SKIPPED | SKIPPED | SKIPPED | PASS | +-----------------------------+--------------+---------------------------+------------------------------+----------------+ | Ubuntu 24.04 (ARM) | SKIPPED | SKIPPED | SKIPPED | PASS | +-----------------------------+--------------+---------------------------+------------------------------+----------------+ | 32-bit Ubuntu 22.04.4 (ARM) | SKIPPED | SKIPPED | SKIPPED | PASS | +-----------------------------+--------------+---------------------------+------------------------------+----------------+ Ubuntu 20.04 ARM SVE Kernel: Depends on container host Compiler: gcc (Ubuntu 10.5.0-1ubuntu1~20.04) 10.5.0 Debian 12 (arm) Kernel: Depends on container host Compiler: gcc (Debian 12.2.0-14) 12.2.0 CentOS Stream 10 (ARM) Kernel: Depends on container host Compiler: gcc 14.2.1 20241104 (Red Hat 14.2.1-6) CentOS Stream 9 (ARM) Kernel: Depends on container host Compiler: gcc 11.5.0 20240719 (Red Hat 11.5.0-2) Fedora 40 (ARM) Kernel: Depends on container host Compiler: gcc 14.2.1 20240912 (Red Hat 14.2.1-3) Fedora 41 (ARM Clang) Kernel: Depends on container host Compiler: clang 19.1.5 (Fedora 19.1.5-1.fc41) Fedora 41 (ARM) Kernel: Depends on container host Compiler: gcc 14.2.1 20240912 (Red Hat 14.2.1-3) Fedora 40 (ARM Clang) Kernel: Depends on container host Compiler: clang 18.1.8 (Fedora 18.1.8-1.fc40) Ubuntu 20.04 (ARM) Kernel: Depends on container host Compiler: gcc (Ubuntu 9.4.0-1ubuntu1~20.04.2) 9.4.0 RHEL9 (ARM) Kernel: Depends on container host Compiler: gcc 11.5.0 20240719 (Red Hat 11.5.0-2) Ubuntu 22.04 (ARM) Kernel: Depends on container host Compiler: gcc (Ubuntu 11.4.0-1ubuntu1~22.04) 11.4.0 Ubuntu 24.04 (ARM) Kernel: Depends on container host Compiler: gcc (Ubuntu 13.3.0-6ubuntu2~24.04) 13.3.0 32-bit Ubuntu 22.04.4 (ARM) Kernel: 5.15.83+ aarch64 Compiler: gcc (Ubuntu 11.4.0-1ubuntu1~22.04) 11.4.0 To view detailed results, visit: https://lab.dpdk.org/results/dashboard/tarballs/33483/ UNH-IOL DPDK Community Lab To manage your email subscriptions, visit: https://lab.dpdk.org/results/dashboard/preferences/subscriptions/