From mboxrd@z Thu Jan 1 00:00:00 1970 Return-Path: Received: from mails.dpdk.org (mails.dpdk.org [217.70.189.124]) by inbox.dpdk.org (Postfix) with ESMTP id 4935C466F9 for ; Fri, 9 May 2025 08:01:42 +0200 (CEST) Received: from mails.dpdk.org (localhost [127.0.0.1]) by mails.dpdk.org (Postfix) with ESMTP id 45F004026C; Fri, 9 May 2025 08:01:42 +0200 (CEST) Received: from mail-yw1-f226.google.com (mail-yw1-f226.google.com [209.85.128.226]) by mails.dpdk.org (Postfix) with ESMTP id 0F8BD4026B for ; Fri, 9 May 2025 08:01:41 +0200 (CEST) Received: by mail-yw1-f226.google.com with SMTP id 00721157ae682-70a23f4fe8bso16577447b3.2 for ; Thu, 08 May 2025 23:01:41 -0700 (PDT) DKIM-Signature: v=1; a=rsa-sha256; c=relaxed/relaxed; d=iol.unh.edu; s=unh-iol; t=1746770500; x=1747375300; darn=dpdk.org; h=cc:to:from:subject:message-id:date:from:to:cc:subject:date :message-id:reply-to; bh=hEUS49wuukD4vi+sCfNnFSoEY8Kd9cHlSiceUf+IWNk=; b=fanvZOpNYRlt+GsbzXc1l4f2fVM+QQZae+XaW7T74ZaeajLBhCMYGXdPL6VcCYuiQ7 r5Rx+nTlYSW+2FLf4l32lzIC8KsT4gbLvESJaWee5yTlr/RBLA0ehmQmBq8w6q0hIzNo WAxR2gGOoVUqTUiPKEQfGY+M2qPFxgJt8Yr/c= X-Google-DKIM-Signature: v=1; a=rsa-sha256; c=relaxed/relaxed; d=1e100.net; s=20230601; t=1746770500; x=1747375300; h=cc:to:from:subject:message-id:date:x-gm-message-state:from:to:cc :subject:date:message-id:reply-to; bh=hEUS49wuukD4vi+sCfNnFSoEY8Kd9cHlSiceUf+IWNk=; b=L5p8ORa5buMPv+42n/DyJKohKRwXoRi8tZ/E9hEDI8iDsHVSxwDqbo4Z1AdireBu7k nD7F8F8k9qEJHn/6u7X+xmix4L1OSFDMiSSqTIIc6CIXO+uo5mlnLwmAQaj0aHpIp2+c uSpiWqgN3rOmF7DATyIOu0UU7F14pXoG5lnMxLvUAUwd6gZaw1o6c3r2PN0rMFvdiTwA NVMBTt0XbEnuTD/mqI+KtLOiEaVscXoTum4Q7H9ZthlSl7fL/n0ir/WvkuwaJ8oo12dE jF7DlMdVyJUOAPvN6MFckjR8xgRMSvYHXAC1qJPiwLAYUjJ5Ekt1++ND/T/6sj4rmQ9/ NluQ== X-Gm-Message-State: AOJu0YxYDUqQributZE/4IB0JF0yjUjxELNLjqX02GSABJ1/Kwbd1bk0 zu+ETJb0LH/dBruFSHSZDdauuQ4UcPHk1QajwlTN11MhR2rnlKBXP0YzBX+2jBmcAu1tektCNqn r1nCjnwYl7nWOPxrVX/bqj++2JCM/oEDQWBp3rBshSpU6nusB X-Gm-Gg: ASbGncsGW+nv7xHMEmtQnqqs96KjXSlLQLpyRx3ZnhZQ2/UxDvmjpiLEhR45pWSGHoC 3NbAtrQEcIgyaLZUlQUSRbLUHoYEPAgZ2Uz7K/NMcEkUneYuEpR0SuoVeoIwo9pj/OE7CueVp7x rTAf3HU486JsrOhaCmVXjqfhjwDbJ9EWpM6Wy74338Aw8PFJS8QXM1cev2bOtjx88Pm5WOSCrjU gP4efC3A7oTW6bBT5EZXWLfcEKo3w9dXT004Gh4M2beW9pKdakRxQBTR8sPA9yQ2CH6m9cg0/MW KX3o3HR0lI+YyQqGBjoib57OhEoF5LU93YLS X-Google-Smtp-Source: AGHT+IEE+WAbGBsS0fwiu2oocotccJCcn86Vy/kR6xC8lxts7lxQHdYXdo6gXqsiH8g5YpJtC8qwPVVudnvz X-Received: by 2002:a05:690c:6908:b0:6f9:7920:e813 with SMTP id 00721157ae682-70a3f9e3f92mr27201917b3.4.1746770500014; Thu, 08 May 2025 23:01:40 -0700 (PDT) Received: from postal.iol.unh.edu (postal.iol.unh.edu. [2606:4100:3880:1234::84]) by smtp-relay.gmail.com with ESMTPS id 00721157ae682-70a3d87da87sm589857b3.66.2025.05.08.23.01.39 (version=TLS1_2 cipher=ECDHE-ECDSA-AES128-GCM-SHA256 bits=128/128); Thu, 08 May 2025 23:01:40 -0700 (PDT) X-Relaying-Domain: iol.unh.edu Date: Thu, 08 May 2025 23:01:40 -0700 (PDT) Message-ID: <681d9a44.050a0220.14a344.3305SMTPIN_ADDED_MISSING@mx.google.com> Received: from [172.21.0.5] (unknown [172.18.0.240]) by postal.iol.unh.edu (Postfix) with ESMTP id B255A6052471; Fri, 9 May 2025 02:01:39 -0400 (EDT) Subject: |SUCCESS| [GIT MASTER] 83a7a648344674c0269fcaeb71d8d16468421a0e From: dpdklab@iol.unh.edu To: Test Report Cc: dpdk-test-reports@iol.unh.edu, Xueming Li , Christian Ehrhardt , Kevin Traynor , Luca Boccassi Content-Type: text/plain X-BeenThere: test-report@dpdk.org X-Mailman-Version: 2.1.29 Precedence: list List-Id: automatic DPDK test reports List-Unsubscribe: , List-Archive: List-Post: List-Help: List-Subscribe: , Errors-To: test-report-bounces@dpdk.org _Testing PASS_ Branch: tags/v23.11 83a7a648344674c0269fcaeb71d8d16468421a0e --> testing pass Upstream job id: Generic-DPDK-Compile-ABI#125828 Test environment and result as below: +-------------------+----------+ | Environment | abi_test | +===================+==========+ | CentOS Stream 9 | PASS | +-------------------+----------+ | CentOS Stream 10 | PASS | +-------------------+----------+ | Debian 12 | PASS | +-------------------+----------+ | Fedora 40 (Clang) | PASS | +-------------------+----------+ | Fedora 40 | PASS | +-------------------+----------+ | Fedora 41 | PASS | +-------------------+----------+ | Fedora 41 (Clang) | PASS | +-------------------+----------+ | Ubuntu 22.04 | PASS | +-------------------+----------+ | RHEL8 | PASS | +-------------------+----------+ | RHEL9 | PASS | +-------------------+----------+ | Ubuntu 24.04 | PASS | +-------------------+----------+ | openSUSE Leap 15 | PASS | +-------------------+----------+ CentOS Stream 9 Kernel: Depends on container host Compiler: gcc 11.5.0 20240719 (Red Hat 11.5.0-2) CentOS Stream 10 Kernel: Depends on container host Compiler: gcc 14.2.1 20241104 (Red Hat 14.2.1-6) Debian 12 Kernel: Depends on container host Compiler: gcc (Debian 12.2.0-14) 12.2.0 Fedora 40 (Clang) Kernel: Depends on container host Compiler: clang 18.1.8 (Fedora 18.1.8-1.fc40) Fedora 40 Kernel: Depends on container host Compiler: gcc 14.2.1 20240912 (Red Hat 14.2.1-3) Fedora 41 Kernel: Depends on container host Compiler: gcc 14.2.1 20240912 (Red Hat 14.2.1-3) Fedora 41 (Clang) Kernel: Depends on container host Compiler: clang 19.1.5 (Fedora 19.1.5-1.fc41) Ubuntu 22.04 Kernel: Depends on container host Compiler: gcc (Ubuntu 11.4.0-1ubuntu1~22.04) 11.4.0 RHEL8 Kernel: Depends on container host Compiler: gcc 8.5.0 20210514 (Red Hat 8.5.0-22) RHEL9 Kernel: Depends on container host Compiler: gcc 11.5.0 20240719 (Red Hat 11.5.0-2) Ubuntu 24.04 Kernel: Depends on container host Compiler: gcc (Ubuntu 13.3.0-6ubuntu2~24.04) 13.3.0 openSUSE Leap 15 Kernel: Depends on container host Compiler: gcc (SUSE Linux) 7.5.0 To view detailed results, visit: https://lab.dpdk.org/results/dashboard/tarballs/33483/ UNH-IOL DPDK Community Lab To manage your email subscriptions, visit: https://lab.dpdk.org/results/dashboard/preferences/subscriptions/