From mboxrd@z Thu Jan 1 00:00:00 1970 Return-Path: Received: from mails.dpdk.org (mails.dpdk.org [217.70.189.124]) by inbox.dpdk.org (Postfix) with ESMTP id B4FFE466FC for ; Fri, 9 May 2025 08:17:05 +0200 (CEST) Received: from mails.dpdk.org (localhost [127.0.0.1]) by mails.dpdk.org (Postfix) with ESMTP id B178B4026C; Fri, 9 May 2025 08:17:05 +0200 (CEST) Received: from mail-yw1-f225.google.com (mail-yw1-f225.google.com [209.85.128.225]) by mails.dpdk.org (Postfix) with ESMTP id AA56F4026B for ; Fri, 9 May 2025 08:17:04 +0200 (CEST) Received: by mail-yw1-f225.google.com with SMTP id 00721157ae682-70a35432c21so12240107b3.0 for ; Thu, 08 May 2025 23:17:04 -0700 (PDT) DKIM-Signature: v=1; a=rsa-sha256; c=relaxed/relaxed; d=iol.unh.edu; s=unh-iol; t=1746771424; x=1747376224; darn=dpdk.org; h=references:in-reply-to:cc:to:from:subject:message-id:date:from:to :cc:subject:date:message-id:reply-to; bh=FXNZh53xxo4v9pPvYvYp94gOWMP1SzvB9hruJKb4aD0=; b=AmIk4NdjgvolPX4+ix1ABLRpTa7GWiweufF/S5oOE9jW7GGhnD49GN5UBRHqb8O3i7 rDMPB6zKQXeEeHYq6kUCYjnntQfAH1zel/FB1WOu8XoNVsWnuiDPxm8+Eow3KqxlYQaB o0/O7xc7UoKI8BqzxeZ3qdgo78eW3M9arA9n0= X-Google-DKIM-Signature: v=1; a=rsa-sha256; c=relaxed/relaxed; d=1e100.net; s=20230601; t=1746771424; x=1747376224; h=references:in-reply-to:cc:to:from:subject:message-id:date :x-gm-message-state:from:to:cc:subject:date:message-id:reply-to; bh=FXNZh53xxo4v9pPvYvYp94gOWMP1SzvB9hruJKb4aD0=; b=d9+Hc2vBcKLhdIJ1T+eXNv/xAVOQJK4Jfl4bqIcKMa10oVAYzDDcZxdCcdBj7Ig4ZU wIv6QWslfDwZqGJQoQ8hGGBckw+r6i9KW8cH0y2X5dKnKbIms6ZarBeHGSYc+2uPdtHu EF28s/qPlMj2W9G3+PvFXb8xXnmC6KpBjhgXxjlBcHPpCy/eRh+e/O2VN2VeUSdESpQv 26G1kNRt+AvGSmmGENi1K20ojrq14jENlZb0xifyiEatncVvbEqRQLlu8kpTkjtRxjIX SnlRCIi4/PpG1PLf58hL7VNz8VKenJ2dRGSnvBCoX/9MpGZ4YPF0HQcml2pfiMixeFnR krnw== X-Gm-Message-State: AOJu0YwiRipWx2oze1GZcTwWZ7dHOJi7zljoZImX71grCpN1JQWgp9dS Cjkmr7lN34oa+otgMH/jl5IS7GzYRznD3mWd0tWXYbT1DfxL/VHnDCDdcI1/BDT82Sl3EcofKOL 4ngmH5ShFLPiiEzvE4Ex26xczLp0oAQIOP7d+9NT2 X-Gm-Gg: ASbGncs9RqslkFn38Mar9qbqTcR/wLMeG3RnzwLI2aRW+gPTIf5k/HZNOTVmdSvcpX7 bjFjsyyKl73ua6K1f7nrMwiKIoGr009q0Tb49jcJ38DUuMJg6GhLU9sOLeT7fleauHUVL5jKmVl Iw+dcOwPmATWYy+AnCp/bMlwtgn4bRzxs4i48lgR36z3MiYRScqd4VkzI6BdS7bgXl/jW8BrgTK aO8MVd4jlziNtzI84fIstuUMiDYdmVesGgsPVt5VgCwhJSvEu5hlMKUnNrdteCUz83m7IwPyH62 8bqZies9H61UnkRDUaNGZovqCoKFRvyLBYM2d83lUYqwxazY0sfGm81h1Q8= X-Google-Smtp-Source: AGHT+IFrLxBDUFbPeQnXhdVJIBroOawidTH4XzSTd2l8gxS7kjrmvRnZ+3ZOoeHmzlWWqLxi19GeaZ4PlLK7 X-Received: by 2002:a05:690c:3581:b0:6f9:4bb6:eb4e with SMTP id 00721157ae682-70a3fb5bca1mr31112407b3.31.1746771424048; Thu, 08 May 2025 23:17:04 -0700 (PDT) Received: from postal.iol.unh.edu (postal.iol.unh.edu. [132.177.123.84]) by smtp-relay.gmail.com with ESMTPS id 00721157ae682-70a3d782202sm575987b3.36.2025.05.08.23.17.03 (version=TLS1_2 cipher=ECDHE-ECDSA-AES128-GCM-SHA256 bits=128/128); Thu, 08 May 2025 23:17:04 -0700 (PDT) X-Relaying-Domain: iol.unh.edu Date: Thu, 08 May 2025 23:17:04 -0700 (PDT) Message-ID: <681d9de0.050a0220.3aaae9.416bSMTPIN_ADDED_MISSING@mx.google.com> Received: from [172.21.0.5] (unknown [172.18.0.240]) by postal.iol.unh.edu (Postfix) with ESMTP id AF29F6052471; Fri, 9 May 2025 02:17:03 -0400 (EDT) Subject: |SUCCESS| pw153363-153369 [PATCH] [v1,7/7] event/dlb2: fix default c From: dpdklab@iol.unh.edu To: Test Report Cc: dpdk-test-reports@iol.unh.edu In-Reply-To: <20250509042401.2634765-8-pravin.pathak@intel.com> References: <20250509042401.2634765-8-pravin.pathak@intel.com> Content-Type: text/plain X-BeenThere: test-report@dpdk.org X-Mailman-Version: 2.1.29 Precedence: list List-Id: automatic DPDK test reports List-Unsubscribe: , List-Archive: List-Post: List-Help: List-Subscribe: , Errors-To: test-report-bounces@dpdk.org Test-Label: iol-compile-amd64-testing Test-Status: SUCCESS http://dpdk.org/patch/153369 _Testing PASS_ Submitter: Pravin Pathak Date: Friday, May 09 2025 04:24:01 DPDK git baseline: Repo:dpdk Branch: master CommitID:2a5c6c4709c9a23feb92ed1325945cb459884b4f 153363-153369 --> testing pass Upstream job id: Generic-VM-DPDK-Compile-Meson#35288 Test environment and result as below: +---------------------+--------------------+-------------------+ | Environment | dpdk_meson_compile | dpdk_msvc_compile | +=====================+====================+===================+ | Ubuntu 20.04 | PASS | SKIPPED | +---------------------+--------------------+-------------------+ | FreeBSD 13.5 | PASS | SKIPPED | +---------------------+--------------------+-------------------+ | FreeBSD 14.2 | PASS | SKIPPED | +---------------------+--------------------+-------------------+ | Windows Server 2022 | SKIPPED | PASS | +---------------------+--------------------+-------------------+ Ubuntu 20.04 Kernel: 4.19.325-0419325-generic Compiler: gcc (Ubuntu 9.4.0-1ubuntu1~20.04.2) 9.4.0 FreeBSD 13.5 Kernel: 13.5-RELEASE Compiler: clang 19.1.7 FreeBSD 14.2 Kernel: 14.2-RELEASE Compiler: clang 18.1.6 Windows Server 2022 Kernel: 10.0.20348.2031 Compiler: clang 15.0.7, gcc 14.1.0 (MinGW), and MSVC VS 19.39.33521 To view detailed results, visit: https://lab.dpdk.org/results/dashboard/patchsets/33145/ UNH-IOL DPDK Community Lab To manage your email subscriptions, visit: https://lab.dpdk.org/results/dashboard/preferences/subscriptions/