From mboxrd@z Thu Jan 1 00:00:00 1970 Return-Path: Received: from mails.dpdk.org (mails.dpdk.org [217.70.189.124]) by inbox.dpdk.org (Postfix) with ESMTP id 8DF72466FC for ; Fri, 9 May 2025 08:24:20 +0200 (CEST) Received: from mails.dpdk.org (localhost [127.0.0.1]) by mails.dpdk.org (Postfix) with ESMTP id 6C8244026C; Fri, 9 May 2025 08:24:20 +0200 (CEST) Received: from mail-oa1-f100.google.com (mail-oa1-f100.google.com [209.85.160.100]) by mails.dpdk.org (Postfix) with ESMTP id DD4584026B for ; Fri, 9 May 2025 08:24:18 +0200 (CEST) Received: by mail-oa1-f100.google.com with SMTP id 586e51a60fabf-2db9e29d3bcso348439fac.1 for ; Thu, 08 May 2025 23:24:18 -0700 (PDT) DKIM-Signature: v=1; a=rsa-sha256; c=relaxed/relaxed; d=iol.unh.edu; s=unh-iol; t=1746771858; x=1747376658; darn=dpdk.org; h=references:in-reply-to:cc:to:from:subject:message-id:date:from:to :cc:subject:date:message-id:reply-to; bh=RgxgL4UtFButfMKk0EGTR8+vpq7MpDsFhFm2y/75ZSc=; b=EGvpPac/hNHb0mOyq7ByrFzBlFT/Os9QLatgfgYEK/kZ2GCCp1kr5+x+NpUWjJ2xkW Ir2pxi6O2b2chanmqEIKgYNAGZww1SCxq4Yr+a15H/O1Me0NOn102fb6fn/GJ/cNzzQA PV2yB/yO+SJT6pudE/aYeIdjY6Hf4kruNwZCU= X-Google-DKIM-Signature: v=1; a=rsa-sha256; c=relaxed/relaxed; d=1e100.net; s=20230601; t=1746771858; x=1747376658; h=references:in-reply-to:cc:to:from:subject:message-id:date :x-gm-message-state:from:to:cc:subject:date:message-id:reply-to; bh=RgxgL4UtFButfMKk0EGTR8+vpq7MpDsFhFm2y/75ZSc=; b=V1fxomIOLlNcoz2Ijr11vbCfpbo0BOOSgf9w/ajySDgA+asD/uK8xjmEs1DmIYpM9T HxvUC6Q+vam7l4lsMw18y2xki2cwNJZvN9z0P6r8dpF7QibNQS1IWK5bCFd1InszTWAq Wi3IvDoFOCJP7zMwdQJ03VYPwsVfZdhZKRft59nQvkhj4laTBJ6RP01nRDfb799SAVkz fqW2EyMXupKRTqd6lxM3dw55+o4NKd8mHTETYI+XmMp7iM3Dt6l/GziYS2teE7IiOwdE 2AVIa3aKhJYLJnd6iviXrE8iQcnzy4bRX3sufkcyGRssKxBj8XDJbq2iuu5RubiPKWJ6 DbjA== X-Gm-Message-State: AOJu0YwnEeVerq009CE507uTM5PdxWF/4x267NdTLg7bNnKU3y2S2qWd wydpdWQ2Kp6oU0rGyjMldqWe4yCGNYpAzpaVBSx3P0gNn/JovIElNwhYxDAMysAwpXShCuiTBHr K1qRqA0EnV3VvvEko3feWjWHYwD+MJD1L6DGSPN8xspKJSXIgKDkI9zSF X-Gm-Gg: ASbGncvXuykTfbaNxBcHuAXQcU3x1NpLYhuwoQa99Dtu5QP1jlowlF2tfCbHupmPlba h5FFV3s+O5pQq7J2Wb8SWAg0EWWQ2QKP3PAO6MxhL1Spx64hQHhYB5RA3WqmlDPrRfyMSqWqARu Tehb0ugdQ9CtMtJWlwxtwPhyIY7Virk7zy3n6vnRvRqKlLi2CwZH2X08HLMrNRESc1HhK30D2RF BEVLG4AMF2gqBQ7jpYz0sT7IB0vi0g25m6up22eeMQqFP+3QTlDnAslNo4kprP2BNrHRqS5q/N2 /PsOe6N3/PHzc//NSnlPyoewPrZHZ0mO1Dpv X-Google-Smtp-Source: AGHT+IGgewUF/+1bwJLtAVKwUdJH5vF4GXuNFFRbGejgh+5Typa1d2VLlCufOz19Zd/L/2UsZikAyo07jiGS X-Received: by 2002:a05:6870:71c8:b0:2c7:7317:c847 with SMTP id 586e51a60fabf-2dba4543cd1mr1448112fac.33.1746771857740; Thu, 08 May 2025 23:24:17 -0700 (PDT) Received: from postal.iol.unh.edu (postal.iol.unh.edu. [2606:4100:3880:1234::84]) by smtp-relay.gmail.com with ESMTPS id 586e51a60fabf-2dba0789324sm60441fac.17.2025.05.08.23.24.17 (version=TLS1_2 cipher=ECDHE-ECDSA-AES128-GCM-SHA256 bits=128/128); Thu, 08 May 2025 23:24:17 -0700 (PDT) X-Relaying-Domain: iol.unh.edu Date: Thu, 08 May 2025 23:24:17 -0700 (PDT) Message-ID: <681d9f91.050a0220.27873.333fSMTPIN_ADDED_MISSING@mx.google.com> Received: from [172.21.0.5] (unknown [172.18.0.240]) by postal.iol.unh.edu (Postfix) with ESMTP id 3BAD86052471; Fri, 9 May 2025 02:24:17 -0400 (EDT) Subject: |SUCCESS| pw153363-153369 [PATCH] [v1,7/7] event/dlb2: fix default c From: dpdklab@iol.unh.edu To: Test Report Cc: dpdk-test-reports@iol.unh.edu In-Reply-To: <20250509042401.2634765-8-pravin.pathak@intel.com> References: <20250509042401.2634765-8-pravin.pathak@intel.com> Content-Type: text/plain X-BeenThere: test-report@dpdk.org X-Mailman-Version: 2.1.29 Precedence: list List-Id: automatic DPDK test reports List-Unsubscribe: , List-Archive: List-Post: List-Help: List-Subscribe: , Errors-To: test-report-bounces@dpdk.org Test-Label: iol-compile-amd64-testing Test-Status: SUCCESS http://dpdk.org/patch/153369 _Testing PASS_ Submitter: Pravin Pathak Date: Friday, May 09 2025 04:24:01 DPDK git baseline: Repo:dpdk Branch: master CommitID:2a5c6c4709c9a23feb92ed1325945cb459884b4f 153363-153369 --> testing pass Upstream job id: Windows-Compile-DPDK-Native#28310 Test environment and result as below: +---------------------+--------------------+-------------------+-------------------------+ | Environment | dpdk_meson_compile | dpdk_msvc_compile | dpdk_llvm_clang_compile | +=====================+====================+===================+=========================+ | Ubuntu 20.04 | PASS | SKIPPED | SKIPPED | +---------------------+--------------------+-------------------+-------------------------+ | FreeBSD 13.5 | PASS | SKIPPED | SKIPPED | +---------------------+--------------------+-------------------+-------------------------+ | FreeBSD 14.2 | PASS | SKIPPED | SKIPPED | +---------------------+--------------------+-------------------+-------------------------+ | Windows Server 2022 | SKIPPED | PASS | PASS | +---------------------+--------------------+-------------------+-------------------------+ Ubuntu 20.04 Kernel: 4.19.325-0419325-generic Compiler: gcc (Ubuntu 9.4.0-1ubuntu1~20.04.2) 9.4.0 FreeBSD 13.5 Kernel: 13.5-RELEASE Compiler: clang 19.1.7 FreeBSD 14.2 Kernel: 14.2-RELEASE Compiler: clang 18.1.6 Windows Server 2022 Kernel: 10.0.20348.2031 Compiler: clang 15.0.7, gcc 14.1.0 (MinGW), and MSVC VS 19.39.33521 To view detailed results, visit: https://lab.dpdk.org/results/dashboard/patchsets/33145/ UNH-IOL DPDK Community Lab To manage your email subscriptions, visit: https://lab.dpdk.org/results/dashboard/preferences/subscriptions/