From mboxrd@z Thu Jan 1 00:00:00 1970 Return-Path: Received: from mails.dpdk.org (mails.dpdk.org [217.70.189.124]) by inbox.dpdk.org (Postfix) with ESMTP id 02345466FC for ; Fri, 9 May 2025 08:28:41 +0200 (CEST) Received: from mails.dpdk.org (localhost [127.0.0.1]) by mails.dpdk.org (Postfix) with ESMTP id D62484026C; Fri, 9 May 2025 08:28:41 +0200 (CEST) Received: from mail-yb1-f225.google.com (mail-yb1-f225.google.com [209.85.219.225]) by mails.dpdk.org (Postfix) with ESMTP id 275BE4026B for ; Fri, 9 May 2025 08:28:40 +0200 (CEST) Received: by mail-yb1-f225.google.com with SMTP id 3f1490d57ef6-e78e3200bb2so1810056276.3 for ; Thu, 08 May 2025 23:28:40 -0700 (PDT) DKIM-Signature: v=1; a=rsa-sha256; c=relaxed/relaxed; d=iol.unh.edu; s=unh-iol; t=1746772119; x=1747376919; darn=dpdk.org; h=references:in-reply-to:cc:to:from:subject:message-id:date:from:to :cc:subject:date:message-id:reply-to; bh=HDyRSCyjJz7H9GjN+LnOJfD5ylmRxPBCtJmJzYTxsZg=; b=f6HNwpdJE4wDaUWFn2jD9rmTvx5iXGHhcGEfv4K5JnmE5/CLXJIpUOnjQ9WYjjTGus O7r2rB8p1OUrW1fqpYxQ+pWe0KMoFxOananIKLLPdbnBSEH7Pk6v7sxc9iNZDhEMhOtK 7ybBsv8jFNRNb6NIZcHGECUFqM85udE5qz3YA= X-Google-DKIM-Signature: v=1; a=rsa-sha256; c=relaxed/relaxed; d=1e100.net; s=20230601; t=1746772119; x=1747376919; h=references:in-reply-to:cc:to:from:subject:message-id:date :x-gm-message-state:from:to:cc:subject:date:message-id:reply-to; bh=HDyRSCyjJz7H9GjN+LnOJfD5ylmRxPBCtJmJzYTxsZg=; b=jXgj4l4uy3ToiFvIH9Og1QSTff4Qt/PxJmS1iup8q6BBU93WN/eNEsh/5hCi3BU/mo d4JiVTsTVywVHm/luWpGlyw57ockZXMWN+v0ptJCkWsBbCdzh1+kE8hK2hCyp6T61bAU Ckt9ycYEaIfEGJ/wwxS+1lJwwpLhFw332d0KcuCaZcS7ZIkBD7CoAe4qbP3P0AWzIRf7 3vCFdqtWqE93fFy8+hAZBkhtARSiVLI7kpHC070fG74jc1rYqUGrv0fkL5Ti9q36AORl sPHicZvCxdvTQMDEcEN4ePixKgxUTqCRn8Gou7XdnjBoSWFZCv1/6/u29x+lB7oKB0XR AuHw== X-Gm-Message-State: AOJu0Ywesff2ET+A19gHn8SHAYp55pZsaFAPQnLJjXXfxH5Kj1afmXSA /hSnYOGdAN3D2BOz4IkJ0njsDk9pIPeqV+uzoaslAOtqu7nA4F6Ikn0aGyjTxZkdJ9WQ/9dEJx2 uDvUtTBEolytWT/wc4JtPkJrsR9UydOsGyXjTTvNTxuJdoM+sIg2suz/W X-Gm-Gg: ASbGncurTGVtG1KhBb/iAXDqI+tdlsPXWtJfJ7QWXpmicIe9bfGuviw0tcMriK61kxH FJzG8zY5I+AnxNpMMUFlFCa4gDoYgN4FQlLCM5YWtd4FIMbOIsVGJw2baSAkwIqMA3LlvvjnIvJ h1huJoWMDG7YNNSN9pLKRaNq0UB4Bxm1L1O8/q81THN9+roa3ZkA1PUUYZ6pW7y4quIRBe2uSA/ L5kkHobRLHzIrZ4k3Jb2czYMC8rEMyt69ygiom1in9Am105chuy0P7GnQUUBP9qVXk/k9ka2Y2p biuZaJAJOnj5duOfNa/9DOS0c+Unsb95VnnD X-Google-Smtp-Source: AGHT+IHeinkhnCXYTN/60B8BnMt2BOKmJxtoMitdnz2hNxIwHfXKELP+PpnqS4DZ9IjI9oPagE5yE8s2vYXK X-Received: by 2002:a05:6902:478f:b0:e72:eed4:ff91 with SMTP id 3f1490d57ef6-e78fdc71ad1mr2776548276.24.1746772119318; Thu, 08 May 2025 23:28:39 -0700 (PDT) Received: from postal.iol.unh.edu (postal.iol.unh.edu. [2606:4100:3880:1234::84]) by smtp-relay.gmail.com with ESMTPS id 3f1490d57ef6-e78fd6887dfsm68248276.30.2025.05.08.23.28.39 (version=TLS1_2 cipher=ECDHE-ECDSA-AES128-GCM-SHA256 bits=128/128); Thu, 08 May 2025 23:28:39 -0700 (PDT) X-Relaying-Domain: iol.unh.edu Date: Thu, 08 May 2025 23:28:39 -0700 (PDT) Message-ID: <681da097.250a0220.3bf7b8.3d2fSMTPIN_ADDED_MISSING@mx.google.com> Received: from [172.21.0.6] (unknown [172.18.0.240]) by postal.iol.unh.edu (Postfix) with ESMTP id E4F6B6052471; Fri, 9 May 2025 02:28:38 -0400 (EDT) Subject: |SUCCESS| pw153363-153369 [PATCH] [v1,7/7] event/dlb2: fix default c From: dpdklab@iol.unh.edu To: Test Report Cc: dpdk-test-reports@iol.unh.edu In-Reply-To: <20250509042401.2634765-8-pravin.pathak@intel.com> References: <20250509042401.2634765-8-pravin.pathak@intel.com> Content-Type: text/plain X-BeenThere: test-report@dpdk.org X-Mailman-Version: 2.1.29 Precedence: list List-Id: automatic DPDK test reports List-Unsubscribe: , List-Archive: List-Post: List-Help: List-Subscribe: , Errors-To: test-report-bounces@dpdk.org Test-Label: iol-compile-amd64-testing Test-Status: SUCCESS http://dpdk.org/patch/153369 _Testing PASS_ Submitter: Pravin Pathak Date: Friday, May 09 2025 04:24:01 DPDK git baseline: Repo:dpdk Branch: master CommitID:2a5c6c4709c9a23feb92ed1325945cb459884b4f 153363-153369 --> testing pass Upstream job id: Windows-Compile-DPDK-Native#28311 Test environment and result as below: +---------------------+--------------------+-------------------+-------------------------+----------------------+ | Environment | dpdk_meson_compile | dpdk_msvc_compile | dpdk_llvm_clang_compile | dpdk_mingw64_compile | +=====================+====================+===================+=========================+======================+ | Ubuntu 20.04 | PASS | SKIPPED | SKIPPED | SKIPPED | +---------------------+--------------------+-------------------+-------------------------+----------------------+ | FreeBSD 13.5 | PASS | SKIPPED | SKIPPED | SKIPPED | +---------------------+--------------------+-------------------+-------------------------+----------------------+ | FreeBSD 14.2 | PASS | SKIPPED | SKIPPED | SKIPPED | +---------------------+--------------------+-------------------+-------------------------+----------------------+ | Windows Server 2022 | SKIPPED | PASS | PASS | PASS | +---------------------+--------------------+-------------------+-------------------------+----------------------+ Ubuntu 20.04 Kernel: 4.19.325-0419325-generic Compiler: gcc (Ubuntu 9.4.0-1ubuntu1~20.04.2) 9.4.0 FreeBSD 13.5 Kernel: 13.5-RELEASE Compiler: clang 19.1.7 FreeBSD 14.2 Kernel: 14.2-RELEASE Compiler: clang 18.1.6 Windows Server 2022 Kernel: 10.0.20348.2031 Compiler: clang 15.0.7, gcc 14.1.0 (MinGW), and MSVC VS 19.39.33521 To view detailed results, visit: https://lab.dpdk.org/results/dashboard/patchsets/33145/ UNH-IOL DPDK Community Lab To manage your email subscriptions, visit: https://lab.dpdk.org/results/dashboard/preferences/subscriptions/