From mboxrd@z Thu Jan 1 00:00:00 1970 Return-Path: Received: from mails.dpdk.org (mails.dpdk.org [217.70.189.124]) by inbox.dpdk.org (Postfix) with ESMTP id 4BDA3466FC for ; Fri, 9 May 2025 08:42:23 +0200 (CEST) Received: from mails.dpdk.org (localhost [127.0.0.1]) by mails.dpdk.org (Postfix) with ESMTP id 2A2104026C; Fri, 9 May 2025 08:42:23 +0200 (CEST) Received: from mail-pg1-f226.google.com (mail-pg1-f226.google.com [209.85.215.226]) by mails.dpdk.org (Postfix) with ESMTP id A4A694026B for ; Fri, 9 May 2025 08:42:21 +0200 (CEST) Received: by mail-pg1-f226.google.com with SMTP id 41be03b00d2f7-b1fd59851baso1177881a12.0 for ; Thu, 08 May 2025 23:42:21 -0700 (PDT) DKIM-Signature: v=1; a=rsa-sha256; c=relaxed/relaxed; d=iol.unh.edu; s=unh-iol; t=1746772940; x=1747377740; darn=dpdk.org; h=cc:to:from:subject:message-id:date:from:to:cc:subject:date :message-id:reply-to; bh=FrebkhTibO4hOgMZ/I4xWhr3HGySd+ymphmJ1D5ilQY=; b=gwbpRFkOlG2Jtb+NyRmZB/47cwqQjuiBiJ/+Z4ZhX1oY5r2ML2+DYj300PjFLo6O9K g3sL33I2/TlZPAHu9A6maYTORB2vz+R+P3ajjcijHb8pOxcfdhhSZj0DtXaBP9a4zPT2 N5ijfeDfEmnWQGVSICsBRYzewUKok/mH0RUYU= X-Google-DKIM-Signature: v=1; a=rsa-sha256; c=relaxed/relaxed; d=1e100.net; s=20230601; t=1746772940; x=1747377740; h=cc:to:from:subject:message-id:date:x-gm-message-state:from:to:cc :subject:date:message-id:reply-to; bh=FrebkhTibO4hOgMZ/I4xWhr3HGySd+ymphmJ1D5ilQY=; b=vnT+yVv+JUVyR0g4GS5SV8y7d5ZOrHwY+ft96R0w5Q924F863Qpu1LfxIPzD1yQSaJ 54vdpg/sskDdPozyvJhgaKY3IDT9cZjlqenguf/1j/0f7tIi7NxVP+iCs/dTxzESH02q LTE4kWMbvqEXE24LvsAmbPKVQsHRaNY8g6OAWiIW4dSVKAt7PgpIy3mfzUBflrrnIR+i FWkXyBMhW4Hz6oFlW58oyEsymsYds5kGXZQgwkgJzaWHtIvXHUj8ezvSD1/gGOExkufW oEIfRs54GU56uejceU4gjI53rLSB5Y0Mp32Q/6Uo08CFPDgPyOKdLICwpfFZ2jmPhvvX 20UQ== X-Gm-Message-State: AOJu0Yz755kF04tpcQSPW1Gaj/n/M47pCS+i3x6RrsY+mXmMn1CAnmOP x4ZtBz/S4vDKWsMlQBOXPqMHn4dXY9jjC+6OSVYHJvHMGCRizlyrSlmu7q8FSxL2VUWIGAYH6a2 E5OXCME0ENUX2pHoAo5AQdilHVQL3ZQ5l5qRw/ogULxXqKNPG X-Gm-Gg: ASbGncvD1+vJdyUu3xVktEjEiK+HGF0HRVOVatsf7ydYsew6H325jbQhrKVtumNqBdm pLGZkyajPPEMqMZvlimF/NWOlBMaB5gptJ+pWGZjrXgg6ItyaBgasi2P2smrMwKj2XgHTGa9G/u dA10RTSO+FtiwwYPeTIFCMWYz5UsTLJJCgMnbDUfx8FVGqrxPZAPxtVgp6l21ckxQWbGaFmABBZ 0IjHQTG2NNntlr0128QDhcoO4I7ScTbPINsKbnxhsxxFaLRd9Cq7aMyaB2VjJpBRwGqiZLdMpjE zKZUd2QgE+aRwFH2+w5zUThk5rIKfmyxqwsb X-Google-Smtp-Source: AGHT+IGUrTsaedgln/M/BFzBDsaDNu9y5yZ1/e6RtMigdZN0MPhCQ/P6O64zL7YVEapQFIw1s13tJHoEXp8U X-Received: by 2002:a17:90b:35d0:b0:2ff:7ad4:77b1 with SMTP id 98e67ed59e1d1-30c3cb1a3bfmr3846620a91.2.1746772940427; Thu, 08 May 2025 23:42:20 -0700 (PDT) Received: from postal.iol.unh.edu (postal.iol.unh.edu. [2606:4100:3880:1234::84]) by smtp-relay.gmail.com with ESMTPS id 98e67ed59e1d1-30c39e43bb6sm94836a91.11.2025.05.08.23.42.20 (version=TLS1_2 cipher=ECDHE-ECDSA-AES128-GCM-SHA256 bits=128/128); Thu, 08 May 2025 23:42:20 -0700 (PDT) X-Relaying-Domain: iol.unh.edu Date: Thu, 08 May 2025 23:42:20 -0700 (PDT) Message-ID: <681da3cc.170a0220.1750f1.5258SMTPIN_ADDED_MISSING@mx.google.com> Received: from [172.21.0.5] (unknown [172.18.0.240]) by postal.iol.unh.edu (Postfix) with ESMTP id 930C86052471; Fri, 9 May 2025 02:42:19 -0400 (EDT) Subject: |SUCCESS| [GIT MASTER] 83a7a648344674c0269fcaeb71d8d16468421a0e From: dpdklab@iol.unh.edu To: Test Report Cc: dpdk-test-reports@iol.unh.edu, Xueming Li , Christian Ehrhardt , Kevin Traynor , Luca Boccassi Content-Type: text/plain X-BeenThere: test-report@dpdk.org X-Mailman-Version: 2.1.29 Precedence: list List-Id: automatic DPDK test reports List-Unsubscribe: , List-Archive: List-Post: List-Help: List-Subscribe: , Errors-To: test-report-bounces@dpdk.org _Testing PASS_ Branch: tags/v23.11 83a7a648344674c0269fcaeb71d8d16468421a0e --> testing pass Upstream job id: Generic-Unit-Test-DPDK#336649 Test environment and result as below: +---------------------+----------------+ | Environment | dpdk_unit_test | +=====================+================+ | Fedora 41 (Clang) | PASS | +---------------------+----------------+ | CentOS Stream 9 | PASS | +---------------------+----------------+ | CentOS Stream 10 | PASS | +---------------------+----------------+ | Fedora 40 | PASS | +---------------------+----------------+ | Debian 12 | PASS | +---------------------+----------------+ | Fedora 40 (Clang) | PASS | +---------------------+----------------+ | RHEL8 | PASS | +---------------------+----------------+ | Fedora 41 | PASS | +---------------------+----------------+ | Ubuntu 20.04 | PASS | +---------------------+----------------+ | RHEL9 | PASS | +---------------------+----------------+ | Ubuntu 24.04 | PASS | +---------------------+----------------+ | Ubuntu 22.04 | PASS | +---------------------+----------------+ | Windows Server 2022 | PASS | +---------------------+----------------+ Fedora 41 (Clang) Kernel: Depends on container host Compiler: clang 19.1.5 (Fedora 19.1.5-1.fc41) CentOS Stream 9 Kernel: Depends on container host Compiler: gcc 11.5.0 20240719 (Red Hat 11.5.0-2) CentOS Stream 10 Kernel: Depends on container host Compiler: gcc 14.2.1 20241104 (Red Hat 14.2.1-6) Fedora 40 Kernel: Depends on container host Compiler: gcc 14.2.1 20240912 (Red Hat 14.2.1-3) Debian 12 Kernel: Depends on container host Compiler: gcc (Debian 12.2.0-14) 12.2.0 Fedora 40 (Clang) Kernel: Depends on container host Compiler: clang 18.1.8 (Fedora 18.1.8-1.fc40) RHEL8 Kernel: Depends on container host Compiler: gcc 8.5.0 20210514 (Red Hat 8.5.0-22) Fedora 41 Kernel: Depends on container host Compiler: gcc 14.2.1 20240912 (Red Hat 14.2.1-3) Ubuntu 20.04 Kernel: Depends on container host Compiler: gcc (Ubuntu 9.4.0-1ubuntu1~20.04.2) 9.4.0 RHEL9 Kernel: Depends on container host Compiler: gcc 11.5.0 20240719 (Red Hat 11.5.0-2) Ubuntu 24.04 Kernel: Depends on container host Compiler: gcc (Ubuntu 13.3.0-6ubuntu2~24.04) 13.3.0 Ubuntu 22.04 Kernel: Depends on container host Compiler: gcc (Ubuntu 11.4.0-1ubuntu1~22.04) 11.4.0 Windows Server 2022 Kernel: 10.0.20348.2031 Compiler: clang 15.0.7, gcc 14.1.0 (MinGW), and MSVC VS 19.39.33521 To view detailed results, visit: https://lab.dpdk.org/results/dashboard/tarballs/33483/ UNH-IOL DPDK Community Lab To manage your email subscriptions, visit: https://lab.dpdk.org/results/dashboard/preferences/subscriptions/