From mboxrd@z Thu Jan 1 00:00:00 1970 Return-Path: Received: from mails.dpdk.org (mails.dpdk.org [217.70.189.124]) by inbox.dpdk.org (Postfix) with ESMTP id 5C655466FC for ; Fri, 9 May 2025 08:54:32 +0200 (CEST) Received: from mails.dpdk.org (localhost [127.0.0.1]) by mails.dpdk.org (Postfix) with ESMTP id 391E64026C; Fri, 9 May 2025 08:54:32 +0200 (CEST) Received: from mail-pj1-f97.google.com (mail-pj1-f97.google.com [209.85.216.97]) by mails.dpdk.org (Postfix) with ESMTP id 490184026B for ; Fri, 9 May 2025 08:54:30 +0200 (CEST) Received: by mail-pj1-f97.google.com with SMTP id 98e67ed59e1d1-30820167b47so1606160a91.0 for ; Thu, 08 May 2025 23:54:30 -0700 (PDT) DKIM-Signature: v=1; a=rsa-sha256; c=relaxed/relaxed; d=iol.unh.edu; s=unh-iol; t=1746773669; x=1747378469; darn=dpdk.org; h=cc:to:from:subject:message-id:date:from:to:cc:subject:date :message-id:reply-to; bh=KchPVUebTUCm1k6lbvvhrrF+Jms5LbNd4+vOnC5hL6A=; b=ZCY3yk09I+/jq7LvQjL0zBdNX2/k4vY046jZhNBndfenNupkZB1Ew8Y44xVs2RlOJJ oIcCiQlLKNJyf1Zo+gDmWLOzBI+52DZFKZeH7LYp0GLZTaAuJ1gBePJgln9TBQDC3D2F J2wLY+2ycgaaIjKwJ3YakbXs2fJoixd53ogwc= X-Google-DKIM-Signature: v=1; a=rsa-sha256; c=relaxed/relaxed; d=1e100.net; s=20230601; t=1746773669; x=1747378469; h=cc:to:from:subject:message-id:date:x-gm-message-state:from:to:cc :subject:date:message-id:reply-to; bh=KchPVUebTUCm1k6lbvvhrrF+Jms5LbNd4+vOnC5hL6A=; b=ahKmDBn/nxUsBHfkdYOLMxNPmLrmAcbmdP9Hv3mZDMyYxcUlw6kONYSNAhLZZ3X4Zq RYyUXeVXsLqoWqKs7W43jMGhGtKtyx0t31XJJpfwNmK9E0SkdDKyMKnJFedJ87UeFJ1i H4pI/zKRlqSbT1kijpM2eWKYOVKy6+nhhI1riCXm489zQpxK5lhjS17e+eBujMsE8IPt a8NPAa+giIxQImdub934WZF4y7VxSMrYH13lNTS522twXGkC8yCSRwaFIdulo7VvMJJT gyBIv0tNIwKzSxoSVAt5qOq8+llEBGzIfVNVPoaJIzYhLWGU5anbziEspqUEXdHYxDay xBOA== X-Gm-Message-State: AOJu0YxEAqjCZNQOcKIIy6Plpg8ykGJVNhJPxiRb2n3IOAv5ZeBU8mrM K2SLKrSaHou9xx5p9TnVzUN8j916jQmy4mYwWyMtKXFFsl0CORlOBiE7TxMypN3H0/JkhUtEeDa 5Y+3i98ZTJq+A5L3rcIJdGuS38xU+n6jRD7K83iHooXpvDWQG X-Gm-Gg: ASbGncv7o4A6rKNIyxt8r33QrNSe8DqUIZSLdfU0SgkFLZHjmYErMi2U7DKmYPMjqto PlO5V9bNoAdwTHdTeQvfAAiqIOOFYridAOVyEXwbdG1m1Ar6NxAxU5q7k2pI5Lrb+uX5E8X4Bmg IijXYvOQafM+t7keRt65BXOlY3iHzf9qEpXL5STEVOtS7/pZ55cKyPs4wPMGbin5XQCw+PIsiwl QA1SSZFX8zVTMbiqMPGplCudyJDwV9P9J2/TPdjtlGg3wbKlOgIE7aHiX7IOjIRTU0XHTH3sugP npmFMXBPxqceQlJTQxhPZ9za/S4iQh0vEGCP X-Google-Smtp-Source: AGHT+IGf7xrgmvCW15XeSWoDGBOMAGc5zNiL7iq7ggpzzP7VWVMVoLgpqsK802yxZmpA7/YWL6lr+GnWOmWa X-Received: by 2002:a17:90b:3508:b0:30a:204e:fe47 with SMTP id 98e67ed59e1d1-30c4011f790mr3297287a91.16.1746773669407; Thu, 08 May 2025 23:54:29 -0700 (PDT) Received: from postal.iol.unh.edu (postal.iol.unh.edu. [2606:4100:3880:1234::84]) by smtp-relay.gmail.com with ESMTPS id 98e67ed59e1d1-30c39d9049csm89838a91.2.2025.05.08.23.54.29 (version=TLS1_2 cipher=ECDHE-ECDSA-AES128-GCM-SHA256 bits=128/128); Thu, 08 May 2025 23:54:29 -0700 (PDT) X-Relaying-Domain: iol.unh.edu Date: Thu, 08 May 2025 23:54:29 -0700 (PDT) Message-ID: <681da6a5.170a0220.16b6db.4fa7SMTPIN_ADDED_MISSING@mx.google.com> Received: from [172.21.0.6] (unknown [172.18.0.240]) by postal.iol.unh.edu (Postfix) with ESMTP id 9A1EA6052471; Fri, 9 May 2025 02:54:28 -0400 (EDT) Subject: |SUCCESS| [GIT MASTER] 4c5634de9f933555bab9c64a533d3dca999071cd From: dpdklab@iol.unh.edu To: Test Report Cc: dpdk-test-reports@iol.unh.edu, Xueming Li , Christian Ehrhardt , Kevin Traynor , Luca Boccassi Content-Type: text/plain X-BeenThere: test-report@dpdk.org X-Mailman-Version: 2.1.29 Precedence: list List-Id: automatic DPDK test reports List-Unsubscribe: , List-Archive: List-Post: List-Help: List-Subscribe: , Errors-To: test-report-bounces@dpdk.org _Testing PASS_ Branch: tags/v24.11 4c5634de9f933555bab9c64a533d3dca999071cd --> testing pass Upstream job id: Generic-Unit-Test-DPDK#336653 Test environment and result as below: +-----------------------------+---------------------------+----------------+------------------------------+--------------+ | Environment | cryptodev_sw_zuc_autotest | dpdk_unit_test | cryptodev_sw_snow3g_autotest | lpm_autotest | +=============================+===========================+================+==============================+==============+ | Debian 12 (arm) | PASS | PASS | PASS | SKIPPED | +-----------------------------+---------------------------+----------------+------------------------------+--------------+ | CentOS Stream 9 (ARM) | SKIPPED | PASS | SKIPPED | SKIPPED | +-----------------------------+---------------------------+----------------+------------------------------+--------------+ | CentOS Stream 10 (ARM) | SKIPPED | PASS | SKIPPED | SKIPPED | +-----------------------------+---------------------------+----------------+------------------------------+--------------+ | Fedora 40 (ARM Clang) | SKIPPED | PASS | SKIPPED | SKIPPED | +-----------------------------+---------------------------+----------------+------------------------------+--------------+ | Fedora 40 (ARM) | SKIPPED | PASS | SKIPPED | SKIPPED | +-----------------------------+---------------------------+----------------+------------------------------+--------------+ | Fedora 41 (ARM Clang) | SKIPPED | PASS | SKIPPED | SKIPPED | +-----------------------------+---------------------------+----------------+------------------------------+--------------+ | Fedora 41 (ARM) | SKIPPED | PASS | SKIPPED | SKIPPED | +-----------------------------+---------------------------+----------------+------------------------------+--------------+ | RHEL9 (ARM) | SKIPPED | PASS | SKIPPED | SKIPPED | +-----------------------------+---------------------------+----------------+------------------------------+--------------+ | Ubuntu 20.04 (ARM) | SKIPPED | PASS | SKIPPED | SKIPPED | +-----------------------------+---------------------------+----------------+------------------------------+--------------+ | Ubuntu 24.04 (ARM) | SKIPPED | PASS | SKIPPED | SKIPPED | +-----------------------------+---------------------------+----------------+------------------------------+--------------+ | Ubuntu 22.04 (ARM) | SKIPPED | PASS | SKIPPED | SKIPPED | +-----------------------------+---------------------------+----------------+------------------------------+--------------+ | 32-bit Ubuntu 22.04.4 (ARM) | SKIPPED | PASS | SKIPPED | SKIPPED | +-----------------------------+---------------------------+----------------+------------------------------+--------------+ | Ubuntu 20.04 ARM SVE | SKIPPED | SKIPPED | SKIPPED | PASS | +-----------------------------+---------------------------+----------------+------------------------------+--------------+ Debian 12 (arm) Kernel: Depends on container host Compiler: gcc (Debian 12.2.0-14) 12.2.0 CentOS Stream 9 (ARM) Kernel: Depends on container host Compiler: gcc 11.5.0 20240719 (Red Hat 11.5.0-2) CentOS Stream 10 (ARM) Kernel: Depends on container host Compiler: gcc 14.2.1 20241104 (Red Hat 14.2.1-6) Fedora 40 (ARM Clang) Kernel: Depends on container host Compiler: clang 18.1.8 (Fedora 18.1.8-1.fc40) Fedora 40 (ARM) Kernel: Depends on container host Compiler: gcc 14.2.1 20240912 (Red Hat 14.2.1-3) Fedora 41 (ARM Clang) Kernel: Depends on container host Compiler: clang 19.1.5 (Fedora 19.1.5-1.fc41) Fedora 41 (ARM) Kernel: Depends on container host Compiler: gcc 14.2.1 20240912 (Red Hat 14.2.1-3) RHEL9 (ARM) Kernel: Depends on container host Compiler: gcc 11.5.0 20240719 (Red Hat 11.5.0-2) Ubuntu 20.04 (ARM) Kernel: Depends on container host Compiler: gcc (Ubuntu 9.4.0-1ubuntu1~20.04.2) 9.4.0 Ubuntu 24.04 (ARM) Kernel: Depends on container host Compiler: gcc (Ubuntu 13.3.0-6ubuntu2~24.04) 13.3.0 Ubuntu 22.04 (ARM) Kernel: Depends on container host Compiler: gcc (Ubuntu 11.4.0-1ubuntu1~22.04) 11.4.0 32-bit Ubuntu 22.04.4 (ARM) Kernel: 5.15.83+ aarch64 Compiler: gcc (Ubuntu 11.4.0-1ubuntu1~22.04) 11.4.0 Ubuntu 20.04 ARM SVE Kernel: Depends on container host Compiler: gcc (Ubuntu 10.5.0-1ubuntu1~20.04) 10.5.0 To view detailed results, visit: https://lab.dpdk.org/results/dashboard/tarballs/33482/ UNH-IOL DPDK Community Lab To manage your email subscriptions, visit: https://lab.dpdk.org/results/dashboard/preferences/subscriptions/