From mboxrd@z Thu Jan 1 00:00:00 1970 Return-Path: Received: from mails.dpdk.org (mails.dpdk.org [217.70.189.124]) by inbox.dpdk.org (Postfix) with ESMTP id 6A1EC466FC for ; Fri, 9 May 2025 08:55:56 +0200 (CEST) Received: from mails.dpdk.org (localhost [127.0.0.1]) by mails.dpdk.org (Postfix) with ESMTP id 63CF74026C; Fri, 9 May 2025 08:55:56 +0200 (CEST) Received: from mail-il1-f225.google.com (mail-il1-f225.google.com [209.85.166.225]) by mails.dpdk.org (Postfix) with ESMTP id 6D1F14026B for ; Fri, 9 May 2025 08:55:54 +0200 (CEST) Received: by mail-il1-f225.google.com with SMTP id e9e14a558f8ab-3da7bfdef33so10534455ab.1 for ; Thu, 08 May 2025 23:55:54 -0700 (PDT) DKIM-Signature: v=1; a=rsa-sha256; c=relaxed/relaxed; d=iol.unh.edu; s=unh-iol; t=1746773754; x=1747378554; darn=dpdk.org; h=cc:to:from:subject:message-id:date:from:to:cc:subject:date :message-id:reply-to; bh=kBfEQ9YXOksTjTM0ZtFC8eAfad9Z94PgWspdMSQiIVM=; b=YcDgEpeMnWNOCPac1lg99Sb3suypS3fbWx0t2YisdbQJhwusmhjvgEyaMdoT6f5cR8 1cL/gw8iTF4CavEz79/odZwKJW8CyLDrH5gy0TxDbzfsTXwrKkYJ3ov0V00EfIuVUkpY xf2fybjKsXj6ILPihN7l7G3VCmIYzdUEWcpEU= X-Google-DKIM-Signature: v=1; a=rsa-sha256; c=relaxed/relaxed; d=1e100.net; s=20230601; t=1746773754; x=1747378554; h=cc:to:from:subject:message-id:date:x-gm-message-state:from:to:cc :subject:date:message-id:reply-to; bh=kBfEQ9YXOksTjTM0ZtFC8eAfad9Z94PgWspdMSQiIVM=; b=NTXxE6dF1XSZz+Qafj4qmtF9aR6WVF5bDaVovZL2uSbbAwUq7SW7i/6q2hUzZ85ALG 2wOCAd/svXzX9s52RARknFWidptjDgmLKV9EYvM4Qo440H++a6pjoBMAoRSJ/OMcesH2 jZoimAuzM+/OYC29qeyV8hAWTM/Uu7O+Q7HHdyd/Dy0rw/o3HrW1YhuVRsLRTTC6W5Gx EAPn5hXgr6PBHfA30EPiE/rPrKIbD/WN7mXrmYRD314iU5/g/fuSNjx8FpQV1vXpWkUX orEPMOEZor1SVJOhz5JrdfdGMaREjl3BW0A4M9iiM/XcYGWX7VeXI9pfTzNTFO0HOWYm A0Nw== X-Gm-Message-State: AOJu0YyoI5GOSuxXGbwnCPkeXyhA4MuYsHg/ByU5WWxyawsF57mFBabs xB1zXGy/15M30QDXjMRWzQABNNhFDvSG+QGrqs8JMbPcF8RbxtIMlSAmG04LgEGuzQ2pwqSS3wU 0NxIhCRB3oDnUA/p0Foyccl6SQdaO9qKFZk+JMZ15PA/HBnRi X-Gm-Gg: ASbGnctsDBBaAC3Y1Huo8NuaaI/s3eAPwROlnhCr39Wkq/RvNyIqo6BMXYzZaqr3nQr NH+sZIMMRRxbKVnpPKxB4E2Dkuyvz/HZ3pJkVWpZ2QAE2XbRpEHvv5ivhnFbMfvgTr3yEqdJ+b3 VE3j/h8Rx9FLAbiBqBz23H8jShnjKNY4tZ+rmyTJU3SCixbaDtel/N4Rhte0DA+otFyouhpHyRc wASkc9aBJdZw6KVhNxl9IMuc+gURLovl3DGFf8/06Wy4Spx+j9UZWqMxnPZsICfOZB0cLH46rJi vFwiJPwldbZWc7cPkw/0nZUIDvPwtIwooakB X-Google-Smtp-Source: AGHT+IHTH+8dfWFtV2bGtauJvMbUeUVKe7Uc+utaF4YKLMqreyLHE1wp8w4V2v3P0B/NnU5yRS18K5sBkbgr X-Received: by 2002:a05:6e02:3787:b0:3d9:2ca8:dda0 with SMTP id e9e14a558f8ab-3da7e217496mr35446145ab.22.1746773753728; Thu, 08 May 2025 23:55:53 -0700 (PDT) Received: from postal.iol.unh.edu (postal.iol.unh.edu. [2606:4100:3880:1234::84]) by smtp-relay.gmail.com with ESMTPS id 8926c6da1cb9f-4fa2262eba5sm30576173.62.2025.05.08.23.55.53 (version=TLS1_2 cipher=ECDHE-ECDSA-AES128-GCM-SHA256 bits=128/128); Thu, 08 May 2025 23:55:53 -0700 (PDT) X-Relaying-Domain: iol.unh.edu Date: Thu, 08 May 2025 23:55:53 -0700 (PDT) Message-ID: <681da6f9.050a0220.3a5de.1abdSMTPIN_ADDED_MISSING@mx.google.com> Received: from [172.21.0.5] (unknown [172.18.0.240]) by postal.iol.unh.edu (Postfix) with ESMTP id 3B6C56052471; Fri, 9 May 2025 02:55:53 -0400 (EDT) Subject: |SUCCESS| [GIT MASTER] 4401486b5e30d43a134f80f9802f60b5f43e74a8 From: dpdklab@iol.unh.edu To: Test Report Cc: dpdk-test-reports@iol.unh.edu, Xueming Li , Christian Ehrhardt , Kevin Traynor , Luca Boccassi Content-Type: text/plain X-BeenThere: test-report@dpdk.org X-Mailman-Version: 2.1.29 Precedence: list List-Id: automatic DPDK test reports List-Unsubscribe: , List-Archive: List-Post: List-Help: List-Subscribe: , Errors-To: test-report-bounces@dpdk.org _Testing PASS_ Branch: tags/v22.11 4401486b5e30d43a134f80f9802f60b5f43e74a8 --> testing pass Upstream job id: ACVP-FIPS-testing#9762 Test environment and result as below: +--------------------+----------------------+----------------------+ | Environment | compressdev_zlib_pmd | dpdk_fips_validation | +====================+======================+======================+ | Ubuntu 22.04 (ARM) | PASS | SKIPPED | +--------------------+----------------------+----------------------+ | Ubuntu 22.04 | PASS | SKIPPED | +--------------------+----------------------+----------------------+ | Ubuntu 20.04 | SKIPPED | PASS | +--------------------+----------------------+----------------------+ Ubuntu 22.04 (ARM) Kernel: 5.15.0-97-generic Compiler: gcc gcc (Ubuntu 11.4.0-1ubuntu1~22.04) 11.4.0 Ubuntu 22.04 Kernel: 5.15.0-100-generic Compiler: gcc gcc (Ubuntu 11.4.0-1ubuntu1~22.04) 11.4.0 Ubuntu 20.04 Kernel: Depends on container host Compiler: gcc (Ubuntu 9.4.0-1ubuntu1~20.04.2) 9.4.0 To view detailed results, visit: https://lab.dpdk.org/results/dashboard/tarballs/33484/ UNH-IOL DPDK Community Lab To manage your email subscriptions, visit: https://lab.dpdk.org/results/dashboard/preferences/subscriptions/