From mboxrd@z Thu Jan 1 00:00:00 1970 Return-Path: Received: from mails.dpdk.org (mails.dpdk.org [217.70.189.124]) by inbox.dpdk.org (Postfix) with ESMTP id 0FE8B466FC for ; Fri, 9 May 2025 09:31:01 +0200 (CEST) Received: from mails.dpdk.org (localhost [127.0.0.1]) by mails.dpdk.org (Postfix) with ESMTP id 088714026C; Fri, 9 May 2025 09:31:01 +0200 (CEST) Received: from mail-pf1-f228.google.com (mail-pf1-f228.google.com [209.85.210.228]) by mails.dpdk.org (Postfix) with ESMTP id B45B14026B for ; Fri, 9 May 2025 09:30:59 +0200 (CEST) Received: by mail-pf1-f228.google.com with SMTP id d2e1a72fcca58-7423fadbe77so294969b3a.3 for ; Fri, 09 May 2025 00:30:59 -0700 (PDT) DKIM-Signature: v=1; a=rsa-sha256; c=relaxed/relaxed; d=iol.unh.edu; s=unh-iol; t=1746775859; x=1747380659; darn=dpdk.org; h=cc:to:from:subject:message-id:date:from:to:cc:subject:date :message-id:reply-to; bh=0NCmxMjQ9bPdnc/DV5Quv4b9jxfbzi/XKCCJRz/Xa00=; b=NheD2dBj2NP8iEfTb6D9dwZoGw8MVzwhl6q+a5KHsRFlGI/dnnF8En2C+o4Q5r7Amd 2xQ/79aKlyRXdRiPEt4oh7O9a+pBfLRPu3vcKPlxXvO94R7LI4W9KbUaSxypSvFDDBUE Gw1LuwFIejeAwWTpcSYFBfTID/WOMjJ1y8LKc= X-Google-DKIM-Signature: v=1; a=rsa-sha256; c=relaxed/relaxed; d=1e100.net; s=20230601; t=1746775859; x=1747380659; h=cc:to:from:subject:message-id:date:x-gm-message-state:from:to:cc :subject:date:message-id:reply-to; bh=0NCmxMjQ9bPdnc/DV5Quv4b9jxfbzi/XKCCJRz/Xa00=; b=qe6+K5PzTShoJxBVTnotyRBLMHZYPhWp2ZQHehSss6MUipsV0QYCO7ZaQiHiZiw3dE AKgeW1g1rxzrx3sPX+HALL075Ft4E2Y5sP1l21Aq7qrTbiX21x2g7wpW0v91AFvp4Cgf qKEelPiLGzFNbtSV1RMWcTa9P7aeLSzKk3LJZG6jfnVMO4bTDI+8DOfPnnfg39JLUzXn 7GWiM/+rv/AnF309Pkmve6iLORVnuMeJ16yh0WOjRvVe10CTviivPiJLdqXJ02aTQ8E2 vY4LzZCSV0920dJ3G2qzl9QlK4AGYtYwodjzH6/QDZN+rSEj5vqBD8RbiDNHt62awySY 2BPA== X-Gm-Message-State: AOJu0YyT5/169wFnKJX75pOC0Wj3ctoaejsqH0iRW6YbE3OeEp4lJ7DC WTfYViyaIb/WKqSPA8cFuedYElAxmYpaBX0Tgz39m2KOLp1hlhVdVfWLg6pF9BsnOU5jIdhG8Ji y6ur1FUeGEQKa5/F0H76Xb5SUj1qPYzYQ X-Gm-Gg: ASbGncv/lxVy74F2D4eV5/9yGHcWxKd+YmW3UtiPo9MKCWeBBEEEpuOAlh0/9R5zoDl CnZNRixceAmiHNhyob66bNeOWV7p5KYvwpPrYKTCxHeM3JhxyPQpdYf7QT6+6eQ2ah2j7mHTyWN lHVv7Be8k0baSPCL8tFn1mHWY62anHHBkePcDL1+sQxIeuLfSNq5i9hDHt1PrQzfBmOZl9hzW7x TX8jp5EBfn5ow/LWh7zQqGo2RKlvggj5aA7c7WNvuv/JMIcoxQXU1JSM9kUfeJgtVVaDLpkKERy ix1FiHlYY+EUoe3ygO9TUVoaxcZRiHwI6zfNclIMpTnMenNeoBGtRvB8FJE= X-Google-Smtp-Source: AGHT+IEBTFufWGqoJzDDjUk75rBKzBIhnHJ4ymlwIHZibL9DTn89U4DiTWw/1geMI02vrOTGPOC9yDdQhFWX X-Received: by 2002:a17:902:f70f:b0:22e:69ee:b286 with SMTP id d9443c01a7336-22fc8e94b49mr29069365ad.33.1746775858993; Fri, 09 May 2025 00:30:58 -0700 (PDT) Received: from postal.iol.unh.edu (postal.iol.unh.edu. [132.177.123.84]) by smtp-relay.gmail.com with ESMTPS id d9443c01a7336-22fc6f30752sm784005ad.125.2025.05.09.00.30.58 (version=TLS1_2 cipher=ECDHE-ECDSA-AES128-GCM-SHA256 bits=128/128); Fri, 09 May 2025 00:30:58 -0700 (PDT) X-Relaying-Domain: iol.unh.edu Date: Fri, 09 May 2025 00:30:58 -0700 (PDT) Message-ID: <681daf32.170a0220.319ce4.4848SMTPIN_ADDED_MISSING@mx.google.com> Received: from [172.21.0.11] (unknown [172.18.0.240]) by postal.iol.unh.edu (Postfix) with ESMTP id 305D56052471; Fri, 9 May 2025 03:30:58 -0400 (EDT) Subject: |SUCCESS| [GIT MASTER] 4401486b5e30d43a134f80f9802f60b5f43e74a8 From: dpdklab@iol.unh.edu To: Test Report Cc: dpdk-test-reports@iol.unh.edu, Xueming Li , Christian Ehrhardt , Kevin Traynor , Luca Boccassi Content-Type: text/plain X-BeenThere: test-report@dpdk.org X-Mailman-Version: 2.1.29 Precedence: list List-Id: automatic DPDK test reports List-Unsubscribe: , List-Archive: List-Post: List-Help: List-Subscribe: , Errors-To: test-report-bounces@dpdk.org _Testing PASS_ Branch: tags/v22.11 4401486b5e30d43a134f80f9802f60b5f43e74a8 --> testing pass Upstream job id: Generic-DPDK-Compile-Meson#386612 Test environment and result as below: +------------------------------------+--------------------+ | Environment | dpdk_meson_compile | +====================================+====================+ | RHEL9 (ARM) | PASS | +------------------------------------+--------------------+ | Ubuntu 20.04 ARM GCC Cross Compile | PASS | +------------------------------------+--------------------+ | Ubuntu 20.04 ARM SVE | PASS | +------------------------------------+--------------------+ | Fedora 40 (ARM Clang) | PASS | +------------------------------------+--------------------+ | Debian 12 with MUSDK | PASS | +------------------------------------+--------------------+ | Fedora 41 (ARM Clang) | PASS | +------------------------------------+--------------------+ | Ubuntu 20.04 (ARM) | PASS | +------------------------------------+--------------------+ | Fedora 40 (ARM) | PASS | +------------------------------------+--------------------+ | Fedora 41 (ARM) | PASS | +------------------------------------+--------------------+ | Debian 12 (arm) | PASS | +------------------------------------+--------------------+ | CentOS Stream 9 (ARM) | PASS | +------------------------------------+--------------------+ | Ubuntu 22.04 (ARM) | PASS | +------------------------------------+--------------------+ | Ubuntu 24.04 (ARM) | PASS | +------------------------------------+--------------------+ | CentOS Stream 10 (ARM) | PASS | +------------------------------------+--------------------+ RHEL9 (ARM) Kernel: Depends on container host Compiler: gcc 11.5.0 20240719 (Red Hat 11.5.0-2) Ubuntu 20.04 ARM GCC Cross Compile Kernel: Depends on container host Compiler: aarch64-linux-gnu-gcc (Ubuntu 9.4.0-1ubuntu1~20.04.2) 9.4.0 Ubuntu 20.04 ARM SVE Kernel: Depends on container host Compiler: gcc (Ubuntu 10.5.0-1ubuntu1~20.04) 10.5.0 Fedora 40 (ARM Clang) Kernel: Depends on container host Compiler: clang 18.1.8 (Fedora 18.1.8-1.fc40) Debian 12 with MUSDK Kernel: Depends on container host Compiler: gcc (Debian 12.2.0-14) 12.2.0 Fedora 41 (ARM Clang) Kernel: Depends on container host Compiler: clang 19.1.5 (Fedora 19.1.5-1.fc41) Ubuntu 20.04 (ARM) Kernel: Depends on container host Compiler: gcc (Ubuntu 9.4.0-1ubuntu1~20.04.2) 9.4.0 Fedora 40 (ARM) Kernel: Depends on container host Compiler: gcc 14.2.1 20240912 (Red Hat 14.2.1-3) Fedora 41 (ARM) Kernel: Depends on container host Compiler: gcc 14.2.1 20240912 (Red Hat 14.2.1-3) Debian 12 (arm) Kernel: Depends on container host Compiler: gcc (Debian 12.2.0-14) 12.2.0 CentOS Stream 9 (ARM) Kernel: Depends on container host Compiler: gcc 11.5.0 20240719 (Red Hat 11.5.0-2) Ubuntu 22.04 (ARM) Kernel: Depends on container host Compiler: gcc (Ubuntu 11.4.0-1ubuntu1~22.04) 11.4.0 Ubuntu 24.04 (ARM) Kernel: Depends on container host Compiler: gcc (Ubuntu 13.3.0-6ubuntu2~24.04) 13.3.0 CentOS Stream 10 (ARM) Kernel: Depends on container host Compiler: gcc 14.2.1 20241104 (Red Hat 14.2.1-6) To view detailed results, visit: https://lab.dpdk.org/results/dashboard/tarballs/33484/ UNH-IOL DPDK Community Lab To manage your email subscriptions, visit: https://lab.dpdk.org/results/dashboard/preferences/subscriptions/