From mboxrd@z Thu Jan 1 00:00:00 1970 Return-Path: Received: from mails.dpdk.org (mails.dpdk.org [217.70.189.124]) by inbox.dpdk.org (Postfix) with ESMTP id 66303466FC for ; Fri, 9 May 2025 09:43:00 +0200 (CEST) Received: from mails.dpdk.org (localhost [127.0.0.1]) by mails.dpdk.org (Postfix) with ESMTP id 612BB4026C; Fri, 9 May 2025 09:43:00 +0200 (CEST) Received: from mail-io1-f98.google.com (mail-io1-f98.google.com [209.85.166.98]) by mails.dpdk.org (Postfix) with ESMTP id 7892F4026B for ; Fri, 9 May 2025 09:42:58 +0200 (CEST) Received: by mail-io1-f98.google.com with SMTP id ca18e2360f4ac-85e1b1f08a5so61526439f.2 for ; Fri, 09 May 2025 00:42:58 -0700 (PDT) DKIM-Signature: v=1; a=rsa-sha256; c=relaxed/relaxed; d=iol.unh.edu; s=unh-iol; t=1746776578; x=1747381378; darn=dpdk.org; h=cc:to:from:subject:message-id:date:from:to:cc:subject:date :message-id:reply-to; bh=xCHinniUXE5r4+yT16GLf/sOkhcbj244vrcx0CI7Lbs=; b=Kwsx+5oDInX2TkFbP8Fg4UIN/fCE/rVRaK+Zz7pJJ6EUCh4tR47Sq7/8JVp+iaCh0a SqKzTp8OuBDQd7fr2J9w0S8dZJvw9WGIQGfxGXKI5DlL14Ts8UAXxLAkZ9svs2akvOS5 kLqypZ5LImOQTibAuHS05RmV4AdzlbIiVma/M= X-Google-DKIM-Signature: v=1; a=rsa-sha256; c=relaxed/relaxed; d=1e100.net; s=20230601; t=1746776578; x=1747381378; h=cc:to:from:subject:message-id:date:x-gm-message-state:from:to:cc :subject:date:message-id:reply-to; bh=xCHinniUXE5r4+yT16GLf/sOkhcbj244vrcx0CI7Lbs=; b=hnnK+Pc2xOeNMan8tWVWjUHWeYWXcqulvDTyIgaFP4Ua8zoJF/exW7HIb1z3Oaa4Kz F+aIs/Gd1DyPJmEgpmgaKqycrOGDF5eNUpwyJLJts+e2OClCLg1+55zhJ4spm54g/0zY Urr2bAOZ8O/CfzD1lKEHwUyZvGyLtm34xLGMbxmRU2mnZdjXRp0lX3Bw8/TKzBoSAYPr olfIbQLuGweDALU7UT/vyljeJ/194cTk6zaQiR+rWsWZaaV5/yAt8l1kUnUPs8GnLN3H eztb+EcT2aR62qwjQlb/cbfNnEqmtoC6BG5TGPui3nkTdeAjc2VP1o3MpRG3A5/+X8OZ eKRQ== X-Gm-Message-State: AOJu0YzxTpM5NJ/w0b8uwNe89uGqlHEuLIc6abcsHkCBT6h1MJHpOZZs fSqH5PcWRD22q2BR/1aFeDoQ+XbgOkoMflIwvLq/9Hp4tXnJ9Oyo9VW4sWeUIBP4wKZ/YKrMDJC hsX/LtdJQE99VxsYB4giYPhc53OZLK14F X-Gm-Gg: ASbGncuVcOAHmjz5jfTpxZbXgtivtwB3BnDv7k6FuLUUXTTEku0r5FZS4OkvP+sg9rC ZsSAX8MjIp8465wdYSy/4llQno5wxRQnepVq+pPjskS4lfGcCH6obPYGp4CDr5ez+EGu7HWdYpV JlqrevHpyTGHJceKojril//yLrDRnTxa0K9KGRSxBgdCiw6gS7CgpYaD9bKVXXmU+pvCCB+W0lV xWW14E6k2ioQ2cvtdd4mGZZ9N6mESVvhZvGaR64W09o6esArRjxyAaVFI6uFiY539lruSOjB8yf 1/WfQg2bW8ZYud92EscU+nq3vpEfRR2LxITY/XDWeabM1Ft9r4OXIT6AjwE= X-Google-Smtp-Source: AGHT+IFBNb3Vwjq5Ul3JfvPn1XheUaEYlKjK6wnMA/KMjPAM5fE6YOppTRDWYzKUseGB4cN2JHMqkP5flv1w X-Received: by 2002:a05:6e02:b2d:b0:3d5:d6ad:286a with SMTP id e9e14a558f8ab-3da7e1efc38mr26264945ab.13.1746776577698; Fri, 09 May 2025 00:42:57 -0700 (PDT) Received: from postal.iol.unh.edu (postal.iol.unh.edu. [132.177.123.84]) by smtp-relay.gmail.com with ESMTPS id e9e14a558f8ab-3da7e103063sm1006935ab.18.2025.05.09.00.42.57 (version=TLS1_2 cipher=ECDHE-ECDSA-AES128-GCM-SHA256 bits=128/128); Fri, 09 May 2025 00:42:57 -0700 (PDT) X-Relaying-Domain: iol.unh.edu Date: Fri, 09 May 2025 00:42:57 -0700 (PDT) Message-ID: <681db201.050a0220.2241ff.5898SMTPIN_ADDED_MISSING@mx.google.com> Received: from [172.21.0.6] (unknown [172.18.0.240]) by postal.iol.unh.edu (Postfix) with ESMTP id 332E56052471; Fri, 9 May 2025 03:42:57 -0400 (EDT) Subject: |SUCCESS| [GIT MASTER] 4c5634de9f933555bab9c64a533d3dca999071cd From: dpdklab@iol.unh.edu To: Test Report Cc: dpdk-test-reports@iol.unh.edu, Xueming Li , Christian Ehrhardt , Kevin Traynor , Luca Boccassi Content-Type: text/plain X-BeenThere: test-report@dpdk.org X-Mailman-Version: 2.1.29 Precedence: list List-Id: automatic DPDK test reports List-Unsubscribe: , List-Archive: List-Post: List-Help: List-Subscribe: , Errors-To: test-report-bounces@dpdk.org _Testing PASS_ Branch: tags/v24.11 4c5634de9f933555bab9c64a533d3dca999071cd --> testing pass Upstream job id: Generic-Unit-Test-DPDK#336671 Test environment and result as below: +---------------------+----------------+ | Environment | dpdk_unit_test | +=====================+================+ | CentOS Stream 10 | PASS | +---------------------+----------------+ | CentOS Stream 9 | PASS | +---------------------+----------------+ | Fedora 40 | PASS | +---------------------+----------------+ | Debian 12 | PASS | +---------------------+----------------+ | Fedora 40 (Clang) | PASS | +---------------------+----------------+ | RHEL8 | PASS | +---------------------+----------------+ | Fedora 41 | PASS | +---------------------+----------------+ | Ubuntu 20.04 | PASS | +---------------------+----------------+ | Ubuntu 24.04 | PASS | +---------------------+----------------+ | Fedora 41 (Clang) | PASS | +---------------------+----------------+ | RHEL9 | PASS | +---------------------+----------------+ | Ubuntu 22.04 | PASS | +---------------------+----------------+ | Windows Server 2022 | PASS | +---------------------+----------------+ CentOS Stream 10 Kernel: Depends on container host Compiler: gcc 14.2.1 20241104 (Red Hat 14.2.1-6) CentOS Stream 9 Kernel: Depends on container host Compiler: gcc 11.5.0 20240719 (Red Hat 11.5.0-2) Fedora 40 Kernel: Depends on container host Compiler: gcc 14.2.1 20240912 (Red Hat 14.2.1-3) Debian 12 Kernel: Depends on container host Compiler: gcc (Debian 12.2.0-14) 12.2.0 Fedora 40 (Clang) Kernel: Depends on container host Compiler: clang 18.1.8 (Fedora 18.1.8-1.fc40) RHEL8 Kernel: Depends on container host Compiler: gcc 8.5.0 20210514 (Red Hat 8.5.0-22) Fedora 41 Kernel: Depends on container host Compiler: gcc 14.2.1 20240912 (Red Hat 14.2.1-3) Ubuntu 20.04 Kernel: Depends on container host Compiler: gcc (Ubuntu 9.4.0-1ubuntu1~20.04.2) 9.4.0 Ubuntu 24.04 Kernel: Depends on container host Compiler: gcc (Ubuntu 13.3.0-6ubuntu2~24.04) 13.3.0 Fedora 41 (Clang) Kernel: Depends on container host Compiler: clang 19.1.5 (Fedora 19.1.5-1.fc41) RHEL9 Kernel: Depends on container host Compiler: gcc 11.5.0 20240719 (Red Hat 11.5.0-2) Ubuntu 22.04 Kernel: Depends on container host Compiler: gcc (Ubuntu 11.4.0-1ubuntu1~22.04) 11.4.0 Windows Server 2022 Kernel: 10.0.20348.2031 Compiler: clang 15.0.7, gcc 14.1.0 (MinGW), and MSVC VS 19.39.33521 To view detailed results, visit: https://lab.dpdk.org/results/dashboard/tarballs/33482/ UNH-IOL DPDK Community Lab To manage your email subscriptions, visit: https://lab.dpdk.org/results/dashboard/preferences/subscriptions/