From mboxrd@z Thu Jan 1 00:00:00 1970 Return-Path: Received: from mails.dpdk.org (mails.dpdk.org [217.70.189.124]) by inbox.dpdk.org (Postfix) with ESMTP id 31851466FE for ; Fri, 9 May 2025 10:02:19 +0200 (CEST) Received: from mails.dpdk.org (localhost [127.0.0.1]) by mails.dpdk.org (Postfix) with ESMTP id 24D8F4026C; Fri, 9 May 2025 10:02:19 +0200 (CEST) Received: from mail-il1-f226.google.com (mail-il1-f226.google.com [209.85.166.226]) by mails.dpdk.org (Postfix) with ESMTP id 034AE4026B for ; Fri, 9 May 2025 10:02:18 +0200 (CEST) Received: by mail-il1-f226.google.com with SMTP id e9e14a558f8ab-3d965c64d53so8412075ab.1 for ; Fri, 09 May 2025 01:02:17 -0700 (PDT) DKIM-Signature: v=1; a=rsa-sha256; c=relaxed/relaxed; d=iol.unh.edu; s=unh-iol; t=1746777737; x=1747382537; darn=dpdk.org; h=cc:to:from:subject:message-id:date:from:to:cc:subject:date :message-id:reply-to; bh=66fD1DsO3QOJOiIxwxEzGfstVwR3sbTsua1ElW1f2J0=; b=TO1eDSEJeclFiNmginmBIJ6Xm9fwuXRNnGp0XXUbzojba/cvH3jb/n2/ui1yA3Evlg /RifbgQTSp/HTpk+u5MdS9q7QsYC4G6P+kWYM9t1RLphUh7NmC1n/ePpBuHFGUtbMSsd zFx87dS2f33umy1q+7wsQpdqvVMZjYEeZRHkU= X-Google-DKIM-Signature: v=1; a=rsa-sha256; c=relaxed/relaxed; d=1e100.net; s=20230601; t=1746777737; x=1747382537; h=cc:to:from:subject:message-id:date:x-gm-message-state:from:to:cc :subject:date:message-id:reply-to; bh=66fD1DsO3QOJOiIxwxEzGfstVwR3sbTsua1ElW1f2J0=; b=MT2y2VlDQsNDYipCqziE8OEc+lLMkFCfk5neJP3FcKRVWbjsONRslRLZzPvn6Xt80N s7AgUTHMdWDYr8EU7wPTNDf7X9K5IX65/Qv1pjQzcc0XNwDv2lyZcaiR1nqS9FUgyYe+ Ufe+/Wo7dTGRknJshp0tkz6ClkETaRh7RoFVm8JBTOL5pUhGT17lzjZo1tnghBMM/07V DPuKRE7/YLN1W4dG5SZ1XhKzNyhzVDcb4kZ+sHjNYqrXRP4Jzi/MkTAzEtr4oG+MJhag Heo8FRV9J97Yb8lXFYBdm8URqqCBOKsIq9YPZS4xiXhNy4KDfg073fNXuowPi7XgyDQh Pp8A== X-Gm-Message-State: AOJu0YxTI9eCINLaCZgIivLgTMiusHoZZTVYPXRwsklUyV566zn7lYWM ZgXfEjkZx7sKL1OOTHzmx73407UzTPrp5KVCliKrVGzSS4z6eveh0MeRHwGO7wpQkAcWTGd7M/l kauRbxkSkROPHI6GXDajbaDYrt5e/3eks1gh4hhHQdxsXGq+G X-Gm-Gg: ASbGncuQuT5pbs+/UYpSuZlBff7PjjoIi1ZjHy6nJEkD7BQS+Jfypvs8XLHgi4gn3Ou 7RUT3bfPUD8yFl6u0czEspJBvlwgL3JQrFZgY91WJWwFtM9Ckku5JSfwn0Az5lcV+bTXwa2ddcs DQD1XP9wGqvUm6CdwC9RdVpO05y2SDn26aQ9O4VHEH/Jx67PEZbTaX3h0LTJ7AklxausgyutjXl B1YO9DFj/jDI4qc/AXALREoHKspJtxRk0gFza4cZeWfbBAcRoo0DLIrJkJWnBVidKVTeyIeUvDU dpQ9kIH8Eh4VGlXB3jRnT1lO4gXFOUpvfI1+ X-Google-Smtp-Source: AGHT+IEPmLs7nOcQUeus6IlZH3IT4QI0Y74ki3aPfIsmamKA6R0EUFPIRAirmaJa2fI0tsVNg3ifPJbiYB9v X-Received: by 2002:a05:6e02:1845:b0:3d9:34c8:54ce with SMTP id e9e14a558f8ab-3da7e2103c5mr32739105ab.18.1746777737275; Fri, 09 May 2025 01:02:17 -0700 (PDT) Received: from postal.iol.unh.edu (postal.iol.unh.edu. [2606:4100:3880:1234::84]) by smtp-relay.gmail.com with ESMTPS id e9e14a558f8ab-3da7e163775sm1036075ab.63.2025.05.09.01.02.17 (version=TLS1_2 cipher=ECDHE-ECDSA-AES128-GCM-SHA256 bits=128/128); Fri, 09 May 2025 01:02:17 -0700 (PDT) X-Relaying-Domain: iol.unh.edu Date: Fri, 09 May 2025 01:02:17 -0700 (PDT) Message-ID: <681db689.050a0220.555d6.5b58SMTPIN_ADDED_MISSING@mx.google.com> Received: from [172.21.0.11] (unknown [172.18.0.240]) by postal.iol.unh.edu (Postfix) with ESMTP id DB15E6052471; Fri, 9 May 2025 04:02:16 -0400 (EDT) Subject: |SUCCESS| [GIT MASTER] 83a7a648344674c0269fcaeb71d8d16468421a0e From: dpdklab@iol.unh.edu To: Test Report Cc: dpdk-test-reports@iol.unh.edu, Xueming Li , Christian Ehrhardt , Kevin Traynor , Luca Boccassi Content-Type: text/plain X-BeenThere: test-report@dpdk.org X-Mailman-Version: 2.1.29 Precedence: list List-Id: automatic DPDK test reports List-Unsubscribe: , List-Archive: List-Post: List-Help: List-Subscribe: , Errors-To: test-report-bounces@dpdk.org _Testing PASS_ Branch: tags/v23.11 83a7a648344674c0269fcaeb71d8d16468421a0e --> testing pass Upstream job id: Generic-DPDK-Compile-Meson#386634 Test environment and result as below: +------------------------------------+--------------------+ | Environment | dpdk_meson_compile | +====================================+====================+ | RHEL9 (ARM) | PASS | +------------------------------------+--------------------+ | Ubuntu 20.04 ARM GCC Cross Compile | PASS | +------------------------------------+--------------------+ | Ubuntu 20.04 ARM SVE | PASS | +------------------------------------+--------------------+ | Debian 12 with MUSDK | PASS | +------------------------------------+--------------------+ | Fedora 40 (ARM) | PASS | +------------------------------------+--------------------+ | Fedora 40 (ARM Clang) | PASS | +------------------------------------+--------------------+ | Fedora 41 (ARM Clang) | PASS | +------------------------------------+--------------------+ | Ubuntu 22.04 (ARM) | PASS | +------------------------------------+--------------------+ | Ubuntu 20.04 (ARM) | PASS | +------------------------------------+--------------------+ | Fedora 41 (ARM) | PASS | +------------------------------------+--------------------+ | CentOS Stream 9 (ARM) | PASS | +------------------------------------+--------------------+ | Ubuntu 24.04 (ARM) | PASS | +------------------------------------+--------------------+ | Debian 12 (arm) | PASS | +------------------------------------+--------------------+ | CentOS Stream 10 (ARM) | PASS | +------------------------------------+--------------------+ RHEL9 (ARM) Kernel: Depends on container host Compiler: gcc 11.5.0 20240719 (Red Hat 11.5.0-2) Ubuntu 20.04 ARM GCC Cross Compile Kernel: Depends on container host Compiler: aarch64-linux-gnu-gcc (Ubuntu 9.4.0-1ubuntu1~20.04.2) 9.4.0 Ubuntu 20.04 ARM SVE Kernel: Depends on container host Compiler: gcc (Ubuntu 10.5.0-1ubuntu1~20.04) 10.5.0 Debian 12 with MUSDK Kernel: Depends on container host Compiler: gcc (Debian 12.2.0-14) 12.2.0 Fedora 40 (ARM) Kernel: Depends on container host Compiler: gcc 14.2.1 20240912 (Red Hat 14.2.1-3) Fedora 40 (ARM Clang) Kernel: Depends on container host Compiler: clang 18.1.8 (Fedora 18.1.8-1.fc40) Fedora 41 (ARM Clang) Kernel: Depends on container host Compiler: clang 19.1.5 (Fedora 19.1.5-1.fc41) Ubuntu 22.04 (ARM) Kernel: Depends on container host Compiler: gcc (Ubuntu 11.4.0-1ubuntu1~22.04) 11.4.0 Ubuntu 20.04 (ARM) Kernel: Depends on container host Compiler: gcc (Ubuntu 9.4.0-1ubuntu1~20.04.2) 9.4.0 Fedora 41 (ARM) Kernel: Depends on container host Compiler: gcc 14.2.1 20240912 (Red Hat 14.2.1-3) CentOS Stream 9 (ARM) Kernel: Depends on container host Compiler: gcc 11.5.0 20240719 (Red Hat 11.5.0-2) Ubuntu 24.04 (ARM) Kernel: Depends on container host Compiler: gcc (Ubuntu 13.3.0-6ubuntu2~24.04) 13.3.0 Debian 12 (arm) Kernel: Depends on container host Compiler: gcc (Debian 12.2.0-14) 12.2.0 CentOS Stream 10 (ARM) Kernel: Depends on container host Compiler: gcc 14.2.1 20241104 (Red Hat 14.2.1-6) To view detailed results, visit: https://lab.dpdk.org/results/dashboard/tarballs/33483/ UNH-IOL DPDK Community Lab To manage your email subscriptions, visit: https://lab.dpdk.org/results/dashboard/preferences/subscriptions/