From mboxrd@z Thu Jan 1 00:00:00 1970 Return-Path: Received: from mails.dpdk.org (mails.dpdk.org [217.70.189.124]) by inbox.dpdk.org (Postfix) with ESMTP id 97C0B466FE for ; Fri, 9 May 2025 10:05:54 +0200 (CEST) Received: from mails.dpdk.org (localhost [127.0.0.1]) by mails.dpdk.org (Postfix) with ESMTP id 915454026C; Fri, 9 May 2025 10:05:54 +0200 (CEST) Received: from mail-il1-f228.google.com (mail-il1-f228.google.com [209.85.166.228]) by mails.dpdk.org (Postfix) with ESMTP id 0191A4026B for ; Fri, 9 May 2025 10:05:54 +0200 (CEST) Received: by mail-il1-f228.google.com with SMTP id e9e14a558f8ab-3da6fb115a6so15481735ab.1 for ; Fri, 09 May 2025 01:05:53 -0700 (PDT) DKIM-Signature: v=1; a=rsa-sha256; c=relaxed/relaxed; d=iol.unh.edu; s=unh-iol; t=1746777953; x=1747382753; darn=dpdk.org; h=cc:to:from:subject:message-id:date:from:to:cc:subject:date :message-id:reply-to; bh=pmyawFgA0EIwgR+FKdDOH011/bCsOyjOuotl5GAy8Wg=; b=g7CZ8vUAkM+oefSVbVM/TMnBfEBvskZP6xqnnYozYmHSjvw1LGZZBfQQmqSOz6QFrw Jo7XXfX4M2gDmBUbhca+1HM/cXPK2BYaUOW4GyZ50W/3lihAOmcfqyOJc8gC1YKm76HF +SEy2mw+REYoetzVFHb8ntJiBqlxAHxUqLsr4= X-Google-DKIM-Signature: v=1; a=rsa-sha256; c=relaxed/relaxed; d=1e100.net; s=20230601; t=1746777953; x=1747382753; h=cc:to:from:subject:message-id:date:x-gm-message-state:from:to:cc :subject:date:message-id:reply-to; bh=pmyawFgA0EIwgR+FKdDOH011/bCsOyjOuotl5GAy8Wg=; b=q1M7uaQZbfERCmsXP0cAR6d218ruv3VS7y7k2SqOq6R7/T8Tzj4Td+C8Nk7gOw92Hn 6DQmIdqtZVOKjJj+oR2+ewZC4X4UUVc82bqXSYsEfvAOy/ayQVN8GarcfGsfbVeiAd+q S5knozEGPA39rAaverDpyhetZZdWNejpjRbjGF6VnoHLMvr18Vjx+kCK7+lv5aqtCSOn crcZB9cPU0gRRVWHWlj/DLxahQPzB3ks27/5IyHjRTl3LJnVa7jCbIfuXSGJFzZESNbt PTrydL0dPK1WUGgo/pwsg70sm5q8hL+knAKpHMdEKC3+okr2d6afJVlkG7txiFK8S4gd DKCQ== X-Gm-Message-State: AOJu0YwjM+i5p72qqi+paNFHyatokWFDbJui8EoRvO1Q7K2uXlMSFNXV doS9A86KMhi/WUhCsOe9XO2Ycdm2y+Lutw4I02yK8EhwfjCFY80hhQKhLi+gugyc/DnGAoGPqLm ivAU5GqyGuZRgxJB5i0lHWk+aQw2XSpJ4 X-Gm-Gg: ASbGncv924o7yFIjxXiuS6olTgAo0gP/p/3V7ZT09blEgH0uZ39EZjCHor81Jv95hvP NaZUBlKNpr5h863362N6O88YRW7NJl/CG/XD7ZiSLkDfhUEFwgqtfby53QodPAd5DlrUWt8OzQt UCQtUv9nQ2J7xPOiLFP+jb0+iQlRJ/zsE1HldoZ0hFUVErLu0Sgi7Pa1ZzBdonxX8WrEfOsGrtu Demlw/0AZr7PAm6dasrKRlf/W98tG9/yYsZz3aDI5IK7UvVCzTp49CLrRefGAwuE/Uiko9uTY4a bJ2v46fro4qeeOcKB46At6CCKHZYVr9yiSIZRm8RlEb8ly9+f0DuP6FeGlM= X-Google-Smtp-Source: AGHT+IE95zLFKL37Q7G0I/PVG6leh0PdoT5cpaMmJDY55BahLDrnY33UApLp6icqTnST2hzxOqJDvcr59ScM X-Received: by 2002:a05:6e02:12cb:b0:3d9:39f3:f250 with SMTP id e9e14a558f8ab-3da7e1e26d9mr33245015ab.3.1746777953306; Fri, 09 May 2025 01:05:53 -0700 (PDT) Received: from postal.iol.unh.edu (postal.iol.unh.edu. [132.177.123.84]) by smtp-relay.gmail.com with ESMTPS id 8926c6da1cb9f-4fa2242e901sm34059173.8.2025.05.09.01.05.53 (version=TLS1_2 cipher=ECDHE-ECDSA-AES128-GCM-SHA256 bits=128/128); Fri, 09 May 2025 01:05:53 -0700 (PDT) X-Relaying-Domain: iol.unh.edu Date: Fri, 09 May 2025 01:05:53 -0700 (PDT) Message-ID: <681db761.050a0220.203a17.1db4SMTPIN_ADDED_MISSING@mx.google.com> Received: from [172.21.0.5] (unknown [172.18.0.240]) by postal.iol.unh.edu (Postfix) with ESMTP id B38FC6052471; Fri, 9 May 2025 04:05:52 -0400 (EDT) Subject: |SUCCESS| [GIT MASTER] 83a7a648344674c0269fcaeb71d8d16468421a0e From: dpdklab@iol.unh.edu To: Test Report Cc: dpdk-test-reports@iol.unh.edu, Xueming Li , Christian Ehrhardt , Kevin Traynor , Luca Boccassi Content-Type: text/plain X-BeenThere: test-report@dpdk.org X-Mailman-Version: 2.1.29 Precedence: list List-Id: automatic DPDK test reports List-Unsubscribe: , List-Archive: List-Post: List-Help: List-Subscribe: , Errors-To: test-report-bounces@dpdk.org _Testing PASS_ Branch: tags/v23.11 83a7a648344674c0269fcaeb71d8d16468421a0e --> testing pass Upstream job id: Generic-DPDK-Compile-Meson#386631 Test environment and result as below: +---------------------+--------------------+-------------------+------------------+-------------------+-------------------------+----------------------+ | Environment | dpdk_meson_compile | dpdk_compile_spdk | dpdk_compile_ovs | dpdk_msvc_compile | dpdk_llvm_clang_compile | dpdk_mingw64_compile | +=====================+====================+===================+==================+===================+=========================+======================+ | CentOS Stream 9 | PASS | PASS | SKIPPED | SKIPPED | SKIPPED | SKIPPED | +---------------------+--------------------+-------------------+------------------+-------------------+-------------------------+----------------------+ | CentOS Stream 10 | PASS | SKIPPED | SKIPPED | SKIPPED | SKIPPED | SKIPPED | +---------------------+--------------------+-------------------+------------------+-------------------+-------------------------+----------------------+ | Debian 12 | PASS | PASS | SKIPPED | SKIPPED | SKIPPED | SKIPPED | +---------------------+--------------------+-------------------+------------------+-------------------+-------------------------+----------------------+ | Fedora 40 (Clang) | PASS | PASS | SKIPPED | SKIPPED | SKIPPED | SKIPPED | +---------------------+--------------------+-------------------+------------------+-------------------+-------------------------+----------------------+ | Fedora 40 | PASS | PASS | SKIPPED | SKIPPED | SKIPPED | SKIPPED | +---------------------+--------------------+-------------------+------------------+-------------------+-------------------------+----------------------+ | Fedora 41 (Clang) | PASS | PASS | PASS | SKIPPED | SKIPPED | SKIPPED | +---------------------+--------------------+-------------------+------------------+-------------------+-------------------------+----------------------+ | openSUSE Leap 15 | PASS | SKIPPED | SKIPPED | SKIPPED | SKIPPED | SKIPPED | +---------------------+--------------------+-------------------+------------------+-------------------+-------------------------+----------------------+ | Fedora 41 | PASS | PASS | PASS | SKIPPED | SKIPPED | SKIPPED | +---------------------+--------------------+-------------------+------------------+-------------------+-------------------------+----------------------+ | RHEL8 | PASS | SKIPPED | SKIPPED | SKIPPED | SKIPPED | SKIPPED | +---------------------+--------------------+-------------------+------------------+-------------------+-------------------------+----------------------+ | RHEL9 | PASS | SKIPPED | SKIPPED | SKIPPED | SKIPPED | SKIPPED | +---------------------+--------------------+-------------------+------------------+-------------------+-------------------------+----------------------+ | Ubuntu 20.04 | PASS | SKIPPED | SKIPPED | SKIPPED | SKIPPED | SKIPPED | +---------------------+--------------------+-------------------+------------------+-------------------+-------------------------+----------------------+ | Ubuntu 22.04 | PASS | PASS | SKIPPED | SKIPPED | SKIPPED | SKIPPED | +---------------------+--------------------+-------------------+------------------+-------------------+-------------------------+----------------------+ | Ubuntu 24.04 | PASS | PASS | PASS | SKIPPED | SKIPPED | SKIPPED | +---------------------+--------------------+-------------------+------------------+-------------------+-------------------------+----------------------+ | Alpine | PASS | SKIPPED | SKIPPED | SKIPPED | SKIPPED | SKIPPED | +---------------------+--------------------+-------------------+------------------+-------------------+-------------------------+----------------------+ | FreeBSD 13.5 | PASS | SKIPPED | SKIPPED | SKIPPED | SKIPPED | SKIPPED | +---------------------+--------------------+-------------------+------------------+-------------------+-------------------------+----------------------+ | FreeBSD 14.2 | PASS | SKIPPED | SKIPPED | SKIPPED | SKIPPED | SKIPPED | +---------------------+--------------------+-------------------+------------------+-------------------+-------------------------+----------------------+ | Windows Server 2022 | SKIPPED | SKIPPED | SKIPPED | PASS | PASS | PASS | +---------------------+--------------------+-------------------+------------------+-------------------+-------------------------+----------------------+ CentOS Stream 9 Kernel: Depends on container host Compiler: gcc 11.5.0 20240719 (Red Hat 11.5.0-2) CentOS Stream 10 Kernel: Depends on container host Compiler: gcc 14.2.1 20241104 (Red Hat 14.2.1-6) Debian 12 Kernel: Depends on container host Compiler: gcc (Debian 12.2.0-14) 12.2.0 Fedora 40 (Clang) Kernel: Depends on container host Compiler: clang 18.1.8 (Fedora 18.1.8-1.fc40) Fedora 40 Kernel: Depends on container host Compiler: gcc 14.2.1 20240912 (Red Hat 14.2.1-3) Fedora 41 (Clang) Kernel: Depends on container host Compiler: clang 19.1.5 (Fedora 19.1.5-1.fc41) openSUSE Leap 15 Kernel: Depends on container host Compiler: gcc (SUSE Linux) 7.5.0 Fedora 41 Kernel: Depends on container host Compiler: gcc 14.2.1 20240912 (Red Hat 14.2.1-3) RHEL8 Kernel: Depends on container host Compiler: gcc 8.5.0 20210514 (Red Hat 8.5.0-22) RHEL9 Kernel: Depends on container host Compiler: gcc 11.5.0 20240719 (Red Hat 11.5.0-2) Ubuntu 20.04 Kernel: Depends on container host Compiler: gcc (Ubuntu 9.4.0-1ubuntu1~20.04.2) 9.4.0 Ubuntu 22.04 Kernel: Depends on container host Compiler: gcc (Ubuntu 11.4.0-1ubuntu1~22.04) 11.4.0 Ubuntu 24.04 Kernel: Depends on container host Compiler: gcc (Ubuntu 13.3.0-6ubuntu2~24.04) 13.3.0 Alpine Kernel: Depends on container host Compiler: gcc (Alpine 14.2.0) 14.2.0 FreeBSD 13.5 Kernel: 13.5-RELEASE Compiler: clang 19.1.7 FreeBSD 14.2 Kernel: 14.2-RELEASE Compiler: clang 18.1.6 Windows Server 2022 Kernel: 10.0.20348.2031 Compiler: clang 15.0.7, gcc 14.1.0 (MinGW), and MSVC VS 19.39.33521 To view detailed results, visit: https://lab.dpdk.org/results/dashboard/tarballs/33483/ UNH-IOL DPDK Community Lab To manage your email subscriptions, visit: https://lab.dpdk.org/results/dashboard/preferences/subscriptions/