From mboxrd@z Thu Jan 1 00:00:00 1970 Return-Path: Received: from mails.dpdk.org (mails.dpdk.org [217.70.189.124]) by inbox.dpdk.org (Postfix) with ESMTP id 2BDD8466FE for ; Fri, 9 May 2025 10:22:02 +0200 (CEST) Received: from mails.dpdk.org (localhost [127.0.0.1]) by mails.dpdk.org (Postfix) with ESMTP id 03E794026C; Fri, 9 May 2025 10:22:02 +0200 (CEST) Received: from mail-pl1-f227.google.com (mail-pl1-f227.google.com [209.85.214.227]) by mails.dpdk.org (Postfix) with ESMTP id 1FBA94026B for ; Fri, 9 May 2025 10:22:01 +0200 (CEST) Received: by mail-pl1-f227.google.com with SMTP id d9443c01a7336-22e661313a3so18474105ad.3 for ; Fri, 09 May 2025 01:22:01 -0700 (PDT) DKIM-Signature: v=1; a=rsa-sha256; c=relaxed/relaxed; d=iol.unh.edu; s=unh-iol; t=1746778920; x=1747383720; darn=dpdk.org; h=references:in-reply-to:cc:to:from:subject:message-id:date:from:to :cc:subject:date:message-id:reply-to; bh=RLD0xn3u4qZVAWzUrSlzDNXFuce7YKDeKWc28GPnCfw=; b=Ot/sVPEDLHgzf4NurPSsFxi+otDVwHjFqHLno8f5EA+VqBfdI7CecMXiPGlb0SWVGs L759mvtIJd9cRfM64yunjMPja6wbykj0NpkGIWXiGu1NAlmBNlkq3DCHBG6GKJ2E3+ia aHdoaG812Ohq+zNs+eHjvSDK/XZNwslGweDjk= X-Google-DKIM-Signature: v=1; a=rsa-sha256; c=relaxed/relaxed; d=1e100.net; s=20230601; t=1746778920; x=1747383720; h=references:in-reply-to:cc:to:from:subject:message-id:date :x-gm-message-state:from:to:cc:subject:date:message-id:reply-to; bh=RLD0xn3u4qZVAWzUrSlzDNXFuce7YKDeKWc28GPnCfw=; b=kSD0IUXLfyA++S0ZXrPFzSG2aZgHleT9dAhw/nsHzArUPtNhmeOH/xBVsdBBcVs2Ku pqSXHCNQzHBMCiAnuBi7kq4mlBoe5vdmJHIvQtthQk3Yv1pBj/g+wyXkJwIL0e2oW5rO MDveyd60Gde4j6HSSeIJPgoWcoaDvAhwYVWDDxpbtQKxZTXXQ1R/RxurNYs+QsvRjQFK wSdW7wNlGreGYFcHYNNb9iilUeprdvqj1rzBYymCPqKSmNDQ9y3m5DCBZvyJYkqpVVmI SeaCpxT8bJTV+3Fg5dhIvJ/8KPOZTNx+uC0cTpOtR6t0kiQE4aElD+kSP46eBQhuXvTW 4Sig== X-Gm-Message-State: AOJu0Yw1FL7uLPvqSn0NyxS9NetgLIYw6aFysuMmL8r8FwDBuK0UbJ3k ImuSNMLDfRgmV+2Bi+GDNMC72VLkKzen2RmhFG7r9B1t8atJnqXhYfhGWM1V930NnynlYDLeA+R 1xlZBlTIFUFSEqeDZukstoFGL1822mY+YFxtJBLEc X-Gm-Gg: ASbGnctsU3g3PnkDIYrskD3Y4blnrPRuyryEekQM56IJ8VwAjnMUotBfsQj+M7CdRxW M8f/xDP+ycVldcT1fFy5zJLlNSfyQeFtIawNU1WW5btz6K/AfMnvfIl4PsrsbBh3lVjzv5Wjn+L aXVe2E436impfOSGdeO9E5Zss0ffonQAKunGUvzXzAk7dX4Zvi0oyoNMV3TFXl4I/DmshFoQv5s 8ZhqKjVneei2DaxXWYFCNjQY2m3fIWN2GU7zGBkI2D/cMVqcRKViCqGf3fXajyNsraR4Nm9U1y/ CkKVZAUUdXRPQvmyBANdakBNIVJZE15+qhWCwkQg6ur/bZ51G9wEmk0o4hc= X-Google-Smtp-Source: AGHT+IHUFyDByB423YmJQatV3HS/xrG3xrh8j0nklf83+Phsy3ZNh+SmYc2T6UBx0n6bJRy8ZIb/Lqcs+LFv X-Received: by 2002:a17:903:230e:b0:21f:61a9:be7d with SMTP id d9443c01a7336-22fc918e46dmr32630095ad.49.1746778920225; Fri, 09 May 2025 01:22:00 -0700 (PDT) Received: from postal.iol.unh.edu (postal.iol.unh.edu. [132.177.123.84]) by smtp-relay.gmail.com with ESMTPS id d9443c01a7336-22fc5a44812sm798205ad.64.2025.05.09.01.22.00 (version=TLS1_2 cipher=ECDHE-ECDSA-AES128-GCM-SHA256 bits=128/128); Fri, 09 May 2025 01:22:00 -0700 (PDT) X-Relaying-Domain: iol.unh.edu Date: Fri, 09 May 2025 01:22:00 -0700 (PDT) Message-ID: <681dbb28.170a0220.152677.4983SMTPIN_ADDED_MISSING@mx.google.com> Received: from [172.21.0.5] (unknown [172.18.0.240]) by postal.iol.unh.edu (Postfix) with ESMTP id AD14A6052471; Fri, 9 May 2025 04:21:59 -0400 (EDT) Subject: |SUCCESS| pw153363-153369 [PATCH] [v1,7/7] event/dlb2: fix default c From: dpdklab@iol.unh.edu To: Test Report Cc: dpdk-test-reports@iol.unh.edu In-Reply-To: <20250509042401.2634765-8-pravin.pathak@intel.com> References: <20250509042401.2634765-8-pravin.pathak@intel.com> Content-Type: text/plain X-BeenThere: test-report@dpdk.org X-Mailman-Version: 2.1.29 Precedence: list List-Id: automatic DPDK test reports List-Unsubscribe: , List-Archive: List-Post: List-Help: List-Subscribe: , Errors-To: test-report-bounces@dpdk.org Test-Label: iol-unit-arm64-testing Test-Status: SUCCESS http://dpdk.org/patch/153369 _Testing PASS_ Submitter: Pravin Pathak Date: Friday, May 09 2025 04:24:01 DPDK git baseline: Repo:dpdk Branch: master CommitID:2a5c6c4709c9a23feb92ed1325945cb459884b4f 153363-153369 --> testing pass Upstream job id: Generic-Unit-Test-DPDK#336681 Test environment and result as below: +-----------------------------+--------------+------------------------------+----------------+---------------------------+ | Environment | lpm_autotest | cryptodev_sw_snow3g_autotest | dpdk_unit_test | cryptodev_sw_zuc_autotest | +=============================+==============+==============================+================+===========================+ | Ubuntu 20.04 ARM SVE | PASS | SKIPPED | SKIPPED | SKIPPED | +-----------------------------+--------------+------------------------------+----------------+---------------------------+ | Debian 12 (arm) | SKIPPED | PASS | PASS | PASS | +-----------------------------+--------------+------------------------------+----------------+---------------------------+ | CentOS Stream 9 (ARM) | SKIPPED | SKIPPED | PASS | SKIPPED | +-----------------------------+--------------+------------------------------+----------------+---------------------------+ | CentOS Stream 10 (ARM) | SKIPPED | SKIPPED | PASS | SKIPPED | +-----------------------------+--------------+------------------------------+----------------+---------------------------+ | Fedora 40 (ARM Clang) | SKIPPED | SKIPPED | PASS | SKIPPED | +-----------------------------+--------------+------------------------------+----------------+---------------------------+ | Fedora 40 (ARM) | SKIPPED | SKIPPED | PASS | SKIPPED | +-----------------------------+--------------+------------------------------+----------------+---------------------------+ | RHEL9 (ARM) | SKIPPED | SKIPPED | PASS | SKIPPED | +-----------------------------+--------------+------------------------------+----------------+---------------------------+ | Fedora 41 (ARM Clang) | SKIPPED | SKIPPED | PASS | SKIPPED | +-----------------------------+--------------+------------------------------+----------------+---------------------------+ | Fedora 41 (ARM) | SKIPPED | SKIPPED | PASS | SKIPPED | +-----------------------------+--------------+------------------------------+----------------+---------------------------+ | Ubuntu 22.04 (ARM) | SKIPPED | SKIPPED | PASS | SKIPPED | +-----------------------------+--------------+------------------------------+----------------+---------------------------+ | Ubuntu 20.04 (ARM) | SKIPPED | SKIPPED | PASS | SKIPPED | +-----------------------------+--------------+------------------------------+----------------+---------------------------+ | Ubuntu 24.04 (ARM) | SKIPPED | SKIPPED | PASS | SKIPPED | +-----------------------------+--------------+------------------------------+----------------+---------------------------+ | 32-bit Ubuntu 22.04.4 (ARM) | SKIPPED | SKIPPED | PASS | SKIPPED | +-----------------------------+--------------+------------------------------+----------------+---------------------------+ Ubuntu 20.04 ARM SVE Kernel: Depends on container host Compiler: gcc (Ubuntu 10.5.0-1ubuntu1~20.04) 10.5.0 Debian 12 (arm) Kernel: Depends on container host Compiler: gcc (Debian 12.2.0-14) 12.2.0 CentOS Stream 9 (ARM) Kernel: Depends on container host Compiler: gcc 11.5.0 20240719 (Red Hat 11.5.0-2) CentOS Stream 10 (ARM) Kernel: Depends on container host Compiler: gcc 14.2.1 20241104 (Red Hat 14.2.1-6) Fedora 40 (ARM Clang) Kernel: Depends on container host Compiler: clang 18.1.8 (Fedora 18.1.8-1.fc40) Fedora 40 (ARM) Kernel: Depends on container host Compiler: gcc 14.2.1 20240912 (Red Hat 14.2.1-3) RHEL9 (ARM) Kernel: Depends on container host Compiler: gcc 11.5.0 20240719 (Red Hat 11.5.0-2) Fedora 41 (ARM Clang) Kernel: Depends on container host Compiler: clang 19.1.5 (Fedora 19.1.5-1.fc41) Fedora 41 (ARM) Kernel: Depends on container host Compiler: gcc 14.2.1 20240912 (Red Hat 14.2.1-3) Ubuntu 22.04 (ARM) Kernel: Depends on container host Compiler: gcc (Ubuntu 11.4.0-1ubuntu1~22.04) 11.4.0 Ubuntu 20.04 (ARM) Kernel: Depends on container host Compiler: gcc (Ubuntu 9.4.0-1ubuntu1~20.04.2) 9.4.0 Ubuntu 24.04 (ARM) Kernel: Depends on container host Compiler: gcc (Ubuntu 13.3.0-6ubuntu2~24.04) 13.3.0 32-bit Ubuntu 22.04.4 (ARM) Kernel: 5.15.83+ aarch64 Compiler: gcc (Ubuntu 11.4.0-1ubuntu1~22.04) 11.4.0 To view detailed results, visit: https://lab.dpdk.org/results/dashboard/patchsets/33145/ UNH-IOL DPDK Community Lab To manage your email subscriptions, visit: https://lab.dpdk.org/results/dashboard/preferences/subscriptions/