From mboxrd@z Thu Jan 1 00:00:00 1970 Return-Path: Received: from mails.dpdk.org (mails.dpdk.org [217.70.189.124]) by inbox.dpdk.org (Postfix) with ESMTP id B45F7466FE for ; Fri, 9 May 2025 11:05:58 +0200 (CEST) Received: from mails.dpdk.org (localhost [127.0.0.1]) by mails.dpdk.org (Postfix) with ESMTP id 8FFA84026C; Fri, 9 May 2025 11:05:58 +0200 (CEST) Received: from mail-pj1-f100.google.com (mail-pj1-f100.google.com [209.85.216.100]) by mails.dpdk.org (Postfix) with ESMTP id 682904026B for ; Fri, 9 May 2025 11:05:57 +0200 (CEST) Received: by mail-pj1-f100.google.com with SMTP id 98e67ed59e1d1-30a8cbddce3so1722130a91.1 for ; Fri, 09 May 2025 02:05:57 -0700 (PDT) DKIM-Signature: v=1; a=rsa-sha256; c=relaxed/relaxed; d=iol.unh.edu; s=unh-iol; t=1746781556; x=1747386356; darn=dpdk.org; h=cc:to:from:subject:message-id:date:from:to:cc:subject:date :message-id:reply-to; bh=+GVpIVxy1gtrKDHM0Epknve2zuffxc/8mM9AYdJVnhA=; b=brBzYg7fWUAH1pr6jfvGmEfzPSHPotdyKkhUUr72eYffGH09K8W3y3IquYjdjTQVey bIxAtgSD1MLPl17v2rMjQ8GDbUpCfu1q5B1NeF2HJXdve/m34p4ZAbPo5evzmPOUjoD3 qXBwTaniOhcE1/8zVg8W8BkXEUWftMq74a+RE= X-Google-DKIM-Signature: v=1; a=rsa-sha256; c=relaxed/relaxed; d=1e100.net; s=20230601; t=1746781556; x=1747386356; h=cc:to:from:subject:message-id:date:x-gm-message-state:from:to:cc :subject:date:message-id:reply-to; bh=+GVpIVxy1gtrKDHM0Epknve2zuffxc/8mM9AYdJVnhA=; b=HvPRmbUWZQXc/7QJzyrlrdJ4aCAjsNJxv8wuNh1enXIcfdARM7vFZ6Y44E3nXWgCEn JCWNLzSN2LTqD1Cebmgckvv+mWcNN7KcFwWLScrOHVlraF0rgpJOBp9Wd25aojlHXUzW B93V4FEgk5487wpNLFGGBR5loa69Ba95pyjOhkRJ49yJg+e7VDsKK8wM6NWzKAt64usF iJHiQWTwoUPhGS8lkn9Jx588uCKesiwLKWbWYVAik0TU0y01QG7M896+jfal+NTST4XI EZpxSPW67jAAgcQGy288WS6tqJfpqqvyVtXqA1zkQKQcVR7W0lw/Jus/anK7Xcui1HbG IUMA== X-Gm-Message-State: AOJu0YwFCykJBPcRoQQwB9YP24jK9CaeIIyjndApsZK86BV8INVL1wF8 1R2uMqvjIPQbFwOEk92jv8Hg9i+V9YGUo3cf4UaGuLQNErQFbKKHKDfkj1+2vqtNoRYnk13nrkz CsbSa5bVdr88jhRMNjHd3lGsTVb/ojVZa X-Gm-Gg: ASbGncs8N5hynbLhKFfcMBe6k8bxRC52dTD4qJ6yeAOmMrUJArhhIzbDXBnEtL9+4hj ZaS/tX8qq1p3ZRHglMg2Rnr1IzexZI75VEFTyaVreY2b2VCvgI6Xn39/Hfd2IQ5t9ImW89iIMNn aAvy40qFIcM3hMrK7orqNXipz+6ifFzulyil5TJwoJVzc1nQUoEzdBPFcw1vEDhfYL55MUnCN/1 36ZDxvjE2WHqJAOS6HkW6i7Fpwn8AXfBmC0e5d7+RXJngEPcIOST9a9+4feqUJ3lwd5YxeoHGcH W5jhOOBCUBlW9WoI6fh3WlPa60a48w81RVwi/aCZ4O0MR2ikBZWQ/jIE9HA= X-Google-Smtp-Source: AGHT+IH+c29FcVVq1W1scNc4pPn+dK+j3APnzfc344XHCfK6vqie1XOw4+gmfFk7dmRxXcrc9YyTxMjLcmxO X-Received: by 2002:a17:90b:3810:b0:309:fe2b:306f with SMTP id 98e67ed59e1d1-30c3d646618mr3688018a91.26.1746781556425; Fri, 09 May 2025 02:05:56 -0700 (PDT) Received: from postal.iol.unh.edu (postal.iol.unh.edu. [132.177.123.84]) by smtp-relay.gmail.com with ESMTPS id 98e67ed59e1d1-30c39e5e333sm103346a91.13.2025.05.09.02.05.56 (version=TLS1_2 cipher=ECDHE-ECDSA-AES128-GCM-SHA256 bits=128/128); Fri, 09 May 2025 02:05:56 -0700 (PDT) X-Relaying-Domain: iol.unh.edu Date: Fri, 09 May 2025 02:05:56 -0700 (PDT) Message-ID: <681dc574.170a0220.325aae.5c4cSMTPIN_ADDED_MISSING@mx.google.com> Received: from [172.21.0.5] (unknown [172.18.0.240]) by postal.iol.unh.edu (Postfix) with ESMTP id 94C6D6052471; Fri, 9 May 2025 05:05:55 -0400 (EDT) Subject: |SUCCESS| [GIT MASTER] 83a7a648344674c0269fcaeb71d8d16468421a0e From: dpdklab@iol.unh.edu To: Test Report Cc: dpdk-test-reports@iol.unh.edu, Xueming Li , Christian Ehrhardt , Kevin Traynor , Luca Boccassi Content-Type: text/plain X-BeenThere: test-report@dpdk.org X-Mailman-Version: 2.1.29 Precedence: list List-Id: automatic DPDK test reports List-Unsubscribe: , List-Archive: List-Post: List-Help: List-Subscribe: , Errors-To: test-report-bounces@dpdk.org _Testing PASS_ Branch: tags/v23.11 83a7a648344674c0269fcaeb71d8d16468421a0e --> testing pass Upstream job id: ACVP-FIPS-testing#9763 Test environment and result as below: +--------------------+----------------------+----------------------+ | Environment | compressdev_zlib_pmd | dpdk_fips_validation | +====================+======================+======================+ | Ubuntu 22.04 (ARM) | PASS | SKIPPED | +--------------------+----------------------+----------------------+ | Ubuntu 22.04 | PASS | SKIPPED | +--------------------+----------------------+----------------------+ | Ubuntu 20.04 | SKIPPED | PASS | +--------------------+----------------------+----------------------+ Ubuntu 22.04 (ARM) Kernel: 5.15.0-97-generic Compiler: gcc gcc (Ubuntu 11.4.0-1ubuntu1~22.04) 11.4.0 Ubuntu 22.04 Kernel: 5.15.0-100-generic Compiler: gcc gcc (Ubuntu 11.4.0-1ubuntu1~22.04) 11.4.0 Ubuntu 20.04 Kernel: Depends on container host Compiler: gcc (Ubuntu 9.4.0-1ubuntu1~20.04.2) 9.4.0 To view detailed results, visit: https://lab.dpdk.org/results/dashboard/tarballs/33483/ UNH-IOL DPDK Community Lab To manage your email subscriptions, visit: https://lab.dpdk.org/results/dashboard/preferences/subscriptions/