From mboxrd@z Thu Jan 1 00:00:00 1970 Return-Path: Received: from mails.dpdk.org (mails.dpdk.org [217.70.189.124]) by inbox.dpdk.org (Postfix) with ESMTP id 40CDD466FE for ; Fri, 9 May 2025 11:11:41 +0200 (CEST) Received: from mails.dpdk.org (localhost [127.0.0.1]) by mails.dpdk.org (Postfix) with ESMTP id 1757A4026C; Fri, 9 May 2025 11:11:41 +0200 (CEST) Received: from mail-pf1-f228.google.com (mail-pf1-f228.google.com [209.85.210.228]) by mails.dpdk.org (Postfix) with ESMTP id 43AA84026B for ; Fri, 9 May 2025 11:11:40 +0200 (CEST) Received: by mail-pf1-f228.google.com with SMTP id d2e1a72fcca58-7376e311086so2812795b3a.3 for ; Fri, 09 May 2025 02:11:40 -0700 (PDT) DKIM-Signature: v=1; a=rsa-sha256; c=relaxed/relaxed; d=iol.unh.edu; s=unh-iol; t=1746781899; x=1747386699; darn=dpdk.org; h=references:in-reply-to:cc:to:from:subject:message-id:date:from:to :cc:subject:date:message-id:reply-to; bh=VwynVNBuEDxhDWPdGpXqLO++5m/QTyUuRS4VznyVgVY=; b=PjcuEzkvvYOafS2XPI8jDLryT1OqbpBgd4uaR2E+jnVCnHZRLPOrASh5921k04YCTz of9ulZ/upblYs9Yc2gWcQSLF/U5P5iLm2CEvhr5vO3eOgPJulAz6zGixj+0UHyJXVpTk Pjcz6m4ISPho/rbgzAhllSrggyadro0wSq6fc= X-Google-DKIM-Signature: v=1; a=rsa-sha256; c=relaxed/relaxed; d=1e100.net; s=20230601; t=1746781899; x=1747386699; h=references:in-reply-to:cc:to:from:subject:message-id:date :x-gm-message-state:from:to:cc:subject:date:message-id:reply-to; bh=VwynVNBuEDxhDWPdGpXqLO++5m/QTyUuRS4VznyVgVY=; b=VnVkL7WJ+ofjxLJ9UdXhxLUkhwujSgbAGlSmKErlv1ldVtWRiTsBJlWOQJAT1TeB7Q R/TpbxmBYT7fTC2kayvYsGWILvp7nHu4nN5V37QtmnF4Wm37SuckTQLu3eh4wp6dJD1n w00ezi6pVssKsVQnja2HDG/DGhH5CrNaamJt0M/Xm7DjNg+sRl8vL73LTZgxlCvVx6WQ fuyJyB4VA2u1c3fPJ92a/Cw6anMWVoFsG2N5nSlseT9jQ691jS8mI+opYnfOnj43XjOI 9vqV3KM13wGC32414nJRbokdUT2mrqMsORdZTnIS0p4bhhHt113vK4fxBaSr7MuDowjl FrGQ== X-Gm-Message-State: AOJu0Yx8ovPCaQzO0DnRG6Ct8wPFRPF8M3lhR3fwdoiuizbfht9kaHeF dwv9G1xm/gM1c9tWYxL9S8jRg4dRcSi6GFAhNyWUhfgqZbxy4TQG+8RCr9gS4rQ4NSOut2maqbf DmFiWSsSQcMpXf27g8PKHXhcKIIhzE6ed/lpLa0yCejdMk5GlAonx5vTv X-Gm-Gg: ASbGnctnBscpzGILA5R9ClSkG55pQlbmCsisDFWaqt1N+SFOWaJsRjJzcP7VTCBCx4u 1VyDca5xJAC9Cc6c85j/1mdm9JcnPvPnNQ4drvdClYfZCCTrPiXMMBHESPreNYjfRyja/+is0nV kHC0N+2RXJkHwf4ukWze2JJiDv5QHiZ4FLOwCo6zcJeTsaF9DtGEKPybs+lXMZtqrrrZRhigV2s siLFWkq67jhJpFZlTTKSqn1xV3HVnufw4EJRA8agux9B2xgfhi84dE7UGcb4B+/kASWQewXLMVG iPuyCn0wKn/yv6Y7jVaUbXrSdUOm/bgXSTpo X-Google-Smtp-Source: AGHT+IGddgkGhtLC/06/0hhTeIgxlGOnmrOOdgh/Yj1Y4Z8B7DhhwP+cNp7ufyPtks5hZhKHo+JQ6ybaUOML X-Received: by 2002:a05:6a00:f0b:b0:737:6fdf:bb69 with SMTP id d2e1a72fcca58-7423be92b53mr3364876b3a.13.1746781899071; Fri, 09 May 2025 02:11:39 -0700 (PDT) Received: from postal.iol.unh.edu (postal.iol.unh.edu. [2606:4100:3880:1234::84]) by smtp-relay.gmail.com with ESMTPS id d2e1a72fcca58-74237761f17sm87049b3a.14.2025.05.09.02.11.38 (version=TLS1_2 cipher=ECDHE-ECDSA-AES128-GCM-SHA256 bits=128/128); Fri, 09 May 2025 02:11:39 -0700 (PDT) X-Relaying-Domain: iol.unh.edu Date: Fri, 09 May 2025 02:11:39 -0700 (PDT) Message-ID: <681dc6cb.050a0220.20ea5e.4bdeSMTPIN_ADDED_MISSING@mx.google.com> Received: from [172.21.0.5] (unknown [172.18.0.240]) by postal.iol.unh.edu (Postfix) with ESMTP id 3BDBF6052471; Fri, 9 May 2025 05:11:38 -0400 (EDT) Subject: |SUCCESS| pw153363-153369 [PATCH] [v1,7/7] event/dlb2: fix default c From: dpdklab@iol.unh.edu To: Test Report Cc: dpdk-test-reports@iol.unh.edu In-Reply-To: <20250509042401.2634765-8-pravin.pathak@intel.com> References: <20250509042401.2634765-8-pravin.pathak@intel.com> Content-Type: text/plain X-BeenThere: test-report@dpdk.org X-Mailman-Version: 2.1.29 Precedence: list List-Id: automatic DPDK test reports List-Unsubscribe: , List-Archive: List-Post: List-Help: List-Subscribe: , Errors-To: test-report-bounces@dpdk.org Test-Label: iol-abi-testing Test-Status: SUCCESS http://dpdk.org/patch/153369 _Testing PASS_ Submitter: Pravin Pathak Date: Friday, May 09 2025 04:24:01 DPDK git baseline: Repo:dpdk Branch: master CommitID:2a5c6c4709c9a23feb92ed1325945cb459884b4f 153363-153369 --> testing pass Upstream job id: Generic-DPDK-Compile-ABI#125847 Test environment and result as below: +-------------------+----------+ | Environment | abi_test | +===================+==========+ | CentOS Stream 9 | PASS | +-------------------+----------+ | CentOS Stream 10 | PASS | +-------------------+----------+ | Fedora 40 (Clang) | PASS | +-------------------+----------+ | Fedora 41 | PASS | +-------------------+----------+ | Fedora 40 | PASS | +-------------------+----------+ | Fedora 41 (Clang) | PASS | +-------------------+----------+ | RHEL8 | PASS | +-------------------+----------+ | openSUSE Leap 15 | PASS | +-------------------+----------+ | RHEL9 | PASS | +-------------------+----------+ | Ubuntu 22.04 | PASS | +-------------------+----------+ | Ubuntu 24.04 | PASS | +-------------------+----------+ | Debian 12 | PASS | +-------------------+----------+ CentOS Stream 9 Kernel: Depends on container host Compiler: gcc 11.5.0 20240719 (Red Hat 11.5.0-2) CentOS Stream 10 Kernel: Depends on container host Compiler: gcc 14.2.1 20241104 (Red Hat 14.2.1-6) Fedora 40 (Clang) Kernel: Depends on container host Compiler: clang 18.1.8 (Fedora 18.1.8-1.fc40) Fedora 41 Kernel: Depends on container host Compiler: gcc 14.2.1 20240912 (Red Hat 14.2.1-3) Fedora 40 Kernel: Depends on container host Compiler: gcc 14.2.1 20240912 (Red Hat 14.2.1-3) Fedora 41 (Clang) Kernel: Depends on container host Compiler: clang 19.1.5 (Fedora 19.1.5-1.fc41) RHEL8 Kernel: Depends on container host Compiler: gcc 8.5.0 20210514 (Red Hat 8.5.0-22) openSUSE Leap 15 Kernel: Depends on container host Compiler: gcc (SUSE Linux) 7.5.0 RHEL9 Kernel: Depends on container host Compiler: gcc 11.5.0 20240719 (Red Hat 11.5.0-2) Ubuntu 22.04 Kernel: Depends on container host Compiler: gcc (Ubuntu 11.4.0-1ubuntu1~22.04) 11.4.0 Ubuntu 24.04 Kernel: Depends on container host Compiler: gcc (Ubuntu 13.3.0-6ubuntu2~24.04) 13.3.0 Debian 12 Kernel: Depends on container host Compiler: gcc (Debian 12.2.0-14) 12.2.0 To view detailed results, visit: https://lab.dpdk.org/results/dashboard/patchsets/33145/ UNH-IOL DPDK Community Lab To manage your email subscriptions, visit: https://lab.dpdk.org/results/dashboard/preferences/subscriptions/