From mboxrd@z Thu Jan 1 00:00:00 1970 Return-Path: Received: from mails.dpdk.org (mails.dpdk.org [217.70.189.124]) by inbox.dpdk.org (Postfix) with ESMTP id 3665B466FE for ; Fri, 9 May 2025 11:23:11 +0200 (CEST) Received: from mails.dpdk.org (localhost [127.0.0.1]) by mails.dpdk.org (Postfix) with ESMTP id 225004026C; Fri, 9 May 2025 11:23:11 +0200 (CEST) Received: from mail-pg1-f226.google.com (mail-pg1-f226.google.com [209.85.215.226]) by mails.dpdk.org (Postfix) with ESMTP id C5E9D4026B for ; Fri, 9 May 2025 11:23:09 +0200 (CEST) Received: by mail-pg1-f226.google.com with SMTP id 41be03b00d2f7-b239763eeddso493433a12.1 for ; Fri, 09 May 2025 02:23:09 -0700 (PDT) DKIM-Signature: v=1; a=rsa-sha256; c=relaxed/relaxed; d=iol.unh.edu; s=unh-iol; t=1746782589; x=1747387389; darn=dpdk.org; h=references:in-reply-to:cc:to:from:subject:message-id:date:from:to :cc:subject:date:message-id:reply-to; bh=/lkvuu2EJL8N8U458m6BrovqesB9BERxzp64pWLNjcI=; b=dbG3OmNZFDXTm0h5tP5+ySUdB21YgN0uQndHm80gF8YdpNOZjt85p0k4pvaJcgGxeL WPZnEnzHrzVMIOUCzzOdpqVotIFwuE+zIkPgM0pLf12/K/Wj1kXaE870EuP6TUbuj9Qm 4MGyZ7GdZROeAo77qp4ma5fkF0eSzldY1ngB0= X-Google-DKIM-Signature: v=1; a=rsa-sha256; c=relaxed/relaxed; d=1e100.net; s=20230601; t=1746782589; x=1747387389; h=references:in-reply-to:cc:to:from:subject:message-id:date :x-gm-message-state:from:to:cc:subject:date:message-id:reply-to; bh=/lkvuu2EJL8N8U458m6BrovqesB9BERxzp64pWLNjcI=; b=YBS6T8qPHiGn69plngZ07nf9Ai911YPlKx1kOZzJSGamOYkbUi3WxtnJWR9GBAfiKV M7Twqh7uTBu7bipGXuoRsEFmis34Y0B8HSmlOQZp4YXVRXJ3/oLWzTOLXaPBrW7b25DL qwe5UrQ6g/8UCQFcw/gkZUQ3iZdLpAaxf8DcsMFiw338Wpd+LYl1Uh9UB+MCm2F46nen yoKIiSC0WdJb9jvPl51MLKJJYNLgTljV64+DbaHzLNjKto3myU2zTn+yhbIiptuT1LV+ yucY2Lckp06fQxqKisEoWr2OSv9Jzn1Zt98zUYvezv+9FmztH6H5vQiltFtdQ+tcqdt1 anWQ== X-Gm-Message-State: AOJu0Yy2cz5BqCzXSjUishu01gXJvrF5iXtoAA/hhKA2ctLNlYMkeMpa MeBSoBad2wK7cISbmInLvLNbeQ70vZqykAfSi3YP7WMV7v9tsMvk2KpARGcpThw7OOHjZV6RsOV WjZyzBnXPBMtUSXQ6H8/LnXyH+E+Q1NCNNaL/KD1R X-Gm-Gg: ASbGncuXaVVANclt1PRia/be3cky9720gIFjQTHgmLGN7nL2eYzD/OT0G9JrbW/QYCg Owy0OEmca89xkOXKRztAXvuXkpE34ktv/Skul2MP0Rcdm9RendR/+1VEToN7sriYCRUvt4Jch8k S/85ndmrKgxNgyEMaGkoV+6hjntRoXQN84B+74E73fcvLxWuVKktrq5F2B5zaDLmvl0xr5xmxuO QjXVu/yrzgiflXs14Y6V9YOL0M2dLEWPI8pBrRBFmTHiurRAOha/6ZDpmm+TDKE971qHjVF5Y4/ 4HfDYTEDNIJ9GZrLn13vWSOzEYg3lfgnh1+1RHm30n1NbGSm9yLmGeQflpE= X-Google-Smtp-Source: AGHT+IGFjicPyobImIhmo/kNOv94bKbgNUz598hdf+gK4/FYm9zxRHc+jAeUkzb3A5vwpFkh0eoH8n8fT2Y6 X-Received: by 2002:a17:903:194f:b0:21f:6a36:7bf3 with SMTP id d9443c01a7336-22fc8b3ad6fmr48956875ad.12.1746782588752; Fri, 09 May 2025 02:23:08 -0700 (PDT) Received: from postal.iol.unh.edu (postal.iol.unh.edu. [132.177.123.84]) by smtp-relay.gmail.com with ESMTPS id d9443c01a7336-22fc5a26427sm839645ad.35.2025.05.09.02.23.08 (version=TLS1_2 cipher=ECDHE-ECDSA-AES128-GCM-SHA256 bits=128/128); Fri, 09 May 2025 02:23:08 -0700 (PDT) X-Relaying-Domain: iol.unh.edu Date: Fri, 09 May 2025 02:23:08 -0700 (PDT) Message-ID: <681dc97c.170a0220.8cdd9.4a35SMTPIN_ADDED_MISSING@mx.google.com> Received: from [172.21.0.5] (unknown [172.18.0.240]) by postal.iol.unh.edu (Postfix) with ESMTP id DEDA16052471; Fri, 9 May 2025 05:23:07 -0400 (EDT) Subject: |SUCCESS| pw153363-153369 [PATCH] [v1,7/7] event/dlb2: fix default c From: dpdklab@iol.unh.edu To: Test Report Cc: dpdk-test-reports@iol.unh.edu In-Reply-To: <20250509042401.2634765-8-pravin.pathak@intel.com> References: <20250509042401.2634765-8-pravin.pathak@intel.com> Content-Type: text/plain X-BeenThere: test-report@dpdk.org X-Mailman-Version: 2.1.29 Precedence: list List-Id: automatic DPDK test reports List-Unsubscribe: , List-Archive: List-Post: List-Help: List-Subscribe: , Errors-To: test-report-bounces@dpdk.org Test-Label: iol-unit-amd64-testing Test-Status: SUCCESS http://dpdk.org/patch/153369 _Testing PASS_ Submitter: Pravin Pathak Date: Friday, May 09 2025 04:24:01 DPDK git baseline: Repo:dpdk Branch: master CommitID:2a5c6c4709c9a23feb92ed1325945cb459884b4f 153363-153369 --> testing pass Upstream job id: Generic-Unit-Test-DPDK#336703 Test environment and result as below: +---------------------+----------------+ | Environment | dpdk_unit_test | +=====================+================+ | CentOS Stream 9 | PASS | +---------------------+----------------+ | Debian 12 | PASS | +---------------------+----------------+ | CentOS Stream 10 | PASS | +---------------------+----------------+ | Fedora 41 | PASS | +---------------------+----------------+ | RHEL9 | PASS | +---------------------+----------------+ | Fedora 40 | PASS | +---------------------+----------------+ | Fedora 40 (Clang) | PASS | +---------------------+----------------+ | Fedora 41 (Clang) | PASS | +---------------------+----------------+ | Ubuntu 20.04 | PASS | +---------------------+----------------+ | RHEL8 | PASS | +---------------------+----------------+ | Ubuntu 22.04 | PASS | +---------------------+----------------+ | Ubuntu 24.04 | PASS | +---------------------+----------------+ | Windows Server 2022 | PASS | +---------------------+----------------+ CentOS Stream 9 Kernel: Depends on container host Compiler: gcc 11.5.0 20240719 (Red Hat 11.5.0-2) Debian 12 Kernel: Depends on container host Compiler: gcc (Debian 12.2.0-14) 12.2.0 CentOS Stream 10 Kernel: Depends on container host Compiler: gcc 14.2.1 20241104 (Red Hat 14.2.1-6) Fedora 41 Kernel: Depends on container host Compiler: gcc 14.2.1 20240912 (Red Hat 14.2.1-3) RHEL9 Kernel: Depends on container host Compiler: gcc 11.5.0 20240719 (Red Hat 11.5.0-2) Fedora 40 Kernel: Depends on container host Compiler: gcc 14.2.1 20240912 (Red Hat 14.2.1-3) Fedora 40 (Clang) Kernel: Depends on container host Compiler: clang 18.1.8 (Fedora 18.1.8-1.fc40) Fedora 41 (Clang) Kernel: Depends on container host Compiler: clang 19.1.5 (Fedora 19.1.5-1.fc41) Ubuntu 20.04 Kernel: Depends on container host Compiler: gcc (Ubuntu 9.4.0-1ubuntu1~20.04.2) 9.4.0 RHEL8 Kernel: Depends on container host Compiler: gcc 8.5.0 20210514 (Red Hat 8.5.0-22) Ubuntu 22.04 Kernel: Depends on container host Compiler: gcc (Ubuntu 11.4.0-1ubuntu1~22.04) 11.4.0 Ubuntu 24.04 Kernel: Depends on container host Compiler: gcc (Ubuntu 13.3.0-6ubuntu2~24.04) 13.3.0 Windows Server 2022 Kernel: 10.0.20348.2031 Compiler: clang 15.0.7, gcc 14.1.0 (MinGW), and MSVC VS 19.39.33521 To view detailed results, visit: https://lab.dpdk.org/results/dashboard/patchsets/33145/ UNH-IOL DPDK Community Lab To manage your email subscriptions, visit: https://lab.dpdk.org/results/dashboard/preferences/subscriptions/