From mboxrd@z Thu Jan 1 00:00:00 1970 Return-Path: Received: from mails.dpdk.org (mails.dpdk.org [217.70.189.124]) by inbox.dpdk.org (Postfix) with ESMTP id E72D3466FE for ; Fri, 9 May 2025 11:43:04 +0200 (CEST) Received: from mails.dpdk.org (localhost [127.0.0.1]) by mails.dpdk.org (Postfix) with ESMTP id BC59B4026C; Fri, 9 May 2025 11:43:04 +0200 (CEST) Received: from mail-vk1-f225.google.com (mail-vk1-f225.google.com [209.85.221.225]) by mails.dpdk.org (Postfix) with ESMTP id CBB9E4026B for ; Fri, 9 May 2025 11:43:02 +0200 (CEST) Received: by mail-vk1-f225.google.com with SMTP id 71dfb90a1353d-523dc190f95so714538e0c.1 for ; Fri, 09 May 2025 02:43:02 -0700 (PDT) DKIM-Signature: v=1; a=rsa-sha256; c=relaxed/relaxed; d=iol.unh.edu; s=unh-iol; t=1746783782; x=1747388582; darn=dpdk.org; h=cc:to:from:subject:message-id:date:from:to:cc:subject:date :message-id:reply-to; bh=QN4dQcEp/B0j5jKBU6zKorYHLA2WclcwsjK65uuoimk=; b=BGILtRoIiIAS89ZZJst/zuk30w8OrMlUVmng5MNzj5CsWGckv/0ElZoUwppTzk+F+h XvVQNn88U3hp1syx8fibRDySlrPr94GN97utMSLg+N0LfaIviVzaQ0Yo4nqrJF0PX1AP 8gigt2SHkjAqIIwEsf44BpegBBqrd77NPloqo= X-Google-DKIM-Signature: v=1; a=rsa-sha256; c=relaxed/relaxed; d=1e100.net; s=20230601; t=1746783782; x=1747388582; h=cc:to:from:subject:message-id:date:x-gm-message-state:from:to:cc :subject:date:message-id:reply-to; bh=QN4dQcEp/B0j5jKBU6zKorYHLA2WclcwsjK65uuoimk=; b=IsY54Gn/HAx/pH0O3UCUBOghM+pg3Y/WtuR1iYSQYo7vmiCtOveugOHrsLs2OteRjP rlCGt6lBJtGG7LEoxQ41PPNOWoEOqHBa4mVxq09a4vm/MP/HGVfJvnRHFuwOytxctUpU 3nlIED95azZbV0kPkbLD00m6RC30gpb1C2YWxxUCBBwUHzSjUiAXTAN3wEr7IMTE287K SlsQrQVM/BJt/mbv2hk8xZM+u4kbXffoRJ14Mgmr+fkdyEGLmDrGO8NgB95WTGmh+Lyo XYolHtv81mmBoH77+uBgBP+rQbUEKO7fip6lU5Sp+X0fi5nxDIt1yclFkklE0u4GZwxX 4NxA== X-Gm-Message-State: AOJu0YyFbm7Eg6ZUaa/Mvxsi+xdJMNRid5IrEhNzOMQqDa0hLdk1jtYk Lely0ks/2sInVxEcRBiHBcz+fDgs2hdWGoVu8+PAUQZvcLMNrNPztVmFIXgk95OW8bBJ9P01EoR 4gyvpCgBpyrZbJV9e56fhE7EluClNOjEC X-Gm-Gg: ASbGncvfKuslyYnuCtZe6q9XZO9nDi0CZXsRvKIpMTbrd7WcoQusme8LF9iovunm5D3 WoAnKZQ8m2/h7xpeY60OpmdhsE4u6Y8XFW30bzJgEFc+pZhQ+6Rb7563e9f1/8Eqs4YLwfRn+HY MZFvv4jVPjLh11x6xgtWc68bJ6+ZS9w0LT1muRcXkxbP9yjj2lDd9nGI6YlqytbYPupF36jUY/Q BiFQttqHbLotS+vo42G9rKcAzMo+Io7kJ81Zp2EgK3TjOyJG96AWdU3hUIh1AVkKIkzWSxY8wwo kAnvCsQlREFHcQIRtB/WHmO9C+S8OvD9yBdw31N8/pfCErmMfdxkUq31oLs= X-Google-Smtp-Source: AGHT+IGI19VnwLor5d6D8CwfGIoRrBsR74BIvk75GRr7Vzg2IPAZLiGBbwNyhMOGQmWHBnSgF9XUCR9eI1kv X-Received: by 2002:a67:e7cc:0:b0:4de:ec1d:a990 with SMTP id ada2fe7eead31-4deed36909dmr2115430137.14.1746783781984; Fri, 09 May 2025 02:43:01 -0700 (PDT) Received: from postal.iol.unh.edu (postal.iol.unh.edu. [132.177.123.84]) by smtp-relay.gmail.com with ESMTPS id a1e0cc1a2514c-879f62b4528sm47223241.14.2025.05.09.02.43.01 (version=TLS1_2 cipher=ECDHE-ECDSA-AES128-GCM-SHA256 bits=128/128); Fri, 09 May 2025 02:43:01 -0700 (PDT) X-Relaying-Domain: iol.unh.edu Date: Fri, 09 May 2025 02:43:01 -0700 (PDT) Message-ID: <681dce25.050a0220.173e4.2a2bSMTPIN_ADDED_MISSING@mx.google.com> Received: from [172.21.0.5] (unknown [172.18.0.240]) by postal.iol.unh.edu (Postfix) with ESMTP id 5C9F96052471; Fri, 9 May 2025 05:43:01 -0400 (EDT) Subject: |SUCCESS| [GIT MASTER] 4c5634de9f933555bab9c64a533d3dca999071cd From: dpdklab@iol.unh.edu To: Test Report Cc: dpdk-test-reports@iol.unh.edu, Xueming Li , Christian Ehrhardt , Kevin Traynor , Luca Boccassi Content-Type: text/plain X-BeenThere: test-report@dpdk.org X-Mailman-Version: 2.1.29 Precedence: list List-Id: automatic DPDK test reports List-Unsubscribe: , List-Archive: List-Post: List-Help: List-Subscribe: , Errors-To: test-report-bounces@dpdk.org _Testing PASS_ Branch: tags/v24.11 4c5634de9f933555bab9c64a533d3dca999071cd --> testing pass Upstream job id: Generic-DPDK-Compile-Meson#386654 Test environment and result as below: +------------------------------------+--------------------+ | Environment | dpdk_meson_compile | +====================================+====================+ | RHEL9 (ARM) | PASS | +------------------------------------+--------------------+ | Ubuntu 20.04 ARM SVE | PASS | +------------------------------------+--------------------+ | Ubuntu 20.04 ARM GCC Cross Compile | PASS | +------------------------------------+--------------------+ | Debian 12 with MUSDK | PASS | +------------------------------------+--------------------+ | Fedora 40 (ARM) | PASS | +------------------------------------+--------------------+ | Fedora 40 (ARM Clang) | PASS | +------------------------------------+--------------------+ | Fedora 41 (ARM) | PASS | +------------------------------------+--------------------+ | Ubuntu 24.04 (ARM) | PASS | +------------------------------------+--------------------+ | Fedora 41 (ARM Clang) | PASS | +------------------------------------+--------------------+ | Ubuntu 22.04 (ARM) | PASS | +------------------------------------+--------------------+ | Ubuntu 20.04 (ARM) | PASS | +------------------------------------+--------------------+ | CentOS Stream 9 (ARM) | PASS | +------------------------------------+--------------------+ | CentOS Stream 10 (ARM) | PASS | +------------------------------------+--------------------+ | Debian 12 (arm) | PASS | +------------------------------------+--------------------+ RHEL9 (ARM) Kernel: Depends on container host Compiler: gcc 11.5.0 20240719 (Red Hat 11.5.0-2) Ubuntu 20.04 ARM SVE Kernel: Depends on container host Compiler: gcc (Ubuntu 10.5.0-1ubuntu1~20.04) 10.5.0 Ubuntu 20.04 ARM GCC Cross Compile Kernel: Depends on container host Compiler: aarch64-linux-gnu-gcc (Ubuntu 9.4.0-1ubuntu1~20.04.2) 9.4.0 Debian 12 with MUSDK Kernel: Depends on container host Compiler: gcc (Debian 12.2.0-14) 12.2.0 Fedora 40 (ARM) Kernel: Depends on container host Compiler: gcc 14.2.1 20240912 (Red Hat 14.2.1-3) Fedora 40 (ARM Clang) Kernel: Depends on container host Compiler: clang 18.1.8 (Fedora 18.1.8-1.fc40) Fedora 41 (ARM) Kernel: Depends on container host Compiler: gcc 14.2.1 20240912 (Red Hat 14.2.1-3) Ubuntu 24.04 (ARM) Kernel: Depends on container host Compiler: gcc (Ubuntu 13.3.0-6ubuntu2~24.04) 13.3.0 Fedora 41 (ARM Clang) Kernel: Depends on container host Compiler: clang 19.1.5 (Fedora 19.1.5-1.fc41) Ubuntu 22.04 (ARM) Kernel: Depends on container host Compiler: gcc (Ubuntu 11.4.0-1ubuntu1~22.04) 11.4.0 Ubuntu 20.04 (ARM) Kernel: Depends on container host Compiler: gcc (Ubuntu 9.4.0-1ubuntu1~20.04.2) 9.4.0 CentOS Stream 9 (ARM) Kernel: Depends on container host Compiler: gcc 11.5.0 20240719 (Red Hat 11.5.0-2) CentOS Stream 10 (ARM) Kernel: Depends on container host Compiler: gcc 14.2.1 20241104 (Red Hat 14.2.1-6) Debian 12 (arm) Kernel: Depends on container host Compiler: gcc (Debian 12.2.0-14) 12.2.0 To view detailed results, visit: https://lab.dpdk.org/results/dashboard/tarballs/33482/ UNH-IOL DPDK Community Lab To manage your email subscriptions, visit: https://lab.dpdk.org/results/dashboard/preferences/subscriptions/