From mboxrd@z Thu Jan 1 00:00:00 1970 Return-Path: Received: from mails.dpdk.org (mails.dpdk.org [217.70.189.124]) by inbox.dpdk.org (Postfix) with ESMTP id 2D449466FF for ; Fri, 9 May 2025 12:07:23 +0200 (CEST) Received: from mails.dpdk.org (localhost [127.0.0.1]) by mails.dpdk.org (Postfix) with ESMTP id 15C854026C; Fri, 9 May 2025 12:07:23 +0200 (CEST) Received: from mail-qk1-f228.google.com (mail-qk1-f228.google.com [209.85.222.228]) by mails.dpdk.org (Postfix) with ESMTP id A06B84026B for ; Fri, 9 May 2025 12:07:22 +0200 (CEST) Received: by mail-qk1-f228.google.com with SMTP id af79cd13be357-7c5b8d13f73so249299385a.0 for ; Fri, 09 May 2025 03:07:22 -0700 (PDT) DKIM-Signature: v=1; a=rsa-sha256; c=relaxed/relaxed; d=iol.unh.edu; s=unh-iol; t=1746785242; x=1747390042; darn=dpdk.org; h=references:in-reply-to:cc:to:from:subject:message-id:date:from:to :cc:subject:date:message-id:reply-to; bh=VjhSm3tM8H6Azn4+mVhz7l8ylb0UECR1H7hDuiNMGZ8=; b=C4tXRfODOhpWYI4kyw+4CXmSUP9BWGxaL5q5TbCgQC+NZakMYMkLp3qHyXaBceuAeJ B2yiAB6cgKmA5rsag+Yw3E43eEzGxpwdFMcfKgockRyw68bxLPahLeld6FXCqvsRtLBI NMAJKapm9UPMY8Kl5gK+CJS+og+qkCNzuUHMk= X-Google-DKIM-Signature: v=1; a=rsa-sha256; c=relaxed/relaxed; d=1e100.net; s=20230601; t=1746785242; x=1747390042; h=references:in-reply-to:cc:to:from:subject:message-id:date :x-gm-message-state:from:to:cc:subject:date:message-id:reply-to; bh=VjhSm3tM8H6Azn4+mVhz7l8ylb0UECR1H7hDuiNMGZ8=; b=TOzqurWJ+DwKm9BuxmYpfWRpGu8eLygirOemZr8mhHr/ttR7ckjh+IOpCLfcgKKPV5 02LbXnbH3N3iYy9aFQBYDF6bTml/oHA1UxkE0HpfksTIbvsuXAFz8yksJ1By9GC1NptG OvVIIi/MIggOzpMitFlRPdKhE0YVyMr5be3UPynDvbRgEsqlHkGpfIdFkB6gtt4nl3NN www5sVynEjk5rEcS6FthAr/EI3RjQCrrrguBkWqut2WekD3/zg4cu+2JqjAXBEb82ZOY RYmXY0mIAhuZvod/pY4c6B8dNH4/UxG8xNjmer+H8s6uhQGzmdxgPJe3EFHY8SxMKXbu Z3Sw== X-Gm-Message-State: AOJu0YyhP/mxiKaw3EFCw9///BKeyCwivR2IgAEO7FSnABhNgownDJCV Ow1qEED/b/15xVhOk8D/ppzZGbFZELD1kvrtjm7MiPjj06HgfvNwTYH5S6ie+au09FDPYS+ppe9 GXkQz+D5Ina6KGbfn85587Hr9IGv3kSpym6moLatCnC5uwlyKeWwGumwl X-Gm-Gg: ASbGnctSvK8/b4jWzRHVQ1UZSvt8+1BIGuXziGncao1dkrBI2QxhJEPpDBQGskS0xc5 jLTJY0mVnshgp57IS1UV8+YaAxvtjH7aJDhRmfZIN82lBccewQfJt4M8WkGotUE1ERYxYie+svV 8kWWZa6AkW4m2ODLOxQLYJN0ti/dHOqqV57hS7JD7QE/A6TqkpmKi6dUmB3OLPPtBvSCc7N27jY GZLo0JkFtmkFT0DV7dhtCyO0JnrXF6zrX5450M3pxAnpEQ/9dj8Dl2k1adA7kwt8sOS2dLOsfWR CT5Fy+jjxQ630PvxL09ZCZac/GuCRxxe5fk0 X-Google-Smtp-Source: AGHT+IHhFyVSW/SfGFwaPr46TElvAvLKBin/bFC90NBnHyFP2yb2ExqhSE2GVat6UtkBG8ktyP6+ErxTWXRC X-Received: by 2002:a05:620a:1786:b0:7ca:cd88:9b33 with SMTP id af79cd13be357-7cd01117362mr356467285a.28.1746785241935; Fri, 09 May 2025 03:07:21 -0700 (PDT) Received: from postal.iol.unh.edu (postal.iol.unh.edu. [2606:4100:3880:1234::84]) by smtp-relay.gmail.com with ESMTPS id af79cd13be357-7cd00f11f13sm5897085a.3.2025.05.09.03.07.21 (version=TLS1_2 cipher=ECDHE-ECDSA-AES128-GCM-SHA256 bits=128/128); Fri, 09 May 2025 03:07:21 -0700 (PDT) X-Relaying-Domain: iol.unh.edu Date: Fri, 09 May 2025 03:07:21 -0700 (PDT) Message-ID: <681dd3d9.050a0220.59de.349fSMTPIN_ADDED_MISSING@mx.google.com> Received: from [172.21.0.5] (unknown [172.18.0.240]) by postal.iol.unh.edu (Postfix) with ESMTP id 607766052471; Fri, 9 May 2025 06:07:21 -0400 (EDT) Subject: |SUCCESS| pw153363-153369 [PATCH] [v1,7/7] event/dlb2: fix default c From: dpdklab@iol.unh.edu To: Test Report Cc: dpdk-test-reports@iol.unh.edu In-Reply-To: <20250509042401.2634765-8-pravin.pathak@intel.com> References: <20250509042401.2634765-8-pravin.pathak@intel.com> Content-Type: text/plain X-BeenThere: test-report@dpdk.org X-Mailman-Version: 2.1.29 Precedence: list List-Id: automatic DPDK test reports List-Unsubscribe: , List-Archive: List-Post: List-Help: List-Subscribe: , Errors-To: test-report-bounces@dpdk.org Test-Label: iol-compile-amd64-testing Test-Status: SUCCESS http://dpdk.org/patch/153369 _Testing PASS_ Submitter: Pravin Pathak Date: Friday, May 09 2025 04:24:01 DPDK git baseline: Repo:dpdk Branch: master CommitID:2a5c6c4709c9a23feb92ed1325945cb459884b4f 153363-153369 --> testing pass Upstream job id: Generic-DPDK-Compile-Meson#386689 Test environment and result as below: +-----------------------------------+--------------------+-------------------+-------------------------+----------------------+-------------------+------------------+ | Environment | dpdk_meson_compile | dpdk_msvc_compile | dpdk_llvm_clang_compile | dpdk_mingw64_compile | dpdk_compile_spdk | dpdk_compile_ovs | +===================================+====================+===================+=========================+======================+===================+==================+ | Ubuntu 20.04 | PASS | SKIPPED | SKIPPED | SKIPPED | SKIPPED | SKIPPED | +-----------------------------------+--------------------+-------------------+-------------------------+----------------------+-------------------+------------------+ | FreeBSD 13.5 | PASS | SKIPPED | SKIPPED | SKIPPED | SKIPPED | SKIPPED | +-----------------------------------+--------------------+-------------------+-------------------------+----------------------+-------------------+------------------+ | FreeBSD 14.2 | PASS | SKIPPED | SKIPPED | SKIPPED | SKIPPED | SKIPPED | +-----------------------------------+--------------------+-------------------+-------------------------+----------------------+-------------------+------------------+ | CentOS Stream 9 | PASS | SKIPPED | SKIPPED | SKIPPED | PASS | SKIPPED | +-----------------------------------+--------------------+-------------------+-------------------------+----------------------+-------------------+------------------+ | CentOS Stream 10 | PASS | SKIPPED | SKIPPED | SKIPPED | SKIPPED | SKIPPED | +-----------------------------------+--------------------+-------------------+-------------------------+----------------------+-------------------+------------------+ | Debian 12 | PASS | SKIPPED | SKIPPED | SKIPPED | PASS | SKIPPED | +-----------------------------------+--------------------+-------------------+-------------------------+----------------------+-------------------+------------------+ | Fedora 40 (Clang) | PASS | SKIPPED | SKIPPED | SKIPPED | PASS | SKIPPED | +-----------------------------------+--------------------+-------------------+-------------------------+----------------------+-------------------+------------------+ | Fedora 40 | PASS | SKIPPED | SKIPPED | SKIPPED | PASS | SKIPPED | +-----------------------------------+--------------------+-------------------+-------------------------+----------------------+-------------------+------------------+ | Fedora 41 (Clang) | PASS | SKIPPED | SKIPPED | SKIPPED | PASS | PASS | +-----------------------------------+--------------------+-------------------+-------------------------+----------------------+-------------------+------------------+ | Fedora 41 | PASS | SKIPPED | SKIPPED | SKIPPED | PASS | PASS | +-----------------------------------+--------------------+-------------------+-------------------------+----------------------+-------------------+------------------+ | openSUSE Leap 15 | PASS | SKIPPED | SKIPPED | SKIPPED | SKIPPED | SKIPPED | +-----------------------------------+--------------------+-------------------+-------------------------+----------------------+-------------------+------------------+ | RHEL8 | PASS | SKIPPED | SKIPPED | SKIPPED | SKIPPED | SKIPPED | +-----------------------------------+--------------------+-------------------+-------------------------+----------------------+-------------------+------------------+ | RHEL9 | PASS | SKIPPED | SKIPPED | SKIPPED | SKIPPED | SKIPPED | +-----------------------------------+--------------------+-------------------+-------------------------+----------------------+-------------------+------------------+ | Ubuntu 22.04 | PASS | SKIPPED | SKIPPED | SKIPPED | PASS | SKIPPED | +-----------------------------------+--------------------+-------------------+-------------------------+----------------------+-------------------+------------------+ | Ubuntu 24.04 | PASS | SKIPPED | SKIPPED | SKIPPED | PASS | PASS | +-----------------------------------+--------------------+-------------------+-------------------------+----------------------+-------------------+------------------+ | Alpine | PASS | SKIPPED | SKIPPED | SKIPPED | SKIPPED | SKIPPED | +-----------------------------------+--------------------+-------------------+-------------------------+----------------------+-------------------+------------------+ | Ubuntu 24.04 32 Bit Cross Compile | PASS | SKIPPED | SKIPPED | SKIPPED | SKIPPED | SKIPPED | +-----------------------------------+--------------------+-------------------+-------------------------+----------------------+-------------------+------------------+ | Windows Server 2022 | SKIPPED | PASS | PASS | PASS | SKIPPED | SKIPPED | +-----------------------------------+--------------------+-------------------+-------------------------+----------------------+-------------------+------------------+ Ubuntu 20.04 Kernel: 4.19.325-0419325-generic Compiler: gcc (Ubuntu 9.4.0-1ubuntu1~20.04.2) 9.4.0 FreeBSD 13.5 Kernel: 13.5-RELEASE Compiler: clang 19.1.7 FreeBSD 14.2 Kernel: 14.2-RELEASE Compiler: clang 18.1.6 CentOS Stream 9 Kernel: Depends on container host Compiler: gcc 11.5.0 20240719 (Red Hat 11.5.0-2) CentOS Stream 10 Kernel: Depends on container host Compiler: gcc 14.2.1 20241104 (Red Hat 14.2.1-6) Debian 12 Kernel: Depends on container host Compiler: gcc (Debian 12.2.0-14) 12.2.0 Fedora 40 (Clang) Kernel: Depends on container host Compiler: clang 18.1.8 (Fedora 18.1.8-1.fc40) Fedora 40 Kernel: Depends on container host Compiler: gcc 14.2.1 20240912 (Red Hat 14.2.1-3) Fedora 41 (Clang) Kernel: Depends on container host Compiler: clang 19.1.5 (Fedora 19.1.5-1.fc41) Fedora 41 Kernel: Depends on container host Compiler: gcc 14.2.1 20240912 (Red Hat 14.2.1-3) openSUSE Leap 15 Kernel: Depends on container host Compiler: gcc (SUSE Linux) 7.5.0 RHEL8 Kernel: Depends on container host Compiler: gcc 8.5.0 20210514 (Red Hat 8.5.0-22) RHEL9 Kernel: Depends on container host Compiler: gcc 11.5.0 20240719 (Red Hat 11.5.0-2) Ubuntu 22.04 Kernel: Depends on container host Compiler: gcc (Ubuntu 11.4.0-1ubuntu1~22.04) 11.4.0 Ubuntu 24.04 Kernel: Depends on container host Compiler: gcc (Ubuntu 13.3.0-6ubuntu2~24.04) 13.3.0 Alpine Kernel: Depends on container host Compiler: gcc (Alpine 14.2.0) 14.2.0 Ubuntu 24.04 32 Bit Cross Compile Kernel: Depends on container host Compiler: gcc (Ubuntu 13.3.0-6ubuntu2~24.04) 13.3.0 Windows Server 2022 Kernel: 10.0.20348.2031 Compiler: clang 15.0.7, gcc 14.1.0 (MinGW), and MSVC VS 19.39.33521 To view detailed results, visit: https://lab.dpdk.org/results/dashboard/patchsets/33145/ UNH-IOL DPDK Community Lab To manage your email subscriptions, visit: https://lab.dpdk.org/results/dashboard/preferences/subscriptions/