From mboxrd@z Thu Jan 1 00:00:00 1970 Return-Path: Received: from mails.dpdk.org (mails.dpdk.org [217.70.189.124]) by inbox.dpdk.org (Postfix) with ESMTP id 703A3466FF for ; Fri, 9 May 2025 12:09:57 +0200 (CEST) Received: from mails.dpdk.org (localhost [127.0.0.1]) by mails.dpdk.org (Postfix) with ESMTP id 525F94026C; Fri, 9 May 2025 12:09:57 +0200 (CEST) Received: from mail-pf1-f228.google.com (mail-pf1-f228.google.com [209.85.210.228]) by mails.dpdk.org (Postfix) with ESMTP id 253AE4026B for ; Fri, 9 May 2025 12:09:56 +0200 (CEST) Received: by mail-pf1-f228.google.com with SMTP id d2e1a72fcca58-7390d21bb1cso2008933b3a.2 for ; Fri, 09 May 2025 03:09:56 -0700 (PDT) DKIM-Signature: v=1; a=rsa-sha256; c=relaxed/relaxed; d=iol.unh.edu; s=unh-iol; t=1746785395; x=1747390195; darn=dpdk.org; h=references:in-reply-to:cc:to:from:subject:message-id:date:from:to :cc:subject:date:message-id:reply-to; bh=+1qCG3nCYx+nQzh8cJ0mdraCv8HCc8rWB2dRXjJuLBA=; b=iT3j5B1eQkF/byyhn3rqgMA5bdfOrN28dKMenJLFubREvxh8iu4ldRrJ0M91xLdszR 893YSWwQnub9rvTxVn9q6UuX61Nv8woVF1S/PdL1medLAQHHD/f7NwORjaeD39KGDlan uKPKOS/hbFAB82HfSSz9bnLHZeiBkZTXXfxss= X-Google-DKIM-Signature: v=1; a=rsa-sha256; c=relaxed/relaxed; d=1e100.net; s=20230601; t=1746785395; x=1747390195; h=references:in-reply-to:cc:to:from:subject:message-id:date :x-gm-message-state:from:to:cc:subject:date:message-id:reply-to; bh=+1qCG3nCYx+nQzh8cJ0mdraCv8HCc8rWB2dRXjJuLBA=; b=WCdRQqu/mw6RNPa0mBCgxmf6dIOcfNerdVIPOKBtUwv5Q+l5sLSQC6HrUrWO3SYwUn ySpAoX1TENUU5n1k2CpncLuvp3aWfltCQRiumvQD4qJu2N5slnHAktC6DzyDNMTChZGC d7p4IZWOqONTgNoY9J1RFuAQXblkKMsUG29nwIUmNC0J5LVdvQGxDrYeUfmF8ybwXgh8 sFFDrCkpm9/5LN7e6Oi9IM8UH8TgSuNmTcnVT7E8wtF4vq5mZhIkgsC2okcR18/IGWCx m5hW3jO8xAYrGBesB1texreP3bwDrGphRFTFcwxt/fdJ6qRBQyiLpNOQRdELrSdEtGCh akEg== X-Gm-Message-State: AOJu0YwPmypBVXK1Yu0Zm128r8yUgGiokyXB0u1tWgKYxfjYT2QEPZEX OSqZBmj7rlDdpygX0KemI5sREpi+padMUwXYmQUYhKuN7Ac/WMQWshs964ls1T04ZKJFNDxts96 5ARF3gwPoKVH9QT62QY6g9+GEQgPkOnPlJji6yWsE9Ifs8knFRn96432a X-Gm-Gg: ASbGncuglLCMABf4gL9Kn3tbxDH0Gisiswe6cuiYgSUpJQDZisTpj5+Dbuf8f6M0yDs mDRV4Gjjqt+WZBTEx4ucFwFMumwaiCUg6WCcrfsOE3+8o9gVFUNVlUycqAieptMWXm9tMhbDEto cCVvXY/HCFohMRDIaJx3EMmrvWJ9ayFJHCp2BJPeWlbF8xItGngQPbW58pPiTSV61xwGf1cNSlk s1ZczRCHAfJluBbQcxA7TmH8RSsJuyxIYnQ0xSmpysJTn1Ak3a1P4hkzH8IDtDhLR9XmQ/iVEBO wFeL9nhpYAs6Pbsvqew8UhUnav3Vuf4o7+rv X-Google-Smtp-Source: AGHT+IF3rZ/0UMdKmu4ZU8JWWdBE4kZ00YFFVOzbUt1ERvLP0BEioE/UebiP3v+n4ioNUtLigJc/cBVZNbia X-Received: by 2002:a17:903:2f8f:b0:221:78a1:27fb with SMTP id d9443c01a7336-22fc8b10800mr43253365ad.11.1746785394642; Fri, 09 May 2025 03:09:54 -0700 (PDT) Received: from postal.iol.unh.edu (postal.iol.unh.edu. [2606:4100:3880:1234::84]) by smtp-relay.gmail.com with ESMTPS id d9443c01a7336-22fc6f0b8f3sm901735ad.93.2025.05.09.03.09.54 (version=TLS1_2 cipher=ECDHE-ECDSA-AES128-GCM-SHA256 bits=128/128); Fri, 09 May 2025 03:09:54 -0700 (PDT) X-Relaying-Domain: iol.unh.edu Date: Fri, 09 May 2025 03:09:54 -0700 (PDT) Message-ID: <681dd472.170a0220.e6c50.4e7bSMTPIN_ADDED_MISSING@mx.google.com> Received: from [172.21.0.5] (unknown [172.18.0.240]) by postal.iol.unh.edu (Postfix) with ESMTP id 3CEFD6052471; Fri, 9 May 2025 06:09:53 -0400 (EDT) Subject: |SUCCESS| pw153370-153382 [PATCH] [v2,13/13] app/graph: add IP6 look From: dpdklab@iol.unh.edu To: Test Report Cc: dpdk-test-reports@iol.unh.edu In-Reply-To: <20250509064448.724019-14-adwivedi@marvell.com> References: <20250509064448.724019-14-adwivedi@marvell.com> Content-Type: text/plain X-BeenThere: test-report@dpdk.org X-Mailman-Version: 2.1.29 Precedence: list List-Id: automatic DPDK test reports List-Unsubscribe: , List-Archive: List-Post: List-Help: List-Subscribe: , Errors-To: test-report-bounces@dpdk.org Test-Label: iol-unit-arm64-testing Test-Status: SUCCESS http://dpdk.org/patch/153382 _Testing PASS_ Submitter: Ankur Dwivedi Date: Friday, May 09 2025 06:44:48 DPDK git baseline: Repo:dpdk Branch: master CommitID:75f179ebe347b6098cf3af26d3d3b7168fe3fe24 153370-153382 --> testing pass Upstream job id: Generic-Unit-Test-DPDK#336722 Test environment and result as below: +-----------------------------+----------------+---------------------------+------------------------------+--------------+ | Environment | dpdk_unit_test | cryptodev_sw_zuc_autotest | cryptodev_sw_snow3g_autotest | lpm_autotest | +=============================+================+===========================+==============================+==============+ | Fedora 40 (ARM) | PASS | SKIPPED | SKIPPED | SKIPPED | +-----------------------------+----------------+---------------------------+------------------------------+--------------+ | Debian 12 (arm) | PASS | PASS | PASS | SKIPPED | +-----------------------------+----------------+---------------------------+------------------------------+--------------+ | CentOS Stream 9 (ARM) | PASS | SKIPPED | SKIPPED | SKIPPED | +-----------------------------+----------------+---------------------------+------------------------------+--------------+ | CentOS Stream 10 (ARM) | PASS | SKIPPED | SKIPPED | SKIPPED | +-----------------------------+----------------+---------------------------+------------------------------+--------------+ | Ubuntu 22.04 (ARM) | PASS | SKIPPED | SKIPPED | SKIPPED | +-----------------------------+----------------+---------------------------+------------------------------+--------------+ | Ubuntu 20.04 (ARM) | PASS | SKIPPED | SKIPPED | SKIPPED | +-----------------------------+----------------+---------------------------+------------------------------+--------------+ | Fedora 41 (ARM) | PASS | SKIPPED | SKIPPED | SKIPPED | +-----------------------------+----------------+---------------------------+------------------------------+--------------+ | RHEL9 (ARM) | PASS | SKIPPED | SKIPPED | SKIPPED | +-----------------------------+----------------+---------------------------+------------------------------+--------------+ | Ubuntu 24.04 (ARM) | PASS | SKIPPED | SKIPPED | SKIPPED | +-----------------------------+----------------+---------------------------+------------------------------+--------------+ | Fedora 41 (ARM Clang) | PASS | SKIPPED | SKIPPED | SKIPPED | +-----------------------------+----------------+---------------------------+------------------------------+--------------+ | Fedora 40 (ARM Clang) | PASS | SKIPPED | SKIPPED | SKIPPED | +-----------------------------+----------------+---------------------------+------------------------------+--------------+ | 32-bit Ubuntu 22.04.4 (ARM) | PASS | SKIPPED | SKIPPED | SKIPPED | +-----------------------------+----------------+---------------------------+------------------------------+--------------+ | Ubuntu 20.04 ARM SVE | SKIPPED | SKIPPED | SKIPPED | PASS | +-----------------------------+----------------+---------------------------+------------------------------+--------------+ Fedora 40 (ARM) Kernel: Depends on container host Compiler: gcc 14.2.1 20240912 (Red Hat 14.2.1-3) Debian 12 (arm) Kernel: Depends on container host Compiler: gcc (Debian 12.2.0-14) 12.2.0 CentOS Stream 9 (ARM) Kernel: Depends on container host Compiler: gcc 11.5.0 20240719 (Red Hat 11.5.0-2) CentOS Stream 10 (ARM) Kernel: Depends on container host Compiler: gcc 14.2.1 20241104 (Red Hat 14.2.1-6) Ubuntu 22.04 (ARM) Kernel: Depends on container host Compiler: gcc (Ubuntu 11.4.0-1ubuntu1~22.04) 11.4.0 Ubuntu 20.04 (ARM) Kernel: Depends on container host Compiler: gcc (Ubuntu 9.4.0-1ubuntu1~20.04.2) 9.4.0 Fedora 41 (ARM) Kernel: Depends on container host Compiler: gcc 14.2.1 20240912 (Red Hat 14.2.1-3) RHEL9 (ARM) Kernel: Depends on container host Compiler: gcc 11.5.0 20240719 (Red Hat 11.5.0-2) Ubuntu 24.04 (ARM) Kernel: Depends on container host Compiler: gcc (Ubuntu 13.3.0-6ubuntu2~24.04) 13.3.0 Fedora 41 (ARM Clang) Kernel: Depends on container host Compiler: clang 19.1.5 (Fedora 19.1.5-1.fc41) Fedora 40 (ARM Clang) Kernel: Depends on container host Compiler: clang 18.1.8 (Fedora 18.1.8-1.fc40) 32-bit Ubuntu 22.04.4 (ARM) Kernel: 5.15.83+ aarch64 Compiler: gcc (Ubuntu 11.4.0-1ubuntu1~22.04) 11.4.0 Ubuntu 20.04 ARM SVE Kernel: Depends on container host Compiler: gcc (Ubuntu 10.5.0-1ubuntu1~20.04) 10.5.0 To view detailed results, visit: https://lab.dpdk.org/results/dashboard/patchsets/33146/ UNH-IOL DPDK Community Lab To manage your email subscriptions, visit: https://lab.dpdk.org/results/dashboard/preferences/subscriptions/