From mboxrd@z Thu Jan 1 00:00:00 1970 Return-Path: Received: from mails.dpdk.org (mails.dpdk.org [217.70.189.124]) by inbox.dpdk.org (Postfix) with ESMTP id CE892466FF for ; Fri, 9 May 2025 12:14:01 +0200 (CEST) Received: from mails.dpdk.org (localhost [127.0.0.1]) by mails.dpdk.org (Postfix) with ESMTP id ACC7B4026C; Fri, 9 May 2025 12:14:01 +0200 (CEST) Received: from mail-qk1-f227.google.com (mail-qk1-f227.google.com [209.85.222.227]) by mails.dpdk.org (Postfix) with ESMTP id 2281B4026B for ; Fri, 9 May 2025 12:14:01 +0200 (CEST) Received: by mail-qk1-f227.google.com with SMTP id af79cd13be357-7c96759d9dfso315689585a.3 for ; Fri, 09 May 2025 03:14:01 -0700 (PDT) DKIM-Signature: v=1; a=rsa-sha256; c=relaxed/relaxed; d=iol.unh.edu; s=unh-iol; t=1746785640; x=1747390440; darn=dpdk.org; h=references:in-reply-to:cc:to:from:subject:message-id:date:from:to :cc:subject:date:message-id:reply-to; bh=5Ym9sqjwv3gfhbwjizaQ5RPXHEOq6RPlXHpVoAvq7ms=; b=dVX4Kvr146/NLaTMjxcMESP9js7K55DgoUoqxoyGTEiloj0ZAg40Wst90QiHw2yfDz CKnTPvF52Dvk813HzOr8dJRRAVbHhDwIJVE+Cl3zwe7YKvpdnWQKDQmddyvxVJBozGK8 CA+H+Wf/8jf5RTjj5AZmJGEaO0TsdLQPGq2sI= X-Google-DKIM-Signature: v=1; a=rsa-sha256; c=relaxed/relaxed; d=1e100.net; s=20230601; t=1746785640; x=1747390440; h=references:in-reply-to:cc:to:from:subject:message-id:date :x-gm-message-state:from:to:cc:subject:date:message-id:reply-to; bh=5Ym9sqjwv3gfhbwjizaQ5RPXHEOq6RPlXHpVoAvq7ms=; b=UPAKfPa5nuhlnDCyaQxVFHEHd1IcgBIHMvgEXrGbzAiRzOK5LddPiA2pu4BznLeUiP xlBg3e9jHL6azdD7oBZ4yfhxlWjeqeyl4ZMwhtb8Wf7ey95VFPPIcRCkT6CHpd2ZVwVB gZkuf75MiimhLoy6SWjZ97hGwQNrMaKkjR+a+sLPGwH9eZ7tH74zCT3ag6As6IqnjfWU M3xw84UxmXy5PxvjgEuJq4YdQb1n2e65LTBJqugm/zzoGf+SZmPd/Ig3b+QJoS0aN7Mc vjVdp/ziTeC5RyW5ZOubSJ1Wu3PUObV3JEDp41aX7p5THFinU/k88PB8eb7VLV2aajXj t3Vg== X-Gm-Message-State: AOJu0YwtsxK9zX8z//S8Jt+U50yqES1c5ghWsNNP1Xew3ga5LzQ7IPC2 5kJjBfnnnykQcpkm/0XvQF+YDNaEgjxoifVsidGFWeEfHlzBBTKnfugVgDdCLsf4zBFdcOJolsc Dp4vfEtPOEXREDPlUImQ6eGOlxEy5c5IxBbLpwoYX X-Gm-Gg: ASbGncuKycozmbSMP37oEmuLNLx7aj2cs51iw97xWWk5R4JoEZVC3BGadLYi2Srnmet qgoxX5c+7/GCj/8MrJ6eIyMweEBwJEu0K25s222Au64vHfe6Qsr5OT7mKwy3+hoS+LHCY+9U6AZ tpHVnk6MoYKQ1T3QDBKTVvwdi4XIHDWyIAKXvvB6+UDlLmNyEdXpJGz2+1oApq+Cv9Ar4fLHliG VmlmseXjZ2XPCC5basHf7Gf1gdsYOYlzW9nxHtRgsz0kNtMcrkk+OnyGwRCtyVNkt1XFU7cgs3R /Md4muwV926iFQoikIzHNmeoaZzqnVcoPqUWwVW72zqCTE84dLPHmhL3Mu8= X-Google-Smtp-Source: AGHT+IHBVE9AyZoJMIBCzDXXdNhzlMtpwttx5zyWTUl2HhmKX4W8+BNU4vA2UN99XjpjeyW4ZuLBF5+953zT X-Received: by 2002:a05:620a:43a4:b0:7ca:f3c6:c0a1 with SMTP id af79cd13be357-7cd01155cb2mr484636085a.55.1746785640305; Fri, 09 May 2025 03:14:00 -0700 (PDT) Received: from postal.iol.unh.edu (postal.iol.unh.edu. [132.177.123.84]) by smtp-relay.gmail.com with ESMTPS id 6a1803df08f44-6f6e39e8512sm954566d6.10.2025.05.09.03.14.00 (version=TLS1_2 cipher=ECDHE-ECDSA-AES128-GCM-SHA256 bits=128/128); Fri, 09 May 2025 03:14:00 -0700 (PDT) X-Relaying-Domain: iol.unh.edu Date: Fri, 09 May 2025 03:14:00 -0700 (PDT) Message-ID: <681dd568.050a0220.334ac3.5607SMTPIN_ADDED_MISSING@mx.google.com> Received: from [172.21.0.5] (unknown [172.18.0.240]) by postal.iol.unh.edu (Postfix) with ESMTP id 04AAE6052471; Fri, 9 May 2025 06:14:00 -0400 (EDT) Subject: |SUCCESS| pw153370-153382 [PATCH] [v2,13/13] app/graph: add IP6 look From: dpdklab@iol.unh.edu To: Test Report Cc: dpdk-test-reports@iol.unh.edu In-Reply-To: <20250509064448.724019-14-adwivedi@marvell.com> References: <20250509064448.724019-14-adwivedi@marvell.com> Content-Type: text/plain X-BeenThere: test-report@dpdk.org X-Mailman-Version: 2.1.29 Precedence: list List-Id: automatic DPDK test reports List-Unsubscribe: , List-Archive: List-Post: List-Help: List-Subscribe: , Errors-To: test-report-bounces@dpdk.org Test-Label: iol-abi-testing Test-Status: SUCCESS http://dpdk.org/patch/153382 _Testing PASS_ Submitter: Ankur Dwivedi Date: Friday, May 09 2025 06:44:48 DPDK git baseline: Repo:dpdk Branch: master CommitID:75f179ebe347b6098cf3af26d3d3b7168fe3fe24 153370-153382 --> testing pass Upstream job id: Generic-DPDK-Compile-ABI#125861 Test environment and result as below: +-------------------+----------+ | Environment | abi_test | +===================+==========+ | CentOS Stream 9 | PASS | +-------------------+----------+ | Debian 12 | PASS | +-------------------+----------+ | CentOS Stream 10 | PASS | +-------------------+----------+ | Fedora 41 (Clang) | PASS | +-------------------+----------+ | Fedora 40 | PASS | +-------------------+----------+ | Fedora 40 (Clang) | PASS | +-------------------+----------+ | Fedora 41 | PASS | +-------------------+----------+ | openSUSE Leap 15 | PASS | +-------------------+----------+ | RHEL8 | PASS | +-------------------+----------+ | Ubuntu 24.04 | PASS | +-------------------+----------+ | RHEL9 | PASS | +-------------------+----------+ | Ubuntu 22.04 | PASS | +-------------------+----------+ CentOS Stream 9 Kernel: Depends on container host Compiler: gcc 11.5.0 20240719 (Red Hat 11.5.0-2) Debian 12 Kernel: Depends on container host Compiler: gcc (Debian 12.2.0-14) 12.2.0 CentOS Stream 10 Kernel: Depends on container host Compiler: gcc 14.2.1 20241104 (Red Hat 14.2.1-6) Fedora 41 (Clang) Kernel: Depends on container host Compiler: clang 19.1.5 (Fedora 19.1.5-1.fc41) Fedora 40 Kernel: Depends on container host Compiler: gcc 14.2.1 20240912 (Red Hat 14.2.1-3) Fedora 40 (Clang) Kernel: Depends on container host Compiler: clang 18.1.8 (Fedora 18.1.8-1.fc40) Fedora 41 Kernel: Depends on container host Compiler: gcc 14.2.1 20240912 (Red Hat 14.2.1-3) openSUSE Leap 15 Kernel: Depends on container host Compiler: gcc (SUSE Linux) 7.5.0 RHEL8 Kernel: Depends on container host Compiler: gcc 8.5.0 20210514 (Red Hat 8.5.0-22) Ubuntu 24.04 Kernel: Depends on container host Compiler: gcc (Ubuntu 13.3.0-6ubuntu2~24.04) 13.3.0 RHEL9 Kernel: Depends on container host Compiler: gcc 11.5.0 20240719 (Red Hat 11.5.0-2) Ubuntu 22.04 Kernel: Depends on container host Compiler: gcc (Ubuntu 11.4.0-1ubuntu1~22.04) 11.4.0 To view detailed results, visit: https://lab.dpdk.org/results/dashboard/patchsets/33146/ UNH-IOL DPDK Community Lab To manage your email subscriptions, visit: https://lab.dpdk.org/results/dashboard/preferences/subscriptions/