From mboxrd@z Thu Jan 1 00:00:00 1970 Return-Path: Received: from mails.dpdk.org (mails.dpdk.org [217.70.189.124]) by inbox.dpdk.org (Postfix) with ESMTP id 195F1466FF for ; Fri, 9 May 2025 12:41:03 +0200 (CEST) Received: from mails.dpdk.org (localhost [127.0.0.1]) by mails.dpdk.org (Postfix) with ESMTP id DF7AF4026C; Fri, 9 May 2025 12:41:02 +0200 (CEST) Received: from mail-qt1-f228.google.com (mail-qt1-f228.google.com [209.85.160.228]) by mails.dpdk.org (Postfix) with ESMTP id 7EF034026B for ; Fri, 9 May 2025 12:41:01 +0200 (CEST) Received: by mail-qt1-f228.google.com with SMTP id d75a77b69052e-47691d82bfbso22238491cf.0 for ; Fri, 09 May 2025 03:41:01 -0700 (PDT) DKIM-Signature: v=1; a=rsa-sha256; c=relaxed/relaxed; d=iol.unh.edu; s=unh-iol; t=1746787260; x=1747392060; darn=dpdk.org; h=references:in-reply-to:cc:to:from:subject:message-id:date:from:to :cc:subject:date:message-id:reply-to; bh=bbe+aaQPo90LMdavkv2cYN9zHsYOo1hxasnT5Mtwp5Q=; b=fOhs4uwPtbXgzz/3oOvdQFw+Rj9WPrP2SdQIXvuZ7yPNUeUNYyAoreUJTp0mMF3px4 POqYjurLbkwEAs9YxI6IZtNCirX0l7rYsThBQE+dmZYj755vzteApePrL5FKFrDGCr6T l/Ra3nWie1E833g398nUrXlsAaYdZGNk+Rw0o= X-Google-DKIM-Signature: v=1; a=rsa-sha256; c=relaxed/relaxed; d=1e100.net; s=20230601; t=1746787260; x=1747392060; h=references:in-reply-to:cc:to:from:subject:message-id:date :x-gm-message-state:from:to:cc:subject:date:message-id:reply-to; bh=bbe+aaQPo90LMdavkv2cYN9zHsYOo1hxasnT5Mtwp5Q=; b=EVOr6RMF228Y4ACFHBarmyevDRD3YCSv26wI80DrkPFE4wrLs0tpNPZ58jSurT7IDl RLRr53GABcOd8ABUdtouBVsFEDHooXoDSYmOVh4Xxe5iX3PaF4lv+0xmAeKxTYiZHUL1 i6FxZlX7YFz8liGd+j7KNe97PiFSORrgEnEqUt6zNpaiEr4DBIlNZC2bSEN2WgzCpY3u BMPg6klU1b/dtSXQUJFGpD+LZCW9wL5fnN8RHXCjvYksQZh6UMKMATjyowmsJjgE1r/d HY8V9/DPnqrY4eNYCHMGoTY78gqEbcM2gEJduPsnVR6KGW1e+OP4tyOc1DpuegVUEpYW Zstg== X-Gm-Message-State: AOJu0Yw8IgumzGt/TC1MmRnudymaeXgMxC4yANs4AQelDVGO1oIMnlyG /6BOhgpsPkm81nDFuL0llxgP1+on5HbsB4qo089APkNFjjvbbSzNe+SC9RdO+P9Hu/rSasj5XGv b7jB7sa5eCEUQirFQaUEhUGDauIXXHRt0wRGvdPU1YmVXiFEDv6m0yvV1 X-Gm-Gg: ASbGncvkj2CiXpT3wAQ13WGZ/KcfGnGj770U8Knnx8+URrsF3uSvH2nZOr1MTTaHcn9 b/J/E+9ewaVhNnGztENfhbip6GTODGwlTlDeptIOuh3wh1dWhkRO3Z07MZYPdjefE0s7DdT5tc6 mSc8nbDK0UNW85uRh/uHB3bfhRcYPHqz52dN2sHeWvR+TGgk0QwaLxNQw0bLhrCKI2v/g5r/uQg 2U9O4FFCnF7TenCagbnwl+ryJ9eA4koHUn2yJp01x80/NBRn+d/vbjdDQiZZpzkkDLhpKkY8HFr EDndJBy8GjRHr2PNVmh3PROpFlN6gGcOfM33 X-Google-Smtp-Source: AGHT+IHQqwQ8Fr9fzwXjHwZnfSyc/OTcyhzuhZENSgr592rpotKqtBe24v8ypQbJjDrqudGU4EDNAJUwcBVV X-Received: by 2002:a05:620a:1b88:b0:7c5:ad99:9e38 with SMTP id af79cd13be357-7cd01143dd6mr457290085a.43.1746787260623; Fri, 09 May 2025 03:41:00 -0700 (PDT) Received: from postal.iol.unh.edu (postal.iol.unh.edu. [2606:4100:3880:1234::84]) by smtp-relay.gmail.com with ESMTPS id af79cd13be357-7cd00f40228sm6123085a.8.2025.05.09.03.41.00 (version=TLS1_2 cipher=ECDHE-ECDSA-AES128-GCM-SHA256 bits=128/128); Fri, 09 May 2025 03:41:00 -0700 (PDT) X-Relaying-Domain: iol.unh.edu Date: Fri, 09 May 2025 03:41:00 -0700 (PDT) Message-ID: <681ddbbc.050a0220.1c462.3534SMTPIN_ADDED_MISSING@mx.google.com> Received: from [172.17.0.2] (unknown [172.18.0.76]) by postal.iol.unh.edu (Postfix) with ESMTP id 50B946052471; Fri, 9 May 2025 06:41:00 -0400 (EDT) Subject: |SUCCESS| pw153370-153382 [PATCH] [v2,13/13] app/graph: add IP6 look From: dpdklab@iol.unh.edu To: Test Report Cc: dpdk-test-reports@iol.unh.edu In-Reply-To: <20250509064448.724019-14-adwivedi@marvell.com> References: <20250509064448.724019-14-adwivedi@marvell.com> Content-Type: text/plain X-BeenThere: test-report@dpdk.org X-Mailman-Version: 2.1.29 Precedence: list List-Id: automatic DPDK test reports List-Unsubscribe: , List-Archive: List-Post: List-Help: List-Subscribe: , Errors-To: test-report-bounces@dpdk.org Test-Label: iol-compile-amd64-testing Test-Status: SUCCESS http://dpdk.org/patch/153382 _Testing PASS_ Submitter: Ankur Dwivedi Date: Friday, May 09 2025 06:44:48 DPDK git baseline: Repo:dpdk Branch: master CommitID:75f179ebe347b6098cf3af26d3d3b7168fe3fe24 153370-153382 --> testing pass Upstream job id: Generic-DPDK-Compile-Meson#386718 Test environment and result as below: +-----------------------------------+--------------------+-------------------+------------------+-------------------------+-------------------+----------------------+ | Environment | dpdk_meson_compile | dpdk_compile_spdk | dpdk_compile_ovs | dpdk_llvm_clang_compile | dpdk_msvc_compile | dpdk_mingw64_compile | +===================================+====================+===================+==================+=========================+===================+======================+ | CentOS Stream 9 | PASS | PASS | SKIPPED | SKIPPED | SKIPPED | SKIPPED | +-----------------------------------+--------------------+-------------------+------------------+-------------------------+-------------------+----------------------+ | CentOS Stream 10 | PASS | SKIPPED | SKIPPED | SKIPPED | SKIPPED | SKIPPED | +-----------------------------------+--------------------+-------------------+------------------+-------------------------+-------------------+----------------------+ | Fedora 40 (Clang) | PASS | PASS | SKIPPED | SKIPPED | SKIPPED | SKIPPED | +-----------------------------------+--------------------+-------------------+------------------+-------------------------+-------------------+----------------------+ | Fedora 41 | PASS | PASS | PASS | SKIPPED | SKIPPED | SKIPPED | +-----------------------------------+--------------------+-------------------+------------------+-------------------------+-------------------+----------------------+ | Fedora 41 (Clang) | PASS | PASS | PASS | SKIPPED | SKIPPED | SKIPPED | +-----------------------------------+--------------------+-------------------+------------------+-------------------------+-------------------+----------------------+ | Ubuntu 24.04 | PASS | PASS | PASS | SKIPPED | SKIPPED | SKIPPED | +-----------------------------------+--------------------+-------------------+------------------+-------------------------+-------------------+----------------------+ | Fedora 40 | PASS | PASS | SKIPPED | SKIPPED | SKIPPED | SKIPPED | +-----------------------------------+--------------------+-------------------+------------------+-------------------------+-------------------+----------------------+ | RHEL8 | PASS | SKIPPED | SKIPPED | SKIPPED | SKIPPED | SKIPPED | +-----------------------------------+--------------------+-------------------+------------------+-------------------------+-------------------+----------------------+ | openSUSE Leap 15 | PASS | SKIPPED | SKIPPED | SKIPPED | SKIPPED | SKIPPED | +-----------------------------------+--------------------+-------------------+------------------+-------------------------+-------------------+----------------------+ | Ubuntu 22.04 | PASS | PASS | SKIPPED | SKIPPED | SKIPPED | SKIPPED | +-----------------------------------+--------------------+-------------------+------------------+-------------------------+-------------------+----------------------+ | Ubuntu 20.04 | PASS | SKIPPED | SKIPPED | SKIPPED | SKIPPED | SKIPPED | +-----------------------------------+--------------------+-------------------+------------------+-------------------------+-------------------+----------------------+ | RHEL9 | PASS | SKIPPED | SKIPPED | SKIPPED | SKIPPED | SKIPPED | +-----------------------------------+--------------------+-------------------+------------------+-------------------------+-------------------+----------------------+ | Alpine | PASS | SKIPPED | SKIPPED | SKIPPED | SKIPPED | SKIPPED | +-----------------------------------+--------------------+-------------------+------------------+-------------------------+-------------------+----------------------+ | Ubuntu 24.04 32 Bit Cross Compile | PASS | SKIPPED | SKIPPED | SKIPPED | SKIPPED | SKIPPED | +-----------------------------------+--------------------+-------------------+------------------+-------------------------+-------------------+----------------------+ | FreeBSD 13.5 | PASS | SKIPPED | SKIPPED | SKIPPED | SKIPPED | SKIPPED | +-----------------------------------+--------------------+-------------------+------------------+-------------------------+-------------------+----------------------+ | FreeBSD 14.2 | PASS | SKIPPED | SKIPPED | SKIPPED | SKIPPED | SKIPPED | +-----------------------------------+--------------------+-------------------+------------------+-------------------------+-------------------+----------------------+ | Debian 12 | PASS | PASS | SKIPPED | SKIPPED | SKIPPED | SKIPPED | +-----------------------------------+--------------------+-------------------+------------------+-------------------------+-------------------+----------------------+ | Windows Server 2022 | SKIPPED | SKIPPED | SKIPPED | PASS | PASS | PASS | +-----------------------------------+--------------------+-------------------+------------------+-------------------------+-------------------+----------------------+ CentOS Stream 9 Kernel: Depends on container host Compiler: gcc 11.5.0 20240719 (Red Hat 11.5.0-2) CentOS Stream 10 Kernel: Depends on container host Compiler: gcc 14.2.1 20241104 (Red Hat 14.2.1-6) Fedora 40 (Clang) Kernel: Depends on container host Compiler: clang 18.1.8 (Fedora 18.1.8-1.fc40) Fedora 41 Kernel: Depends on container host Compiler: gcc 14.2.1 20240912 (Red Hat 14.2.1-3) Fedora 41 (Clang) Kernel: Depends on container host Compiler: clang 19.1.5 (Fedora 19.1.5-1.fc41) Ubuntu 24.04 Kernel: Depends on container host Compiler: gcc (Ubuntu 13.3.0-6ubuntu2~24.04) 13.3.0 Fedora 40 Kernel: Depends on container host Compiler: gcc 14.2.1 20240912 (Red Hat 14.2.1-3) RHEL8 Kernel: Depends on container host Compiler: gcc 8.5.0 20210514 (Red Hat 8.5.0-22) openSUSE Leap 15 Kernel: Depends on container host Compiler: gcc (SUSE Linux) 7.5.0 Ubuntu 22.04 Kernel: Depends on container host Compiler: gcc (Ubuntu 11.4.0-1ubuntu1~22.04) 11.4.0 Ubuntu 20.04 Kernel: Depends on container host Compiler: gcc (Ubuntu 9.4.0-1ubuntu1~20.04.2) 9.4.0 RHEL9 Kernel: Depends on container host Compiler: gcc 11.5.0 20240719 (Red Hat 11.5.0-2) Alpine Kernel: Depends on container host Compiler: gcc (Alpine 14.2.0) 14.2.0 Ubuntu 24.04 32 Bit Cross Compile Kernel: Depends on container host Compiler: gcc (Ubuntu 13.3.0-6ubuntu2~24.04) 13.3.0 FreeBSD 13.5 Kernel: 13.5-RELEASE Compiler: clang 19.1.7 FreeBSD 14.2 Kernel: 14.2-RELEASE Compiler: clang 18.1.6 Debian 12 Kernel: Depends on container host Compiler: gcc (Debian 12.2.0-14) 12.2.0 Windows Server 2022 Kernel: 10.0.20348.2031 Compiler: clang 15.0.7, gcc 14.1.0 (MinGW), and MSVC VS 19.39.33521 To view detailed results, visit: https://lab.dpdk.org/results/dashboard/patchsets/33146/ UNH-IOL DPDK Community Lab To manage your email subscriptions, visit: https://lab.dpdk.org/results/dashboard/preferences/subscriptions/